BEGIN:VCALENDAR
VERSION:2.0
PRODID:-//farnostkrumvir.com - ECPv6.15.16//NONSGML v1.0//EN
CALSCALE:GREGORIAN
METHOD:PUBLISH
X-WR-CALNAME:farnostkrumvir.com
X-ORIGINAL-URL:https://xn--farnostkrumv-3fb62m.com
X-WR-CALDESC:Akce na farnostkrumvir.com
REFRESH-INTERVAL;VALUE=DURATION:PT1H
X-Robots-Tag:noindex
X-PUBLISHED-TTL:PT1H
BEGIN:VTIMEZONE
TZID:UTC
BEGIN:STANDARD
TZOFFSETFROM:+0000
TZOFFSETTO:+0000
TZNAME:UTC
DTSTART:20250101T000000
END:STANDARD
END:VTIMEZONE
BEGIN:VEVENT
DTSTART;VALUE=DATE:20260213
DTEND;VALUE=DATE:20260214
DTSTAMP:20260420T041952
CREATED:20260302T090717Z
LAST-MODIFIED:20260302T092856Z
UID:1839-1770940800-1770940800@xn--farnostkrumv-3fb62m.com
SUMMARY:Věnceslav / sv. Kateřina Ricciová (pátek 5. týdne v mezidobí)
DESCRIPTION:1Kral 11\,29-32;12\,19\nZl 81\nMk 7\,31-37\nBarva: Zelená
URL:https://xn--farnostkrumv-3fb62m.com/udalosti/venceslav-sv-katerina-ricciova-patek-5-tydne-v-mezidobi/
END:VEVENT
BEGIN:VEVENT
DTSTART;VALUE=DATE:20260212
DTEND;VALUE=DATE:20260213
DTSTAMP:20260420T041952
CREATED:20260302T090717Z
LAST-MODIFIED:20260302T092856Z
UID:1838-1770854400-1770854400@xn--farnostkrumv-3fb62m.com
SUMMARY:Slavěna / sv. Benedikt Aniánský (čtvrtek 5. týdne v mezidobí)
DESCRIPTION:1Kral 11\,4-13\nZl 106\nMk 7\,24-30\nBarva: Zelená
URL:https://xn--farnostkrumv-3fb62m.com/udalosti/slavena-sv-benedikt-aniansky-ctvrtek-5-tydne-v-mezidobi/
END:VEVENT
BEGIN:VEVENT
DTSTART;VALUE=DATE:20260211
DTEND;VALUE=DATE:20260212
DTSTAMP:20260420T041952
CREATED:20260302T090716Z
LAST-MODIFIED:20260302T092856Z
UID:1837-1770768000-1770768000@xn--farnostkrumv-3fb62m.com
SUMMARY:Božena / Panna Maria Lourdská (středa 5. týdne v mezidobí)
DESCRIPTION:1Kral 10\,1-10\nZl 37\nMk 7\,14-23\nBarva: Zelená
URL:https://xn--farnostkrumv-3fb62m.com/udalosti/bozena-panna-maria-lourdska-streda-5-tydne-v-mezidobi/
END:VEVENT
BEGIN:VEVENT
DTSTART;VALUE=DATE:20260210
DTEND;VALUE=DATE:20260211
DTSTAMP:20260420T041952
CREATED:20260222T124947Z
LAST-MODIFIED:20260302T092856Z
UID:1397-1770681600-1770681600@xn--farnostkrumv-3fb62m.com
SUMMARY:Mojmír / sv. Scholastika (úterý 5. týdne v mezidobí)
DESCRIPTION:1Kral 8\,22-23.27-30\nZl 84\nMk 7\,1-13\nBarva: Bílá
URL:https://xn--farnostkrumv-3fb62m.com/udalosti/mojmir-sv-scholastika-utery-5-tydne-v-mezidobi/
END:VEVENT
BEGIN:VEVENT
DTSTART;VALUE=DATE:20260209
DTEND;VALUE=DATE:20260210
DTSTAMP:20260420T041952
CREATED:20260302T090716Z
LAST-MODIFIED:20260302T092655Z
UID:1835-1770595200-1770595200@xn--farnostkrumv-3fb62m.com
SUMMARY:Apolena / sv. Apollonie (pondělí 5. týdne v mezidobí)
DESCRIPTION:1Kral 8\,1-7.9-13\nZl 132\nMk 6\,53-56\nBarva: Zelená
URL:https://xn--farnostkrumv-3fb62m.com/udalosti/apolena-sv-apollonie-pondeli-5-tydne-v-mezidobi/
END:VEVENT
BEGIN:VEVENT
DTSTART;VALUE=DATE:20260208
DTEND;VALUE=DATE:20260209
DTSTAMP:20260420T041952
CREATED:20260302T090716Z
LAST-MODIFIED:20260302T092655Z
UID:1834-1770508800-1770508800@xn--farnostkrumv-3fb62m.com
SUMMARY:Milada / sv. Jeroným Emiliani - ct. Mlada (5. neděle v mezidobí)
DESCRIPTION:Iz 58\,7-10\nZl 112(111)\n1Kor 2\,1-5\nMt 5\,13-16\nBarva: Zelená \n 1. ČTENÍ Iz 58\,7-10\n Vyrazí tvé světlo jak zora.  \nČtení z knihy proroka Izaiáše.  \nToto praví Hospodin:\n    „Lámej svůj chléb hladovému\, popřej pohostinství bloudícím ubožákům; když vidíš nahého\, obleč ho\, neodmítej pomoc svému bližnímu. Tehdy vyrazí tvé světlo jak zora\, tvá jizva se brzy zacelí.\n    Před tebou půjde tvá spravedlnost a za tebou Boží sláva.\n    Tehdy budeš volat\, a Hospodin ti odpoví\, křičet o pomoc\, a on ti řekne: „Zde jsem!“ Přestaneš-li utlačovat\, ukazovat prstem\, křivě mluvit\, nasytíš-li svým chlebem hladového\, ukojíš-li lačného\, tehdy v temnotě vzejde tvé světlo a soumrak tvůj stane se poledním jasem.“ \n Žl 112 (111)\,4-5.6-7.8a+9 Odp.: 4a\n Odp.: Spravedlivý září v temnotách jako světlo.\nnebo: Aleluja.  \nSpravedlivý září v temnotách jako světlo řádným lidem\, je milosrdný\, dobrotivý a spravedlivý.\nBlaze muži\, který se slitovává a půjčuje\, stará se o své věci podle práva.\n Odp.\nNeboď navěky nezakolísá\,\nve věčné paměti bude spravedlivý. Nemusí se obávat zlé zprávy\,\njeho srdce je pevné\, důvěřuje v Hospodina.  Odp.\nJeho srdce je zmužilé\, nebojí se\, rozděluje\, dává chudým\,\njeho štědrost potrvá navždy\, jeho moc poroste v slávě.  Odp.  \n 2. ČTENÍ 1 Kor 2\,1-5\n Hlásal jsem vám svědectví ukřižovaného Krista.  \nČtení z prvního listu svatého apoštola Pavla Korinďanům.\n    Bratři\, když jsem k vám přišel hlásat svědectví o Bohu\, nepřišel jsem s nějakou zvláštní výřečností nebo moudrostí. Rozhodl jsem se totiž\, že u vás nechci znát nic jiného než Ježíše Krista\, a to ukřižovaného.\n    Vystupoval jsem u vás se skleslou náladou\, se strachem a obavami. A moje mluvení a kázání nezáleželo v přemlouvavých slovech moudrosti\, ale v projevování Ducha a moci.\n     To proto\, aby se vaše víra zakládala na moci Boží\, a ne na moudrosti lidské. \n EVANGELIUM Mt 5\,13-16\n Vy jste světlo světa.\nSlova svatého evangelia podle Matouše.\nJežíš řekl svým učedníkům:\n    „Vy jste sůl země; jestliže však sůl ztratí chuď\, čím bude osolena? K ničemu se už nehodí\, než aby se vyhodila ven a lidé po ní šlapali.\n    Vy jste světlo světa. Nemůže se skrýt město položené na hoře. A když se svítilna rozsvítí\, nestaví se pod nádobu\, ale na podstavec\, takže svítí všem v domě. Tak aď vaše světlo svítí lidem\, aby viděli vaše dobré skutky a velebili vašeho Otce v nebesích.“
URL:https://xn--farnostkrumv-3fb62m.com/udalosti/milada-sv-jeronym-emiliani-ct-mlada-5-nedele-v-mezidobi/
END:VEVENT
BEGIN:VEVENT
DTSTART;VALUE=DATE:20260207
DTEND;VALUE=DATE:20260208
DTSTAMP:20260420T041952
CREATED:20260222T124942Z
LAST-MODIFIED:20260302T092655Z
UID:1389-1770422400-1770422400@xn--farnostkrumv-3fb62m.com
SUMMARY:Veronika / sv. Richard (sobota 4. týdne v mezidobí)
DESCRIPTION:1Kral 3\,4-13\nZl 119\nMk 6\,30-34\nBarva: Zelená
URL:https://xn--farnostkrumv-3fb62m.com/udalosti/veronika-sv-richard-sobota-4-tydne-v-mezidobi/
END:VEVENT
BEGIN:VEVENT
DTSTART;VALUE=DATE:20260206
DTEND;VALUE=DATE:20260207
DTSTAMP:20260420T041952
CREATED:20260222T124942Z
LAST-MODIFIED:20260302T092655Z
UID:1388-1770336000-1770336000@xn--farnostkrumv-3fb62m.com
SUMMARY:Vanda / sv. Pavel Miki a druhové (pátek 4. týdne v mezidobí)
DESCRIPTION:Sir 47\,2-13(řec.2-11)\nZl 18\nMk 6\,14-29\nBarva: Červená
URL:https://xn--farnostkrumv-3fb62m.com/udalosti/vanda-sv-pavel-miki-a-druhove-patek-4-tydne-v-mezidobi/
END:VEVENT
BEGIN:VEVENT
DTSTART;VALUE=DATE:20260205
DTEND;VALUE=DATE:20260206
DTSTAMP:20260420T041952
CREATED:20260302T090716Z
LAST-MODIFIED:20260302T092655Z
UID:1831-1770249600-1770249600@xn--farnostkrumv-3fb62m.com
SUMMARY:Dobromila / sv. Agáta (Háta\, Dobruše) (čtvrtek 4. týdne v mezidobí)
DESCRIPTION:1Kral 2\,1-4.10-12\n1Kron 29\nMk 6\,7-13\nBarva: Červená
URL:https://xn--farnostkrumv-3fb62m.com/udalosti/dobromila-sv-agata-hata-dobruse-ctvrtek-4-tydne-v-mezidobi/
END:VEVENT
BEGIN:VEVENT
DTSTART;VALUE=DATE:20260204
DTEND;VALUE=DATE:20260205
DTSTAMP:20260420T041952
CREATED:20260302T090716Z
LAST-MODIFIED:20260302T092454Z
UID:1830-1770163200-1770163200@xn--farnostkrumv-3fb62m.com
SUMMARY:Jarmila / sv. Ondřej Corsini (středa 4. týdne v mezidobí)
DESCRIPTION:2Sam 24\,2.9-17\nZl 32\nMk 6\,1-6\nBarva: Zelená
URL:https://xn--farnostkrumv-3fb62m.com/udalosti/jarmila-sv-ondrej-corsini-streda-4-tydne-v-mezidobi/
END:VEVENT
BEGIN:VEVENT
DTSTART;VALUE=DATE:20260203
DTEND;VALUE=DATE:20260204
DTSTAMP:20260420T041952
CREATED:20260222T124931Z
LAST-MODIFIED:20260302T092454Z
UID:1385-1770076800-1770076800@xn--farnostkrumv-3fb62m.com
SUMMARY:Blažej / sv. Blažej\, sv. Ansgar (Oskar) (úterý 4. týdne v mezidobí)
DESCRIPTION:2Sam 18\,9-10.14b.24-25a.30-19\,4\nZl 86\nMk 5\,21-43\nBarva: Zelená
URL:https://xn--farnostkrumv-3fb62m.com/udalosti/blazej-sv-blazej-sv-ansgar-oskar-utery-4-tydne-v-mezidobi/
END:VEVENT
BEGIN:VEVENT
DTSTART;VALUE=DATE:20260202
DTEND;VALUE=DATE:20260203
DTSTAMP:20260420T041952
CREATED:20260302T090716Z
LAST-MODIFIED:20260302T092454Z
UID:1828-1769990400-1769990400@xn--farnostkrumv-3fb62m.com
SUMMARY:Nela / Svátek Uvedení Páně do chrámu
DESCRIPTION:Mal 3\,1-4\nZl 24(23)\nZid 2\,14-18\nLk 2\,22-40\nBarva: Bílá \n  PRVNÍ ČTENÍ Mal 3\, 1 – 4\n Přijde do svého chrámu Pán\, jehož hledáte.\nČtení z knihy proroka Malachiáše.\nToto praví Pán Bůh:\n    „Hle\, posílám svého anděla\, aby mi připravil cestu. Hned potom přijde do svého chrámu Pán\, jehož hledáte\, a anděl smlouvy\, po němž toužíte.\n    Hle\, přijde – praví Hospodin zástupů. Kdo však snese den jeho příchodu\, kdo obstojí\, až se objeví? Vždyď je jako oheň\, kterým se taví\, jako louh\, kterým se bílí. Usadí se\, aby tavil a tříbil stříbro\, očistí syny Leviho a vytříbí je jako zla-to a stříbro a potom zase budou obětovat Hospodinu ve spra-vedlnosti. Zase bude Hospodinu příjemná oběď Judy a Jeru-zaléma jako za dávných dnů\, jako za minulých let.“ \n  Žl 24 (23)\,7.8.9.10 Odp.: 10b\n Odp.: Hospodin zástupů\, on je král slávy!\nZdvihněte\, brány\, své klenby\, zvyšte se\, prastaré vchody\, aď vejde král slávy!\n Odp.\nKdo je ten král slávy? Silný a mocný Hospodin\, Hospodin udatný v boji.\n Odp.\nZdvihněte\, brány\, své klenby\, zvyšte se\, prastaré vchody\, aď vejde král slávy!\n Odp.\nKdo je ten král slávy? Hospodin zástupů\, on je král slávy.\n Odp.  \n DRUHÉ ČTENÍ Žid 2\, 14 – 18\n Musel se ve všem připodobnit bratřím.   \nČtení z listu Židům.\n    Protože sourozenci mají krev a tělo společné\, i Ježíš při-jal krev a tělo\, aby svou smrtí zbavil moci toho\, který má vládu nad smrtí\, totiž ďábla\, a vysvobodil všechny ty\, kteří byli po celý život drženi v otroctví strachem před smrtí. Je přece jasné\, že se neujal andělů\, ale Abrahámových potom-ků.\n    Proto se ve všem musel připodobnit svým bratřím\, aby se stal v jejich záležitostech u Boha veleknězem milosrdným a věrným\, a tak usmiřoval hříchy lidu. A protože sám prožíval utrpení a zkoušky\, dovede pomáhat těm\, na které zkoušky přicházejí.  \n   EVANGELIUM Lk 2\, 22 – 40\n Moje oči uviděly tvou spásu.  \nSlova svatého evangelia podle Lukáše.\n    Když nadešel den očišďování podle Mojžíšova Zákona\, přinesli Ježíše do Jeruzaléma\, aby ho představili Pánu\, jak je psáno v Zákoně Páně: „Všechno prvorozené mužského rodu aď je zasvěceno Pánu!“ Přitom chtěli také podat oběď\, jak je to nařízeno v Zákoně Páně: pár hrdliček nebo dvě ho-loubata. \n    Tehdy žil v Jeruzalémě jeden člověk\, jmenoval se Simeon: byl to člověk spravedlivý a bohabojný\, očekával potěšení Izraele a byl v něm Duch svatý. Od Ducha svatého mu bylo zjeveno\, že neuzří smrt\, dokud neuvidí Pánova Mesiáše. \n    Z vnuknutí Ducha přišel do chrámu\, právě když rodiče přinesli dítě Ježíše\, aby s ním vykonali\, co bylo obvyklé po-dle Zákona. Vzal si ho do náručí a takto velebil Boha: „Nyní můžeš\, Pane\, propustit svého služebníka podle svého slova v pokoji\,neboď moje oči uviděly tvou spásu\, kterou jsi připravil pro všechny národy: světlo k osvícení pohanům a k slávě tvého izraelského lidu.“\n    Jeho otec i matka byli plni údivu nad slovy\, která o něm slyšeli.\nSimeon jim požehnal a jeho matce Marii prohlásil: „On je ustanoven k pádu a k povstání mnohých v Izraeli a jako zna-mení\, kterému se bude odporovat – i tvou vlastní duší pro-nikne meč – aby vyšlo najevo smýšlení mnoha srdcí.“\n    Také tam byla prorokyně Anna\, dcera Fanuelova z Aserova kmene. Byla značně pokročilého věku: mladá se vdala a sedm roků žila v manželství\, potom sama jako vdova -bylo jí už čtyřiaosmdesát let. Nevycházela z chrámu a slou-žila Bohu posty a modlitbami ve dne v noci. Přišla tam prá-vě v tu chvíli\, velebila Boha a mluvila o tom dítěti všem\, kdo očekávali vykoupení Jeruzaléma.\n    Když vykonali všechno podle Zákona Páně\,. vrátili se do Galileje do svého města Nazareta. Dítě rostlo a sílilo\, bylo plné moudrosti a milost Boží byla s ním.
URL:https://xn--farnostkrumv-3fb62m.com/udalosti/nela-svatek-uvedeni-pane-do-chramu/
END:VEVENT
BEGIN:VEVENT
DTSTART;VALUE=DATE:20260201
DTEND;VALUE=DATE:20260202
DTSTAMP:20260420T041952
CREATED:20260302T090716Z
LAST-MODIFIED:20260302T092454Z
UID:1827-1769904000-1769904000@xn--farnostkrumv-3fb62m.com
SUMMARY:Hynek / sv. Pionius (4. neděle v mezidobí)
DESCRIPTION:Sof 2\,3;3\,12-13\nZl 146(145)\n1Kor 1\,26-31\nMt 5\,1-12a\nBarva: Zelená \n 1. ČTENÍ Sof 2\, 3; 3\, 12-13\n Zanechám uprostřed tebe lid pokorný a chudý.  \nČtení z knihy proroka Sofoniáše.\nHledejte Hospodina\, všichni pokorní v zemi\, kteří jednáte podle jeho výroku.\nHledejte spravedlnost\, hledejte pokoru\,\nsnad se skryjete v den Hospodinova hněvu.\nZanechám uprostřed tebe lid pokorný\, chudý\, ty\, kteří hledají útočiště v Hospodinově jménu. Kdo zbudou z Izraele\,\nuž nebudou konat nepravost\, nebudou lhát\,\nv jejich ústech se už nenajde podvodný jazyk. Když se budou pást a odpočívat\,\nnikdo je nebude děsit. \n Žl 146 (145)\, 6c-7. 8-9a. 9bc-10 Odp.: Mt 5\, 3\n Odp.: Blahoslavení chudí v duchu\,\nneboď jejich je nebeské království.\nnebo: Aleluja.\nHospodin zachovává věrnost navěky\, zjednává právo utlačeným\,\ndává chléb lačným.\nHospodin vysvobozuje vězně.  Odp.\nHospodin otvírá oči slepým\, Hospodin napřimuje sklíčené\, Hospodin miluje spravedlivé\, Hospodin chrání přistěhovalce.  Odp.\nHospodin podporuje sirotka a vdovu\, ale mate cestu bezbožníků. Hospodin bude vládnout na věky\, tvůj Bůh\, Sióne\, po všechna pokolení.  Odp.  \n 2. ČTENI 1 Kor 1\, 26-31\n Bůh si vyvolil ty\, kteří jsou ve světě bezmocní.\nČtení z prvního listu svatého apoštola Pavla Korinďanům.\n    Jen se podívejte\, bratři\, komu se u vás dostalo povolání! Není tu mnoho moudrých podle lidských měřítek\, ani mnoho mocných\, ani mnoho urozených.\n    A přece: ty\, které svět pokládá za pošetilé\, vyvolil si Bůh\, aby zahanbil moudré\, a ty\, kteří jsou ve světě bezmocní\, vyvolil si Bůh\, aby zahanbil mocné\, a ty\, které svět má za neurozené a méněcenné\, dokonce i ty\, kteří nejsou vůbec nic\, vyvolil si Bůh\, aby zlomil moc těch\, kteří jsou „něco“\, aby se žádný smrtelník nemohl před Bohem vynášet.\n    A od něho pochází to\, že jste spojeni s Kristem Ježíšem. Jeho nám Bůh poslal jako dárce; moudrosti\, spravedlnosti\, posvěcení a vykoupení. Tak se splnilo\, co je v Písmě: „Kdo se chlubí\, aď se chlubí v Pánu.“ \n EVANGELIUM Mt 5\, 1-12a\n Blahoslavení chudí v duchu.\nSlova svatého evangelia podle Matouše.\nKdyž Ježíš uviděl zástupy\, vystoupil na horu\, a když se posadil\, přistoupili k němu jeho učedníci. Otevřel ústa a učil je takto:\n    „Blahoslavení chudí v duchu\, neboď jejich je nebeské království.\n    Blahoslavení plačící\, neboď oni budou potěšeni.\n    Blahoslavení tiší\,  neboď oni dostanou zemi za dědictví.\n    Blahoslavení\, kdo lační a žízní po spravedlnosti\, neboď oni budou nasyceni.\n    Blahoslavení milosrdní\, neboď oni dojdou milosrdenství.\n    Blahoslavení čistého srdce\, neboď oni budou vidět Boha.\n    Blahoslavení tvůrci pokoje\, neboď oni budou nazváni Božími syny.\n    Blahoslavení\, kdo jsou pronásledováni pro spravedlnost\, neboď jejich je nebeské království.\n    Blahoslavení jste\, když vás budou kvůli mně tupit\, pronásledovat a vylhaně vám připisovat každou špatnost; radujte se a jásejte\, neboď máte v nebi velkou odměnu.“
URL:https://xn--farnostkrumv-3fb62m.com/udalosti/hynek-sv-pionius-4-nedele-v-mezidobi/
END:VEVENT
BEGIN:VEVENT
DTSTART;VALUE=DATE:20260131
DTEND;VALUE=DATE:20260201
DTSTAMP:20260420T041952
CREATED:20260222T124931Z
LAST-MODIFIED:20260302T092454Z
UID:1382-1769817600-1769817600@xn--farnostkrumv-3fb62m.com
SUMMARY:Marika / sv. Jan Bosko (sobota 3. týdne v mezidobí)
DESCRIPTION:2Sam 12\,1-7a.10-17\nZl 51\nMk 4\,35-41\nBarva: Bílá
URL:https://xn--farnostkrumv-3fb62m.com/udalosti/marika-sv-jan-bosko-sobota-3-tydne-v-mezidobi/
END:VEVENT
BEGIN:VEVENT
DTSTART;VALUE=DATE:20260130
DTEND;VALUE=DATE:20260131
DTSTAMP:20260420T041952
CREATED:20260222T124916Z
LAST-MODIFIED:20260302T092253Z
UID:1381-1769731200-1769731200@xn--farnostkrumv-3fb62m.com
SUMMARY:Robin / sv. Martina (pátek 3. týdne v mezidobí)
DESCRIPTION:2Sam 11\,1-4a.5-10a.13-17\nZl 51\nMk 4\,26-34\nBarva: Zelená
URL:https://xn--farnostkrumv-3fb62m.com/udalosti/robin-sv-martina-patek-3-tydne-v-mezidobi/
END:VEVENT
BEGIN:VEVENT
DTSTART;VALUE=DATE:20260129
DTEND;VALUE=DATE:20260130
DTSTAMP:20260420T041952
CREATED:20260302T090716Z
LAST-MODIFIED:20260302T092253Z
UID:1824-1769644800-1769644800@xn--farnostkrumv-3fb62m.com
SUMMARY:Zdislava / sv. Sulpicius (čtvrtek 3. týdne v mezidobí)
DESCRIPTION:2Sam 7\,18-19.24-29\nZl 132\nMk 4\,21-25\nBarva: Zelená
URL:https://xn--farnostkrumv-3fb62m.com/udalosti/zdislava-sv-sulpicius-ctvrtek-3-tydne-v-mezidobi/
END:VEVENT
BEGIN:VEVENT
DTSTART;VALUE=DATE:20260128
DTEND;VALUE=DATE:20260129
DTSTAMP:20260420T041952
CREATED:20260302T090716Z
LAST-MODIFIED:20260302T092253Z
UID:1823-1769558400-1769558400@xn--farnostkrumv-3fb62m.com
SUMMARY:Otýlie / sv. Tomáš Akvinský (středa 3. týdne v mezidobí)
DESCRIPTION:2Sam 7\,4-17\nZl 89\nMk 4\,1-20\nBarva: Bílá
URL:https://xn--farnostkrumv-3fb62m.com/udalosti/otylie-sv-tomas-akvinsky-streda-3-tydne-v-mezidobi/
END:VEVENT
BEGIN:VEVENT
DTSTART;VALUE=DATE:20260127
DTEND;VALUE=DATE:20260128
DTSTAMP:20260420T041952
CREATED:20260302T090716Z
LAST-MODIFIED:20260302T092253Z
UID:1822-1769472000-1769472000@xn--farnostkrumv-3fb62m.com
SUMMARY:Ingrid / sv. Anděla Mericiová (úterý 3. týdne v mezidobí)
DESCRIPTION:2Sam 6\,12b-15.17-19\nZl 24\nMk 3\,31-35\nBarva: Zelená
URL:https://xn--farnostkrumv-3fb62m.com/udalosti/ingrid-sv-andela-mericiova-utery-3-tydne-v-mezidobi/
END:VEVENT
BEGIN:VEVENT
DTSTART;VALUE=DATE:20260126
DTEND;VALUE=DATE:20260127
DTSTAMP:20260420T041952
CREATED:20260302T090716Z
LAST-MODIFIED:20260302T092253Z
UID:1821-1769385600-1769385600@xn--farnostkrumv-3fb62m.com
SUMMARY:Zora / sv. Timotej (Bohuslav) a Titus (pondělí 3. týdne v mezidobí)
DESCRIPTION:2Sam 5\,1-7.10\nZl 89\nMk 3\,22-30\nBarva: Bílá
URL:https://xn--farnostkrumv-3fb62m.com/udalosti/zora-sv-timotej-bohuslav-a-titus-pondeli-3-tydne-v-mezidobi/
END:VEVENT
BEGIN:VEVENT
DTSTART;VALUE=DATE:20260125
DTEND;VALUE=DATE:20260126
DTSTAMP:20260420T041952
CREATED:20260302T090716Z
LAST-MODIFIED:20260302T092052Z
UID:1820-1769299200-1769299200@xn--farnostkrumv-3fb62m.com
SUMMARY:Miloš / Svátek Obrácení svatého Pavla (3. neděle v mezidobí)
DESCRIPTION:Iz 8\,23b-9\,3\nZl 27(26)\n1Kor 1\,10-13.17\nMt 4\,12-23\nBarva: Zelená \n 1. ČTENÍ Iz 8\, 23b-9\, 3\n V Galileji pohanů vidí lid veliké světlo.  \nČtení z knihy proroka Izaiáše.\n    V první době ponížil Hospodin zemi Zabulon a zemi Neftali\, v poslední době však oslaví Mořskou cestu\, kraj za Jordánem\, Galileu pohanů.\n    Lid\, který chodil ve tmě\, vidí veliké světlo\, obyvatelům temné země vzchází světlo.\nDáváš mnoho jásotu\, zvětšuješ radost; veselí se před tebou\, jako se jásá o žních\, jako plesají ti\, kdo se dělí o kořist.\n    Neboď jařmo\, které ho tížilo\, hůl na jeho šíji a bodec jeho otrokářejsi zlomil jako za midjanských dnů.  \n Žl 27 (26)\, 1. 4. 13-14 Odp.: 1a\n Odp.: Hospodin je mé světlo a má spása.\nHospodin je mé světlo a má spása\, koho bych se bál? Hospodin je záštita mého života\, před kým bych se třásl?  Odp.\nJedno od Hospodina žádám a po tom toužím: abych směl přebývat v Hospodinově domě po všechny dny svého života\,\nabych požíval Hospodinovy něhy a patřil na jeho chrám.\n Odp.\nVěřím\, že uvidím blaho od Hospodina v zemi živých!\nDůvěřuj v Hospodina\, bud“ silný\,\naď se vzmuží tvé srdce\, doufej v Hospodina!  Odp.  \n 2. ČTENÍ 1 Kor 1\, 10-13. 17\n Buďte všichni zajedno a aď nejsou mezi vámi roztržky.\nČtení z prvního listu svatého apoštola Pavla Korinďanům.\n    Napomínám vás\, bratři\, jménem našeho Pána Ježíše Krista:\nBuďte všichni zajedno a aď nejsou mezi vámi roztržky. Stejně usuzujte a stejně smýšlejte.\n    Lidé z Chloina domu mi totiž o vás oznámili\, moji bratři\, že se mezi sebou hádáte. Mluvím o tom\, že každý z vás říká (něco jiného) : „Já držím s Pavlem!“\, „já zase s Apollem!“\, „a já s Petrem!“\, „já s Kristem!“\n    Je Kristus rozdělen? Copak byl za vás ukřižován Pavel? Nebo jste byli ve jménu Pavlově pokřtěni?\n    Neposlal mě totiž Kristus křtít\, ale kázat radostnou zvěst\, a to ne nějakou slovní moudrostí\, aby Kristův kříž nebyl zbaven působivosti. \n EVANGELIUM Mt 4\,12-23\n Usadil se v Kafarnau\, aby se naplnilo\, co bylo řečeno ústy proroka Izaiáše.\nSlova svatého evangelia podle Matouše.\n    Když Ježíš uslyšel\, že byl Jan (Křtitel) uvězněn\, odebral se do Galileje. Opustil Nazaret\, šel a usadil se v Kafarnau při moři v území Zabulonově a Neftalimově\, aby se naplnilo\, co bylo řečeno ústy proroka Izaiáše:\n    „Země Zabulonova a země Neftalimova\, u moře\, za Jordánem\, Galilea pohanská\, lid\, který žil v temnotě\, uviděl veliké světlo; světlo vzešlo těm\, kdo sídlili v krajině stínu smrti.“\n    Od té doby začal Ježíš hlásat: „Obraďte se\, neboď se přiblížilo nebeské království.“\n    Když se ubíral podél Galilejského moře\, uviděl dva bratry\, Šimona\, zvaného Petr\, a jeho bratra Ondřeje\, jak vrhají síď do moře; byli totiž rybáři. Řekl jim: „Pojďte za mnou a udělám z vás rybáře lidí.“ Oni hned nechali sítě a následovali ho.\n    A jak šel odtamtud dál\, uviděl jiné dva bratry\, Zebedeova syna Jakuba a jeho bratra Jana\, jak na lodi se svým otcem Zebedeem spravují sítě. A povolal je. Oni hned nechali loď i otce a následovali ho.\n    Ježíš pak chodil po celé Galileji\, učil v jejich synagógách\, hlásal evangelium o (Božím) království a uzdravoval mezi lidem každou nemoc a každou chorobu.
URL:https://xn--farnostkrumv-3fb62m.com/udalosti/milos-svatek-obraceni-svateho-pavla-3-nedele-v-mezidobi/
END:VEVENT
BEGIN:VEVENT
DTSTART;VALUE=DATE:20260124
DTEND;VALUE=DATE:20260125
DTSTAMP:20260420T041952
CREATED:20260222T124901Z
LAST-MODIFIED:20260302T092052Z
UID:1375-1769212800-1769212800@xn--farnostkrumv-3fb62m.com
SUMMARY:Milena / sv. František Saleský (sobota 2. týdne v mezidobí)
DESCRIPTION:2Sam 1\,1-4.11-12.19.23-27\nZl 80\nMk 3\,20-21\nBarva: Bílá
URL:https://xn--farnostkrumv-3fb62m.com/udalosti/milena-sv-frantisek-salesky-sobota-2-tydne-v-mezidobi/
END:VEVENT
BEGIN:VEVENT
DTSTART;VALUE=DATE:20260123
DTEND;VALUE=DATE:20260124
DTSTAMP:20260420T041952
CREATED:20260302T090716Z
LAST-MODIFIED:20260302T092052Z
UID:1818-1769126400-1769126400@xn--farnostkrumv-3fb62m.com
SUMMARY:Zdeněk / sv. Ildefons (pátek 2. týdne v mezidobí)
DESCRIPTION:1Sam 24\,3-21\nZl 57\nMk 3\,13-19\nBarva: Zelená
URL:https://xn--farnostkrumv-3fb62m.com/udalosti/zdenek-sv-ildefons-patek-2-tydne-v-mezidobi/
END:VEVENT
BEGIN:VEVENT
DTSTART;VALUE=DATE:20260122
DTEND;VALUE=DATE:20260123
DTSTAMP:20260420T041952
CREATED:20260302T090716Z
LAST-MODIFIED:20260302T092052Z
UID:1817-1769040000-1769040000@xn--farnostkrumv-3fb62m.com
SUMMARY:Slavomír / sv. Vincenc (čtvrtek 2. týdne v mezidobí)
DESCRIPTION:1Sam 18\,6-9;19\,1-7\nZl 56\nMk 3\,7-12\nBarva: Zelená
URL:https://xn--farnostkrumv-3fb62m.com/udalosti/slavomir-sv-vincenc-ctvrtek-2-tydne-v-mezidobi/
END:VEVENT
BEGIN:VEVENT
DTSTART;VALUE=DATE:20260121
DTEND;VALUE=DATE:20260122
DTSTAMP:20260420T041952
CREATED:20260302T090716Z
LAST-MODIFIED:20260302T092052Z
UID:1816-1768953600-1768953600@xn--farnostkrumv-3fb62m.com
SUMMARY:Běla / sv. Anežka Římská (středa 2. týdne v mezidobí)
DESCRIPTION:1Sam 17\,32-33.37.40-51\nZl 144\nMk 3\,1-6\nBarva: Červená
URL:https://xn--farnostkrumv-3fb62m.com/udalosti/bela-sv-anezka-rimska-streda-2-tydne-v-mezidobi/
END:VEVENT
BEGIN:VEVENT
DTSTART;VALUE=DATE:20260120
DTEND;VALUE=DATE:20260121
DTSTAMP:20260420T041952
CREATED:20260222T124845Z
LAST-MODIFIED:20260302T091851Z
UID:1371-1768867200-1768867200@xn--farnostkrumv-3fb62m.com
SUMMARY:Ilona / sv. Fabián a Šebestián (úterý 2. týdne v mezidobí)
DESCRIPTION:1Sam 16\,1-13\nZl 89\nMk 2\,23-28\nBarva: Zelená
URL:https://xn--farnostkrumv-3fb62m.com/udalosti/ilona-sv-fabian-a-sebestian-utery-2-tydne-v-mezidobi/
END:VEVENT
BEGIN:VEVENT
DTSTART;VALUE=DATE:20260119
DTEND;VALUE=DATE:20260120
DTSTAMP:20260420T041952
CREATED:20260302T090716Z
LAST-MODIFIED:20260302T091851Z
UID:1814-1768780800-1768780800@xn--farnostkrumv-3fb62m.com
SUMMARY:Doubravka / sv. Márius a Marta a jejich synové (pondělí 2. týdne v mezidobí)
DESCRIPTION:1Sam 15\,16-23\nZl 50\nMk 2\,18-22\nBarva: Zelená
URL:https://xn--farnostkrumv-3fb62m.com/udalosti/doubravka-sv-marius-a-marta-a-jejich-synove-pondeli-2-tydne-v-mezidobi/
END:VEVENT
BEGIN:VEVENT
DTSTART;VALUE=DATE:20260118
DTEND;VALUE=DATE:20260119
DTSTAMP:20260420T041952
CREATED:20260302T090716Z
LAST-MODIFIED:20260302T091851Z
UID:1813-1768694400-1768694400@xn--farnostkrumv-3fb62m.com
SUMMARY:Vladislav / Panna Maria\, Matka jednoty křesťanů (2. neděle v mezidobí)
DESCRIPTION:Iz 49\,3.5-6\nZl 40(39)\n1Kor 1\,1-3\nJan 1\,29-34\nBarva: Zelená \n 1. ČTENÍ Iz 49\, 3. 5-6\n Dám tě národům jako světlo\, aby se spása má rozšířila až do končin země.\nČtení z knihy proroka Izaiáše.\n    Hospodin mi řekl: „Jsi mým služebníkem\, Izraelem\, proslavím se tebou.“\nAvšak nyní praví Hospodin\,  který si ze mě utvořil služebníka již v matčině lůně\, abych zas k němu přivedl Jakuba\,\nabych mu shromáždil Izraele. Tak jsem ve cti u Hospodina\,\n(protože) Bůh můj je mou silou.\n    Řekl mi (tedy) : „Nestačí\, že jsi mým služebníkem\, abys obnovil Jakubovy kmeny\na zbytky Izraele přivedl nazpět. Proto tě dám národům jako světlo\,\naby se spása má rozšířila až do končin země.“ \n Žl 40 (39)\,  2+4ab. 7-8a. 8b-9. 10 Odp.: srv. 8a+9a\n Odp.: Hle\, přicházím\, Pane\, splnit tvou vůli.\nPevně jsem doufal v Hospodina\,\non se ke mně sklonil a vyslyšel mé volání. Novou píseň vložil mi do úst\,\nchvalozpěv našemu Bohu.  Odp.\nV obětních darech si nelibuješ\, zato jsi mi otevřel uši.\nCelopaly a smírné oběti nežádáš\, tehdy jsem řekl: „Hle\, přicházím.  Odp.\nVe svitku knihy je o mně psáno: Rád splním tvou vůli\, můj Bože\, tvůj zákon je v mém nitru.“\n Odp.\nSpravedlnost jsem zvěstoval ve velkém shromáždění\, svým rtům jsem nebránil\, ty to víš\, Hospodine!\n Odp.  \n 2. ČTENÍ 1 Kor 1\, 1-3\n Milost vám a pokoj od Boha\, našeho Otce\, a od Pána Ježíše.  \nZačátek prvního listu svatého apoštola Pavla Korinďanům.\n    Pavel\, z Boží vůle povolaný za apoštola Ježíše Krista; a bratr Sosthenes členům církevní obce Boží v Korintě\, kteří byli posvěceni v Kristu Ježíši a povoláni do stavu svatých\, a také všem\, kteří kdekoli vzývají jméno Pána Ježíše Krista\, Pána svého i našeho. Milost vám a pokoj od Boha\, našeho Otce\, a od Pána Ježíše Krista. \n EVANGELIUM Jan 1\, 29-34\n Hle\, beránek Boží\, který snímá hříchy světa.  \nSlova svatého evangelia podle Jana.\n    Na druhý den Jan viděl Ježíše\, jak jde k němu\, a řekl: „Hle\, beránek Boží\, který snímá hříchy světa! To je ten\, o kterém jsem řekl: „Po mně přijde ten\, který má větší důstojnost\, neboď byl dříve než já.“ Ani já jsem ho neznal\, ale proto jsem přišel křtít vodou\, aby byl zjeven izraelskému národu.“\n    A Jan vydal svědectví: „Viděl jsem\, jak Duch sestoupil jako holubice z nebe a zůstal na něm. Ani já jsem ho neznal\, ale ten\, který mě poslal křtít vodou\, mi řekl: „Na koho uvidíš sestupovat Ducha a zůstávat na něm\, to je ten\, který křtí Duchem svatým.“\n    A já jsem to viděl a dosvědčuji: To je Syn Boží.“
URL:https://xn--farnostkrumv-3fb62m.com/udalosti/vladislav-panna-maria-matka-jednoty-krestanu-2-nedele-v-mezidobi/
END:VEVENT
BEGIN:VEVENT
DTSTART;VALUE=DATE:20260117
DTEND;VALUE=DATE:20260118
DTSTAMP:20260420T041952
CREATED:20260222T124845Z
LAST-MODIFIED:20260302T091851Z
UID:1368-1768608000-1768608000@xn--farnostkrumv-3fb62m.com
SUMMARY:Drahoslav / sv. Antonín Veliký (sobota 1. týdne v mezidobí)
DESCRIPTION:1Sam 9\,1-4.17-19;10\,1a\nZl 21\nMk 2\,13-17\nBarva: Bílá
URL:https://xn--farnostkrumv-3fb62m.com/udalosti/drahoslav-sv-antonin-veliky-sobota-1-tydne-v-mezidobi/
END:VEVENT
BEGIN:VEVENT
DTSTART;VALUE=DATE:20260116
DTEND;VALUE=DATE:20260117
DTSTAMP:20260420T041952
CREATED:20260222T124845Z
LAST-MODIFIED:20260302T091851Z
UID:1367-1768521600-1768521600@xn--farnostkrumv-3fb62m.com
SUMMARY:Ctirad / sv. Marcel I. (pátek 1. týdne v mezidobí)
DESCRIPTION:1Sam 8\,4-7.10-22a\nZl 89\nMk 2\,1-12\nBarva: Zelená
URL:https://xn--farnostkrumv-3fb62m.com/udalosti/ctirad-sv-marcel-i-patek-1-tydne-v-mezidobi/
END:VEVENT
BEGIN:VEVENT
DTSTART;VALUE=DATE:20260115
DTEND;VALUE=DATE:20260116
DTSTAMP:20260420T041952
CREATED:20260302T090716Z
LAST-MODIFIED:20260302T091836Z
UID:1810-1768435200-1768435200@xn--farnostkrumv-3fb62m.com
SUMMARY:Alice / sv. Pavel Poustevník (čtvrtek 1. týdne v mezidobí)
DESCRIPTION:1Sam 4\,1-11\nZl 44\nMk 1\,40-45\nBarva: Zelená
URL:https://xn--farnostkrumv-3fb62m.com/udalosti/alice-sv-pavel-poustevnik-ctvrtek-1-tydne-v-mezidobi/
END:VEVENT
END:VCALENDAR