BEGIN:VCALENDAR
VERSION:2.0
PRODID:-//farnostkrumvir.com - ECPv6.15.16//NONSGML v1.0//EN
CALSCALE:GREGORIAN
METHOD:PUBLISH
X-WR-CALNAME:farnostkrumvir.com
X-ORIGINAL-URL:https://xn--farnostkrumv-3fb62m.com
X-WR-CALDESC:Akce na farnostkrumvir.com
REFRESH-INTERVAL;VALUE=DURATION:PT1H
X-Robots-Tag:noindex
X-PUBLISHED-TTL:PT1H
BEGIN:VTIMEZONE
TZID:UTC
BEGIN:STANDARD
TZOFFSETFROM:+0000
TZOFFSETTO:+0000
TZNAME:UTC
DTSTART:20250101T000000
END:STANDARD
END:VTIMEZONE
BEGIN:VEVENT
DTSTART;VALUE=DATE:20260120
DTEND;VALUE=DATE:20260121
DTSTAMP:20260420T023248
CREATED:20260222T124845Z
LAST-MODIFIED:20260302T091851Z
UID:1371-1768867200-1768867200@xn--farnostkrumv-3fb62m.com
SUMMARY:Ilona / sv. Fabián a Šebestián (úterý 2. týdne v mezidobí)
DESCRIPTION:1Sam 16\,1-13\nZl 89\nMk 2\,23-28\nBarva: Zelená
URL:https://xn--farnostkrumv-3fb62m.com/udalosti/ilona-sv-fabian-a-sebestian-utery-2-tydne-v-mezidobi/
END:VEVENT
BEGIN:VEVENT
DTSTART;VALUE=DATE:20260119
DTEND;VALUE=DATE:20260120
DTSTAMP:20260420T023248
CREATED:20260302T090716Z
LAST-MODIFIED:20260302T091851Z
UID:1814-1768780800-1768780800@xn--farnostkrumv-3fb62m.com
SUMMARY:Doubravka / sv. Márius a Marta a jejich synové (pondělí 2. týdne v mezidobí)
DESCRIPTION:1Sam 15\,16-23\nZl 50\nMk 2\,18-22\nBarva: Zelená
URL:https://xn--farnostkrumv-3fb62m.com/udalosti/doubravka-sv-marius-a-marta-a-jejich-synove-pondeli-2-tydne-v-mezidobi/
END:VEVENT
BEGIN:VEVENT
DTSTART;VALUE=DATE:20260118
DTEND;VALUE=DATE:20260119
DTSTAMP:20260420T023248
CREATED:20260302T090716Z
LAST-MODIFIED:20260302T091851Z
UID:1813-1768694400-1768694400@xn--farnostkrumv-3fb62m.com
SUMMARY:Vladislav / Panna Maria\, Matka jednoty křesťanů (2. neděle v mezidobí)
DESCRIPTION:Iz 49\,3.5-6\nZl 40(39)\n1Kor 1\,1-3\nJan 1\,29-34\nBarva: Zelená \n 1. ČTENÍ Iz 49\, 3. 5-6\n Dám tě národům jako světlo\, aby se spása má rozšířila až do končin země.\nČtení z knihy proroka Izaiáše.\n    Hospodin mi řekl: „Jsi mým služebníkem\, Izraelem\, proslavím se tebou.“\nAvšak nyní praví Hospodin\,  který si ze mě utvořil služebníka již v matčině lůně\, abych zas k němu přivedl Jakuba\,\nabych mu shromáždil Izraele. Tak jsem ve cti u Hospodina\,\n(protože) Bůh můj je mou silou.\n    Řekl mi (tedy) : „Nestačí\, že jsi mým služebníkem\, abys obnovil Jakubovy kmeny\na zbytky Izraele přivedl nazpět. Proto tě dám národům jako světlo\,\naby se spása má rozšířila až do končin země.“ \n Žl 40 (39)\,  2+4ab. 7-8a. 8b-9. 10 Odp.: srv. 8a+9a\n Odp.: Hle\, přicházím\, Pane\, splnit tvou vůli.\nPevně jsem doufal v Hospodina\,\non se ke mně sklonil a vyslyšel mé volání. Novou píseň vložil mi do úst\,\nchvalozpěv našemu Bohu.  Odp.\nV obětních darech si nelibuješ\, zato jsi mi otevřel uši.\nCelopaly a smírné oběti nežádáš\, tehdy jsem řekl: „Hle\, přicházím.  Odp.\nVe svitku knihy je o mně psáno: Rád splním tvou vůli\, můj Bože\, tvůj zákon je v mém nitru.“\n Odp.\nSpravedlnost jsem zvěstoval ve velkém shromáždění\, svým rtům jsem nebránil\, ty to víš\, Hospodine!\n Odp.  \n 2. ČTENÍ 1 Kor 1\, 1-3\n Milost vám a pokoj od Boha\, našeho Otce\, a od Pána Ježíše.  \nZačátek prvního listu svatého apoštola Pavla Korinďanům.\n    Pavel\, z Boží vůle povolaný za apoštola Ježíše Krista; a bratr Sosthenes členům církevní obce Boží v Korintě\, kteří byli posvěceni v Kristu Ježíši a povoláni do stavu svatých\, a také všem\, kteří kdekoli vzývají jméno Pána Ježíše Krista\, Pána svého i našeho. Milost vám a pokoj od Boha\, našeho Otce\, a od Pána Ježíše Krista. \n EVANGELIUM Jan 1\, 29-34\n Hle\, beránek Boží\, který snímá hříchy světa.  \nSlova svatého evangelia podle Jana.\n    Na druhý den Jan viděl Ježíše\, jak jde k němu\, a řekl: „Hle\, beránek Boží\, který snímá hříchy světa! To je ten\, o kterém jsem řekl: „Po mně přijde ten\, který má větší důstojnost\, neboď byl dříve než já.“ Ani já jsem ho neznal\, ale proto jsem přišel křtít vodou\, aby byl zjeven izraelskému národu.“\n    A Jan vydal svědectví: „Viděl jsem\, jak Duch sestoupil jako holubice z nebe a zůstal na něm. Ani já jsem ho neznal\, ale ten\, který mě poslal křtít vodou\, mi řekl: „Na koho uvidíš sestupovat Ducha a zůstávat na něm\, to je ten\, který křtí Duchem svatým.“\n    A já jsem to viděl a dosvědčuji: To je Syn Boží.“
URL:https://xn--farnostkrumv-3fb62m.com/udalosti/vladislav-panna-maria-matka-jednoty-krestanu-2-nedele-v-mezidobi/
END:VEVENT
BEGIN:VEVENT
DTSTART;VALUE=DATE:20260117
DTEND;VALUE=DATE:20260118
DTSTAMP:20260420T023248
CREATED:20260222T124845Z
LAST-MODIFIED:20260302T091851Z
UID:1368-1768608000-1768608000@xn--farnostkrumv-3fb62m.com
SUMMARY:Drahoslav / sv. Antonín Veliký (sobota 1. týdne v mezidobí)
DESCRIPTION:1Sam 9\,1-4.17-19;10\,1a\nZl 21\nMk 2\,13-17\nBarva: Bílá
URL:https://xn--farnostkrumv-3fb62m.com/udalosti/drahoslav-sv-antonin-veliky-sobota-1-tydne-v-mezidobi/
END:VEVENT
BEGIN:VEVENT
DTSTART;VALUE=DATE:20260116
DTEND;VALUE=DATE:20260117
DTSTAMP:20260420T023248
CREATED:20260222T124845Z
LAST-MODIFIED:20260302T091851Z
UID:1367-1768521600-1768521600@xn--farnostkrumv-3fb62m.com
SUMMARY:Ctirad / sv. Marcel I. (pátek 1. týdne v mezidobí)
DESCRIPTION:1Sam 8\,4-7.10-22a\nZl 89\nMk 2\,1-12\nBarva: Zelená
URL:https://xn--farnostkrumv-3fb62m.com/udalosti/ctirad-sv-marcel-i-patek-1-tydne-v-mezidobi/
END:VEVENT
BEGIN:VEVENT
DTSTART;VALUE=DATE:20260115
DTEND;VALUE=DATE:20260116
DTSTAMP:20260420T023248
CREATED:20260302T090716Z
LAST-MODIFIED:20260302T091836Z
UID:1810-1768435200-1768435200@xn--farnostkrumv-3fb62m.com
SUMMARY:Alice / sv. Pavel Poustevník (čtvrtek 1. týdne v mezidobí)
DESCRIPTION:1Sam 4\,1-11\nZl 44\nMk 1\,40-45\nBarva: Zelená
URL:https://xn--farnostkrumv-3fb62m.com/udalosti/alice-sv-pavel-poustevnik-ctvrtek-1-tydne-v-mezidobi/
END:VEVENT
BEGIN:VEVENT
DTSTART;VALUE=DATE:20260114
DTEND;VALUE=DATE:20260115
DTSTAMP:20260420T023248
CREATED:20260302T090716Z
LAST-MODIFIED:20260302T091836Z
UID:1809-1768348800-1768348800@xn--farnostkrumv-3fb62m.com
SUMMARY:Radovan / sv. Sáva Srbský (středa 1. týdne v mezidobí)
DESCRIPTION:1Sam 3\,1-10.19-20\nZl 40\nMk 1\,29-39\nBarva: Zelená
URL:https://xn--farnostkrumv-3fb62m.com/udalosti/radovan-sv-sava-srbsky-streda-1-tydne-v-mezidobi/
END:VEVENT
BEGIN:VEVENT
DTSTART;VALUE=DATE:20260113
DTEND;VALUE=DATE:20260114
DTSTAMP:20260420T023248
CREATED:20260222T124830Z
LAST-MODIFIED:20260302T091836Z
UID:1364-1768262400-1768262400@xn--farnostkrumv-3fb62m.com
SUMMARY:Edita / sv. Hilarius z Poitiers (úterý 1. týdne v mezidobí)
DESCRIPTION:1Sam 1\,9-20\n1Sam 2\nMk 1\,21b-28\nBarva: Zelená
URL:https://xn--farnostkrumv-3fb62m.com/udalosti/edita-sv-hilarius-z-poitiers-utery-1-tydne-v-mezidobi/
END:VEVENT
BEGIN:VEVENT
DTSTART;VALUE=DATE:20260112
DTEND;VALUE=DATE:20260113
DTSTAMP:20260420T023248
CREATED:20260302T090716Z
LAST-MODIFIED:20260302T091836Z
UID:1807-1768176000-1768176000@xn--farnostkrumv-3fb62m.com
SUMMARY:Pravoslav / sv. Probus (Pravoslav) (pondělí 1. týdne v mezidobí)
DESCRIPTION:1Sam 1\,1-8\nZl 116B\nMk 1\,14-20\nBarva: Zelená
URL:https://xn--farnostkrumv-3fb62m.com/udalosti/pravoslav-sv-probus-pravoslav-pondeli-1-tydne-v-mezidobi/
END:VEVENT
BEGIN:VEVENT
DTSTART;VALUE=DATE:20260111
DTEND;VALUE=DATE:20260112
DTSTAMP:20260420T023248
CREATED:20260302T090716Z
LAST-MODIFIED:20260302T091836Z
UID:1806-1768089600-1768089600@xn--farnostkrumv-3fb62m.com
SUMMARY:Bohdana / ct. Marie Elekta (Svátek Křtu Páně)
DESCRIPTION:Iz 42\,1-4.6-7\nZl 29(28)\nSk 10\,34-38\nMt 3\,13-17\nBarva: Bílá \n1. ČTENÍ Iz 42\, 1-4. 6-7\nHle\, můj Služebník\, v němž jsem si zalíbil.  \nČtení z knihy proroka Izaiáše.\nToto praví Hospodin:\n   „Hle\, můj Služebník\, kterého podporuji\, můj vyvolený\, v němž jsem si zalíbil. Vložil jsem na něj svého ducha\, národům přinese právo. Nebude křičet\, nebude hlučet\, nedá se slyšet na ulici. Nalomenou třtinu nedolomí\, doutnající knot neuhasí\, věrně bude ohlašovat právo. Nezeslábne\, nezmalátní\, dokud nezaloží na zemi právo.\n   Na jeho nauku čekají daleké kraje. Já\, Hospodin\, jsem tě povolal s láskou\, vzal jsem tě za ruku\, chránil jsem tě a ustanovil tě prostředníkem smlouvy lidu a světlem národů\, abys otevřel oči slepým\, abys vyvedl vězně ze žaláře a z věznice ty\, kteří bydlí ve tmách.“  \n  Žl 29 (28)\, 1-2. 3ac-4. 3b+9b-10 Odp.: 11b\n Odp.: Hospodin dá požehnání a pokoj svému lidu.\nVzdejte Hospodinu\, Boží synové\, vzdejte Hospodinu slávu a moc\,\nvzdejte Hospodinu slávu hodnou jeho jména\, v posvátném rouchu se klaňte Hospodinu!\n Odp.\nHospodinův hlas nad vodami! Hospodin nad spoustami vod! Hlas Hospodinův\, jak je mocný\, hlas Hospodinův\, jak je velkolepý!\n Odp.\nVznešený Bůh zaburácel hromem\,\nv jeho chrámu volají všichni: „Sláva!“ Hospodin trůnil nad potopou\, Hospodin jako král bude trůnit věčně.\n Odp.  \n  2. ČTENÍ Sk 10\, 34-38\n Bůh ho pomazal Duchem svatým.\n Čtení ze Skutků apoštolů.\nPetr se ujal slova a promluvil:\n     „Ted“ opravdu chápu\, že Bůh nikomu nestraní\, ale v každém národě že je mu milý ten\, kdo se ho bojí a dělá\, coje správné.\n   Izraelitům poslal své slovo\, když dal hlásat radostnou zvěst\, že nastává pokoj skrze Ježíše Krista. Ten je Pánem nade všemi. Vy víte\, co se po křtu\, který hlásal Jan\, událo nejdříve v Galileji a potom po celém Judsku: Jak Bůh pomazal Duchem svatým a mocí Ježíše z Nazareta\, jak on všude procházel\, prokazoval dobrodiní\, a protože Bůh byl s ním\, uzdravoval všechny\, které opanoval ďábel.“  \n   EVANGELIUM Mt 3\, 13-17\n Jakmile byl Ježíš pokřtěn\, viděl Ducha Božího\, jak na něj sestupuje.\nSlova svatého evangelia podle Matouše.\nJežíš přišel z Galileje k Jordánu za Janem\, aby se dal od něho pokřtít. Ale on se bránil a říkal: „Já bych měl být pokřtěn od tebe\, a ty přicházíš ke mně?“\n   Ježíš mu však na to řekl: „Nech tak nyní\, neboď je třeba\, abychom zcela splnili Boží vůli.“ I vyhověl mu.\n   Jakmile byl Ježíš pokřtěn\, vystoupil hned z vody. A hle otevřelo se nebe a viděl Ducha Božího jako holubici\, jak se snáší a sestupuje na něj. A z nebe se ozval hlas: „To je můj milovaný Syn\, v něm mám zalíbení.“
URL:https://xn--farnostkrumv-3fb62m.com/udalosti/bohdana-ct-marie-elekta-svatek-krtu-pane/
END:VEVENT
BEGIN:VEVENT
DTSTART;VALUE=DATE:20260110
DTEND;VALUE=DATE:20260111
DTSTAMP:20260420T023248
CREATED:20260302T090716Z
LAST-MODIFIED:20260302T091835Z
UID:1805-1768003200-1768003200@xn--farnostkrumv-3fb62m.com
SUMMARY:Břetislav / sv. Agathon (Dobromil)
DESCRIPTION:1Jan 4\,19-5\,4\nZl 72\nLk 4\,14-22a\nBarva: Bílá
URL:https://xn--farnostkrumv-3fb62m.com/udalosti/bretislav-sv-agathon-dobromil/
END:VEVENT
BEGIN:VEVENT
DTSTART;VALUE=DATE:20260109
DTEND;VALUE=DATE:20260110
DTSTAMP:20260420T023248
CREATED:20260222T124829Z
LAST-MODIFIED:20260302T091835Z
UID:1360-1767916800-1767916800@xn--farnostkrumv-3fb62m.com
SUMMARY:Vladan / sv. Julián
DESCRIPTION:1Jan 4\,11-18\nZl 72\nMk 6\,45-52\nBarva: Bílá
URL:https://xn--farnostkrumv-3fb62m.com/udalosti/vladan-sv-julian/
END:VEVENT
BEGIN:VEVENT
DTSTART;VALUE=DATE:20260108
DTEND;VALUE=DATE:20260109
DTSTAMP:20260420T023248
CREATED:20260302T090716Z
LAST-MODIFIED:20260302T091835Z
UID:1803-1767830400-1767830400@xn--farnostkrumv-3fb62m.com
SUMMARY:Čestmír / sv. Severin
DESCRIPTION:1Jan 4\,7-10\nZl 72\nMk 6\,34-44\nBarva: Bílá
URL:https://xn--farnostkrumv-3fb62m.com/udalosti/cestmir-sv-severin/
END:VEVENT
BEGIN:VEVENT
DTSTART;VALUE=DATE:20260107
DTEND;VALUE=DATE:20260108
DTSTAMP:20260420T023248
CREATED:20260222T124829Z
LAST-MODIFIED:20260302T091835Z
UID:1358-1767744000-1767744000@xn--farnostkrumv-3fb62m.com
SUMMARY:Vilma / sv. Rajmund z Penafortu
DESCRIPTION:1Jan 3\,22-4\,6\nZl 2\nMt 4\,12-17.23-25\nBarva: Bílá
URL:https://xn--farnostkrumv-3fb62m.com/udalosti/vilma-sv-rajmund-z-penafortu/
END:VEVENT
BEGIN:VEVENT
DTSTART;VALUE=DATE:20260106
DTEND;VALUE=DATE:20260107
DTSTAMP:20260420T023248
CREATED:20260302T090716Z
LAST-MODIFIED:20260302T091835Z
UID:1801-1767657600-1767657600@xn--farnostkrumv-3fb62m.com
SUMMARY:Tři králové / Slavnost Zjevení Páně
DESCRIPTION:Iz 60\,1-6\nZl 72\nEf 3\,2-3a.5-6\nMt 2\,1-12\nBarva: Bílá \n1. ČTENÍ Iz 60\, 1-6\nHospodinova velebnost září nad tebou.\nČtení z knihy proroka Izaiáše.  \nVstaň\, rozsviď se\, Jeruzaléme\, neboď vzešlo tvé světlo a Hospodinova velebnost září nad tebou!\n   Hle\, tma zahaluje zemi a temnota národy\, . nad tebou však září Hospodin\, jeho velebnost se zjevuje nad tebou. Národy budou kráčet v tvém světle a králové v tvé vycházející záři. Rozhlédni se kolem a podívej se:\nti všichni se shromáždili\, přišli k tobě. Zdaleka přicházejí tvoji synové\,\nna zádech jsou přinášeny tvoje dcerky. Spatříš to a zazáříš\,\nradostí se zachvěje a rozšíří tvé srdce\, neboď tě zaleje bohatství moře\, přinesou ti statky národů.\n    Záplava velbloudů tě přikryje\, dromedáři z Midjanu a Efy\, přij dou všichni ze Sáby\, přinesou zlato a kadidlo\, rozhlásí Hospodinovu slávu.  \n  Žl 72 (71)\, 1-2. 7-8. 10-11. 12-13 Odp.: srv.\nOdp.: Budou se ti\, Hospodine\, klanět všechny národy země.\nBože\, svěř králi svou pravomoc\,\nsvou spravedlnost královskému synu. Aď vládne tvému lidu spravedlivě\, nestranně tvým ubohým.\n Odp.\nV jeho dnech rozkvete spravedlnost a hojnost pokoje\, dokud nezanikne luna.\nBude vládnout od moře k moři\, od Řeky až do končin země.\n Odp.\nKrálové Taršíše a ostrovů přinesou dary\, králové Arábie a Sáby zaplatí daně. Všichni králové se mu budou klanět\, všechny národy mu budou sloužit.\n Odp.  On vysvobodí chudáka\, který se dovolává pomoci\, ubožáka\, jehož se nikdo neujímá.\nSmiluje se nad nuzným a chudým\, zachrání ubožákům život.\n Odp.  \n  2. ČTENÍ Ef 3\, 2-3a. 5-6\nNyní bylo oznámeno\, že také pohané mají stejná dědická práva.\nČtení z listu svatého apoštola Pavla Efesanům.\nBratři (a sestry)!\n    Slyšeli jste\, že Bůh mě pověřil pracovat pro vás na díle milosti. Ve zjevení mi totiž bylo oznámeno to tajemství.\n   V dřívějších dobách to lidé tak nevěděli\, ale nyní to bylo odhaleno z osvícení Ducha jeho svatým apoštolům a kazatelům mluvícím pod vlivem vnuknutí: že totiž také pohané mají stejná dědická práva\, že jsou údy téhož těla a že stejně i jim platí ona zaslíbení skrze Ježíše Krista\, když uvěří kázání evangelia.  \n   EVANGELIUM Mt 2\, 1-12\n Přišli jsme od východu poklonit se králi.\nSlova svatého evangelia podle Matouše.\nKdyž se Ježíš narodil v Betlémě v Judsku za času krále Heroda\, přišli do Jeruzaléma mudrci od východu a ptali se: „Kde je ten narozený židovský král? Uviděli jsme jeho hvězdu na východě\, a proto jsme se mu přišli poklonit.“\n    Když to uslyšel král Herodes\, ulekl se a s ním celý Jeruzalém. Svolal všechny velekněze a učitele Zákona z lidu a vyptával se jich\, kde se má Mesiáš narodit.\nŘekli mu: „V Betlémě v Judsku\, neboď tak je psáno u proroka: „A ty\, Betléme v judské zemi\, nejsi vůbec nejmenší mezi judskými předními městy\, protože z tebe vyjde vládce\, který bude panovat mému izraelskému lidu“.“\n   Tehdy si Herodes tajně zavolal mudrce a zevrubně se jich vyptal na dobu\, kdy se ta hvězda objevila\, poslal je do Betléma a řekl: „Jděte a důkladně se na to dítě vyptejte. Až ho najdete\, oznamte mi to\, abych se mu i já přišel poklonit.“ Když krále vyslechli\, vydali se na cestu.\n   A hle – hvězda\, kterou viděli na východě\, šla před nimi\, až se zastavila nad místem\, kde bylo dítě. Jakmile uviděli hvězdu\, zaradovali se nevýslovnou radostí. Vstoupili do domu a spatřili dítě s jeho matkou Marií\, padli na zem a klaněli se mu. Otevřeli své pokladnice a obětovali mu dary: zlato\, kadidlo a myrhu.\n   Ve snu dostali pokyn\, aby se k Herodovi už nevraceli\, proto se vrátili jinou cestou do své země.
URL:https://xn--farnostkrumv-3fb62m.com/udalosti/tri-kralove-slavnost-zjeveni-pane/
END:VEVENT
BEGIN:VEVENT
DTSTART;VALUE=DATE:20260105
DTEND;VALUE=DATE:20260106
DTSTAMP:20260420T023248
CREATED:20260222T124829Z
LAST-MODIFIED:20260302T091834Z
UID:1356-1767571200-1767571200@xn--farnostkrumv-3fb62m.com
SUMMARY:Dalimil / sv. Telesfor
DESCRIPTION:1Jan 3\,11-21\nZl 100\nJan 1\,43-51\nBarva: Bílá
URL:https://xn--farnostkrumv-3fb62m.com/udalosti/dalimil-sv-telesfor/
END:VEVENT
BEGIN:VEVENT
DTSTART;VALUE=DATE:20260104
DTEND;VALUE=DATE:20260105
DTSTAMP:20260420T023248
CREATED:20260302T090716Z
LAST-MODIFIED:20260302T091834Z
UID:1799-1767484800-1767484800@xn--farnostkrumv-3fb62m.com
SUMMARY:Diana / bl. Anděla z Foligna (2. neděle po Narození Páně)
DESCRIPTION:Sir 24\,1-4.12-16\nZl 147\nEf 1\,3-6.15-18\nJan 1\,1-18\nBarva: Bílá \n  1. ČTENÍ Sir 24\, 1-4. 12-16 ( řec. 1-2. 8-12 )\n Moudrost Boží sídlí ve vyvoleném lidu.  \nČtení z knihy Sirachovcovy.\nMoudrost se sama chválí a slaví uprostřed svého lidu.\n    Otvírá svá ústa ve shromáždění Nejvyššího a velebí se před jeho zástupy:\nTvůrce veškerenstva mi dal rozkaz\, můj stvořitel mi poručil vztyčit stan. Řekl mi: „Usaď se v Jakubovi\, v Izraeli měj své dědictví! “\n    Před věky na počátku mě stvořil\, až na věky být nepřestanu.\n    Před ním ve svatostánku jsem konala svou službu a pak na Siónu jsem obdržela sídlo.Usadil mě v městě\, které miloval jako mě\, v Jeruzalémě vykonávám svou moc.\nV lidu plném slávy jsem zapustila kořeny\, v Pánově údělu\, v jeho dědictví.  \n  Žl 147\,12-13.14-15.19-20 Odp.:Jan 1\,14\n Odp.: Slovo se stalo tělem a přebývalo mezi námi. nebo: Aleluja.   \nJeruzaléme\, oslavuj Hospodina\, chval svého Boha\, Sióne\,\nže zpevnil závory tvých bran\, požehnal tvým synům v tobě.\n  Odp.\nZjednal tvému území pokoj a sytí tě jadrnou pšenicí. Sesílá svůj rozkaz na zemi\, rychle běží jeho slovo.\n Odp.\nOznámil své slovo Jakubovi\, své zákony a přikázání Izraeli. Tak nejednal se žádným národem: nesdělil jim svá přikázání.\n Odp.  \n  2. ČTENÍ Ef 1\,3-6.15-18\n Předurčil nás\, abychom byli přijatí za jeho dětí skrze. Ježíše.   \nČtení z listu svatého apoštola Pavla Efesanům.\nBud“ pochválen Bůh a Otec našeho Pána Ježíše Krista\, který nás zahrnul z nebe rozmanitými duchovními dary\, protože jsme spojeni s Kristem. Vždyď v něm si nás vyvolil ještě před stvořením světa\, abychom byli před ním svatí a neposkvrnění; v lásce nás ze svého svobodného rozhodnutí předurčil\, abychom byli přijati za jeho děti skrze Ježíše Krista. To proto\, aby se vzdávala chvála jeho vznešené dobrotivosti\, neboď skrze ni nás obdařil milostí pro zásluhy svého milovaného Syna.\n    Slyšel jsem\, jak věříte v Pána Ježíše a jakou lásku projevujete všem křesďanům\, a proto nepřestávám za vás děkovat\, když na vás vzpomínám ve svých modlitbách\, aby vám Bůh našeho Pána Ježíše Krista\, Otec slávy\, udělil dar moudře věci chápat a jejich smysl odhalovat\, takže budete moci mít o něm správné poznání. On aď osvítí vaše srdce\, abyste pochopili\, jaká je naděje těch\, které povolal\, jaké poklady slávy skrývá křesďanům jeho dědictví.  \n  EVANGELIUM Jan 1\, 1-18\n Slovo se stalo tělem a přebývalo mezi námi.\nZačátek svatého evangelia podle Jana.  \n    Na počátku bylo Slovo\, a to Slovo bylo u Boha\, a to Slovo byl Bůh.\n    To bylo na počátku u Boha. Všechno povstalo skrze ně a bez něho nepovstalo nic\, co jest.V něm byl život\, a ten život byl světlem lidí. To světlo svítí v temnotě a temnota ho nepohltila. Byl člověk poslaný od Boha\, jmenoval se Jan. Přišel jako svědek\, aby svědčil o tom světle\, aby všichni uvěřili skrze něho. On sám nebyl tím světlem\, měl jen svědčit o tom světle.\n    Bylo světlo pravé\, které osvěcuje každého člověka; to přicházelo na svět. Na světě bylo\, a svět povstal skrze ně\, ale svět ho nepoznal. Do vlastního přišel\, ale vlastní ho nepřijali.\n    Všem\, kdo ho přijali\, dal moc stát se Božími dětmi\, těm\, kdo věří v jeho jméno\, kdo se zrodili ne z krve\, ani z vůle těla\, ani z vůle muže\, ale z Boha.\n    A Slovo se stalo tělem a přebývalo mezi námi. Viděli jsme jeho slávu\, slávu\, jakou má od Otce jednorozený Syn\, plný milosti a pravdy.\n    Jan o něm vydával svědectví a volal: „To je ten\, o kterém jsem řekl: „Ten\, který přijde po mně\, má větší důstojnost\, neboď byl dříve než já.“ “\n    Všichni jsme dostali z jeho plnosti\, a to milost za milosti: Neboď Zákon byl dán skrze Mojžíše\, milost a pravda přišla skrze Ježíše Krista.\n    Boha nikdo nikdy neviděl. Jednorozený Syn\, který spočívá v náručí Otcově\, ten o něm podal zprávu.
URL:https://xn--farnostkrumv-3fb62m.com/udalosti/diana-bl-andela-z-foligna-2-nedele-po-narozeni-pane/
END:VEVENT
BEGIN:VEVENT
DTSTART;VALUE=DATE:20260103
DTEND;VALUE=DATE:20260104
DTSTAMP:20260420T023248
CREATED:20260302T090716Z
LAST-MODIFIED:20260302T091834Z
UID:1798-1767398400-1767398400@xn--farnostkrumv-3fb62m.com
SUMMARY:Radmila / Nejsvětější jméno Ježíš / sv. Jenovéfa
DESCRIPTION:1Jan 2\,29-3\,6\nZl 98\nJan 1\,29-34\nBarva: Bílá
URL:https://xn--farnostkrumv-3fb62m.com/udalosti/radmila-nejsvetejsi-jmeno-jezis-sv-jenovefa/
END:VEVENT
BEGIN:VEVENT
DTSTART;VALUE=DATE:20260102
DTEND;VALUE=DATE:20260103
DTSTAMP:20260420T023248
CREATED:20260302T090716Z
LAST-MODIFIED:20260302T091834Z
UID:1797-1767312000-1767312000@xn--farnostkrumv-3fb62m.com
SUMMARY:Karina / sv. Basil Veliký a Řehoř Naziánský
DESCRIPTION:1Jan 2\,22-28\nZl 98\nJan 1\,19-25\nBarva: Bílá
URL:https://xn--farnostkrumv-3fb62m.com/udalosti/karina-sv-basil-veliky-a-rehor-naziansky/
END:VEVENT
BEGIN:VEVENT
DTSTART;VALUE=DATE:20260101
DTEND;VALUE=DATE:20260102
DTSTAMP:20260420T023248
CREATED:20260222T124829Z
LAST-MODIFIED:20260302T091834Z
UID:1352-1767225600-1767225600@xn--farnostkrumv-3fb62m.com
SUMMARY:Nový rok / Slavnost Matky Boží Panny Marie
DESCRIPTION:Nm 6\,22-27\nZl 67\nGal 4\,4-7\nLk 2\,16-21\nBarva: Bílá \n1. ČTENÍ Nm 6\, 22-27\nBudou vzývat moje jméno nad izraelskými syny a já jim požehnám.\nČtení ze čtvrté knihy Mojžíšovy.\n    Hospodin řekl Mojžíšovi:\n„Řekni Árónovi a jeho synům: Tak budete žehnat izraelským synům; budete jim říkat:\n„Aď tobě Hospodin požehná a ochraňuje tě! Aď tobě Hospodin ukáže svou jasnou tvář a je ti milostivý! Aď Hospodin obrátí k tobě svou tvář a dopřeje ti pokoje!“\nBudou vzývat moje jméno nad izraelskými syny a já jim požehnám.“  \n  Žl 67 (66) 2-3. 5. 6+8 Odp.: 2a\n Odp.: Bože\, buď milostiv a žehnej nám!\n Bože\, buď milostiv a žehnej nám\, ukaž nám svou jasnou tvář\,\nkéž se pozná na zemi\, jak jednáš\, kéž poznají všechny národy\, jak zachraňuješ.\n Odp.\nNechď se lidé radují a jásají\, že soudíš národy spravedlivě a lidi na zemi řídíš.\n Odp.\nAď tě\, Bože\, velebí národy\, aď tě velebí kdekterý národ! Kéž nám Bůh žehná\,\naď ho ctí všechny končiny země!  Odp.  \n  2. ČTENÍ Gal 4\, 4-7\n Bůh poslal svého Syna\, narozeného ze ženy.\nČtení z listu svatého apoštola Pavla Galaďanům.\nBratři!\n    Když se naplnil čas\, poslal Bůh svého Syna\, narozeného ze ženy\, narozeného pod Zákonem\, aby vykoupil lidi\, kteří podléhali Zákonu. Tak jsme byli přijati za syny. A protože jste synové\, poslal nám Bůh do srdce Ducha svého Syna\, Ducha\, který volá: „Abba\, Otče!“ Už tedy nejsi otrok\, ale syn a jako syn také dědic skrze Boha.  \n   EVANGELIUM Lk 2\, 16-21\n Nalezli Marii a Josefa i děďátko . . .    \nKdyž uplynulo osm dní\, dali mu jméno Ježíš.\nSlova svatého evangelia podle Lukáše.\n    Pastýři pospíchali do Betléma a nalezli Marii a Josefa i děďátko položené v jeslích. Když ho uviděli\, vypravovali\, co jim bylo o tom dítěti pověděno. Všichni\, kdo to slyšeli\, podivili se tomu\, co jim pastýři vyprávěli. Maria však to všechno uchovávala v srdci a rozvažovala o tom. Pastýři se zas vrátili. Velebili a chválili Boha za všechno\, co slyšeli a viděli\, jak jim to bylo řečeno. \n     Když uplynulo osm dní a dítě mělo být obřezáno\, dali mu jméno Ježíš\, jak ho nazval anděl\, než byl počat v mateřském lůně.
URL:https://xn--farnostkrumv-3fb62m.com/udalosti/novy-rok-slavnost-matky-bozi-panny-marie/
END:VEVENT
END:VCALENDAR