BEGIN:VCALENDAR
VERSION:2.0
PRODID:-//farnostkrumvir.com - ECPv6.15.16//NONSGML v1.0//EN
CALSCALE:GREGORIAN
METHOD:PUBLISH
X-ORIGINAL-URL:https://xn--farnostkrumv-3fb62m.com
X-WR-CALDESC:Akce na farnostkrumvir.com
REFRESH-INTERVAL;VALUE=DURATION:PT1H
X-Robots-Tag:noindex
X-PUBLISHED-TTL:PT1H
BEGIN:VTIMEZONE
TZID:UTC
BEGIN:STANDARD
TZOFFSETFROM:+0000
TZOFFSETTO:+0000
TZNAME:UTC
DTSTART:20250101T000000
END:STANDARD
END:VTIMEZONE
BEGIN:VEVENT
DTSTART;VALUE=DATE:20260419
DTEND;VALUE=DATE:20260420
DTSTAMP:20260419T143810
CREATED:20260302T090715Z
LAST-MODIFIED:20260322T185200Z
UID:1904-1776556800-1776643199@xn--farnostkrumv-3fb62m.com
SUMMARY:Rostislav / sv. Ema (3. neděle velikonoční)
DESCRIPTION:Mše svatá – 9:15 \nÚmysl – za Marii Valihrachovu\, manžela a celou rodinu \nSk 2\,14.22-28\nZl 16(15)\n1Pt 1\,17-21\nLk 24\,13-35\nBarva: Bílá \n1. ČTENÍ Sk 2\,14.22-28\nNebylo možné\, aby zůstal v moci smrtí.\nČtení ze Skutků apoštolů.\nV den letnic vystoupil Petr s ostatními jedenácti (apoštoly) a slavnostně promluvil k lidem:\n„Židé a všichni jeruzalémští obyvatelé\, pozorně vyslechněte mou řeč!\nBůh vám dal svědectví o Ježíši Nazaretském mocnými činy\, divy a znameními\, které\, jak víte\, konal Bůh skrze něho mezi vámi. A on byl vydán\, jak to Bůh předem rozhodl a předpověděl\, a vy jste ho rukama bezbožníků přibili na kříž a zabili. Ale Bůh ho vzkřísil\, zbavil bolestí smrti\, protože nebylo možné\, aby zůstal v její moci. David přece o něm říká:\n„Mám Pána před očima stále\, je mi po pravici\, abych se neviklal. Proto se raduje mé srdce a můj jazyk jásá. Ano i mé tělo odpočine v naději\, neboď nevydáš mě podsvětí napospas\, nedopustíš\, aby tvůj Svatý podlehl porušení. Oznámils mi cesty života\, naplníš mě blahem před svou tváří.“ “ \nŽl 16(15)\,1-2a+5.7-8.9-10.11 Odp.: 11a\nOdp.: Ukaž mi\, Pane\, cestu k životu. nebo: Aleluja. \nOchraň mě\, Bože\, neboď se utíkám k tobě. Pravím Hospodinu: „Ty jsi můj Pán.“\nTy jsi\, Hospodine\, mým dědičným podílem i mou číší\, ty mně zachováváš můj úděl.\nOdp.\nVelebím Hospodina\, že mi byl rádcem\, k tomu mě i za nocí vybízí mé nitro. Hospodina mám neustále na zřeteli\, nezakolísám\, když je mi po pravici.\nOdp.\nProto se raduje mé srdce\, má duše plesá\, i mé tělo bydlí v bezpečí\,\nneboď nezanecháš mou duši v podsvětí\, nedopustíš\, aby tvůj svatý spatřil porušení.\nOdp.\nUkážeš mi cestu k životu\, u tebe je hojná radost\,\npo tvé pravici je věčná slast.\nOdp. \n2. ČTENÍ 1Pt 1\,17-21\nByli jste vykoupení drahou krví Krista\, neposkvrněného beránka.\nČtení z prvního listu svatého apoštola Petra.\nMilovaní!\nKdyž říkáte Otec tomu\, který soudí nestranně každého podle jeho činů\, žijte v bázni po dobu svého vyhnanství. Víte přece\, že jste ze svého prázdného způsobu života\, jak jste ho zdědili po předcích\, byli vykoupeni ne snad nějakými věcmi pomíjejícími\, stříbrem nebo zlatem\, nýbrž drahou krví Krista\, bezúhonného a neposkvrněného beránka. On byl ovšem k tomu vybrán už před stvořením světa\, ale pro vás se objevil teď na konci časů. Skrze něho jste uvěřili v Boha\, který ho vzkřísil z mrtvých a oslavil\, takže když věříte\, můžete zároveň v Boha i doufat. \nEVANGELIUM Lk 24\,13-35\nPoznali Ježíše pří lámání chleba.\nSlova svatého evangelia podle Lukáše.\nDva z Ježíšových učedníků se ubírali toho dne (prvního po sobotě) do vesnice zvané Emauzy\, která je vzdálena od Jeruzaléma šedesát honů. Hovořili spolu o tom všem\, co se stalo. jak tak hovořili a uvažovali\, přiblížil se k nim sám ležíš a připojil se k nim. Ale cosi jim jako by zadržovalo oči\, Takže ho nepoznali. Zeptal se jich: „O čem to cestou spolu rozmlouváte?“ Zastavili se celí smutní.\nJeden z nich – jmenoval se Kleofáš – mu odpověděl: \,.Ty jsi snad jediný\, kdo se zdržuje v Jeruzalémě a neví\, co se tam tyto dny stalo.“\nZeptal se jich: „A co se stalo?“\nOdpověděli mu: „Jak Ježíše z Nazareta\, který byl prorok\, mocný činem i slovem před Bohem i přede vším lidem\, naši velekněží a přední mužové odsoudili k smrti a ukřižovali. My však jsme doufali\, že on je ten\, který má vysvobodit Izraele. A k tomu všemu je to dnes třetí den\, co se to stalo. Některé naše ženy nás sice rozrušily: Byly časně ráno u hrobu\, nenalezly jeho tělo\, přišly a tvrdily\, že měly i vidění andělů\, a ti prý říkali\, že on žije. Někteří z našich lidí odešli k hrobu a shledali\, že je to tak\, jak ženy říkaly\, jeho však neviděli.“\nA on jim řekl: „Jak jste nechápaví a váhaví uvěřit tomu všemu\, co mluvili proroci! Což to všechno nemusel Mesiáš vytrpět\, a tak vejít do své slávy?“ Potom začal od Mojžíše\, probral dále všechny proroky a vykládal jim\, co se ve všech částech Písma na něj vztahuje.\nTak došli k vesnici\, kam měli namířeno\, a on dělal\, jako by chtěl jít dál. Ale oni na něho naléhali: „Zůstaň s námi\, neboď se připozdívá a den se už nachýlil.“ Vešel tedy dovnitř\, aby zůstal s nimi. Když byl s nimi u stolu\, vzal chléb\, pronesl nad ním požehnání\, rozlámal ho a podával jim. Vtom se jim otevřely oči a poznali ho. On jim však zmizel. Tu si mezi sebou řekli: „Což nám nehořelo srdce\, když k nám na cestě mluvil a odhaloval smysl Písma?“\nJeště tu hodinu se vydali na cestu a vrátili se do Jeruzaléma. Tam našli pohromadě jedenáct (apoštolů) i jejich druhy. Ti řekli: „Pán skutečně vstal a zjevil se Šimonovi.“ Oni sami pak vypravovali\, co se jim přihodilo na cestě a jak Ježíše poznali při lámání chleba.
URL:https://xn--farnostkrumv-3fb62m.com/udalosti/rostislav-sv-ema-3-nedele-velikonocni/
END:VEVENT
BEGIN:VEVENT
DTSTART;VALUE=DATE:20260420
DTEND;VALUE=DATE:20260421
DTSTAMP:20260419T143810
CREATED:20260302T090715Z
LAST-MODIFIED:20260302T094357Z
UID:1905-1776643200-1776643200@xn--farnostkrumv-3fb62m.com
SUMMARY:Marcela / sv. Hugo (pondělí 3. velikonočního týdne)
DESCRIPTION:Sk 6\,8-15\nZl 119\nJan 6\,22-29\nBarva: Bílá
URL:https://xn--farnostkrumv-3fb62m.com/udalosti/marcela-sv-hugo-pondeli-3-velikonocniho-tydne/
END:VEVENT
BEGIN:VEVENT
DTSTART;VALUE=DATE:20260421
DTEND;VALUE=DATE:20260422
DTSTAMP:20260419T143810
CREATED:20260302T090715Z
LAST-MODIFIED:20260302T094558Z
UID:1926-1776729600-1776729600@xn--farnostkrumv-3fb62m.com
SUMMARY:Alexandra / sv. Anselm (úterý 3. velikonočního týdne)
DESCRIPTION:Sk 7\,51-8\,1a\nZl 31\nJan 6\,30-35\nBarva: Bílá
URL:https://xn--farnostkrumv-3fb62m.com/udalosti/alexandra-sv-anselm-utery-3-velikonocniho-tydne/
END:VEVENT
BEGIN:VEVENT
DTSTART;VALUE=DATE:20260422
DTEND;VALUE=DATE:20260423
DTSTAMP:20260419T143810
CREATED:20260302T090715Z
LAST-MODIFIED:20260302T094558Z
UID:1927-1776816000-1776816000@xn--farnostkrumv-3fb62m.com
SUMMARY:Evženie / sv. Leonid (středa 3. velikonočního týdne)
DESCRIPTION:Sk 8\,1b-8\nZl 66\nJan 6\,35-40\nBarva: Bílá
URL:https://xn--farnostkrumv-3fb62m.com/udalosti/evzenie-sv-leonid-streda-3-velikonocniho-tydne/
END:VEVENT
BEGIN:VEVENT
DTSTART;VALUE=DATE:20260423
DTEND;VALUE=DATE:20260424
DTSTAMP:20260419T143810
CREATED:20260302T090715Z
LAST-MODIFIED:20260322T185410Z
UID:1928-1776902400-1776988799@xn--farnostkrumv-3fb62m.com
SUMMARY:Vojtěch / Svátek sv. Vojtěcha
DESCRIPTION:Mše svatá – 18:00 \nÚmysl – za členy živého růžence \nSk 13\,46-49\nZl 96(95)\nJan 10\,11-16\nBarva: Červená \n1. ČTENÍ Sk 13\, 46-49\nObracíme se k pohanům.\nČtení ze Skutků apoštolů.\nPavel a Barnabáš řekli židům: „Vám nejprve se mělo hlá-sat Boží slovo. Ale proto\, že ho od sebe odmítáte a tak sami sebe odsuzujete ke ztrátě věčného života\, obracíme se k po-hanům. Neboď tak nám to nařídil Pán: „Určil jsem tě za světlo pohanům\, abys byl spásou až na konec země“.“\nKdyž to uslyšeli pohané\, radovali se a velebili slovo Páně. A přijali víru všichni\, kdo byli určeni k věčnému životu. Tak se slovo Páně šířilo po celé té krajině. \nŽl 96 ( 95 )\, 1 – 2a. 2b – 3. 7 – 8a. 10 Odp.: srv.: 3\nOdp.: Vypravujte mezi všemi národy Hospodinových divech. nebo: Aleluja. \nZpívejte Hospodinu píseň novou\, zpívejte Hospodinu\, všechny země! Zpívejte Hospodinu\, velebte jeho jméno!\nOdp.\nRozhlašujte den po dni jeho spásu! Vypravujte mezi pohany o jeho slávě\, mezi všemi národy o jeho divech.\nOdp.\nVzdejte Hospodinu\, rodiny národů\, vzdejte Hospodinu slávu a moc\,\nvzdejte Hospodinu slávu\, hodnou jeho jména..\nOdp.\nHlásejte mezi pohany: Hospodin kraluje. Upevnil svět\, aby nekolísal:\nnárody řídí podle práva. \nEVANGELIUM Jan 10\, 11 – 16\nDobrý pastýř dává za ovce svůj život. \nSlova svatého evangelia podle Jana.\nJežíš řekl:\n„Já jsem pastýř dobrý. Dobrý pastýř dává za ovce svůj ži-vot. Kdo je najatý za mzdu a není pastýř a jemuž ovce ne-patří\, jak vidí přicházet vlka\, opouští ovce a dává se na útěk – a vlk je uchvacuje a rozhání – vždyď je najatý za mzdu a na ovcích mu nezáleží.Já jsem dobrý pastýř; znám svoje ovce a moje ovce znají mne\, jako mne zná Otec a já znám Otce; a za ovce dávám svůj život.\nMám i jiné ovce\, které nejsou z tohoto ovčince. Také ty musím přivést; a uposlechnou mého hlasu a bude jen jedno stádce\, jen jeden pastýř.“
URL:https://xn--farnostkrumv-3fb62m.com/udalosti/vojtech-svatek-sv-vojtecha/
END:VEVENT
BEGIN:VEVENT
DTSTART;VALUE=DATE:20260424
DTEND;VALUE=DATE:20260425
DTSTAMP:20260419T143810
CREATED:20260302T090715Z
LAST-MODIFIED:20260302T094558Z
UID:1929-1776988800-1776988800@xn--farnostkrumv-3fb62m.com
SUMMARY:Jiří / sv. Jiří (pátek 3. velikonočního týdne)
DESCRIPTION:Sk 9\,1-20\nZl 117\nJan 6\,52-59\nBarva: Bílá
URL:https://xn--farnostkrumv-3fb62m.com/udalosti/jiri-sv-jiri-patek-3-velikonocniho-tydne/
END:VEVENT
BEGIN:VEVENT
DTSTART;VALUE=DATE:20260425
DTEND;VALUE=DATE:20260426
DTSTAMP:20260419T143810
CREATED:20260222T125303Z
LAST-MODIFIED:20260302T094558Z
UID:1471-1777075200-1777075200@xn--farnostkrumv-3fb62m.com
SUMMARY:Marek / Svátek sv. Marka
DESCRIPTION:1 Pt 5\,5b-14\nZl 89\nMk 16\,15-20\nBarva: Červená \n PRVNÍ ČTENÍ 1 Petr 5\,5b-14\nPozdravuje vás Marek\, můj syn.\nČtení z prvního listu svatého apoštola Petra\nMilovaní!\nOpásejte se všichni ve vzájemném styku pokorou\, neboď ‚Bůh se staví proti pyšným\, ale dává milost pokorným‘. Pokorně se proto skloňte pod mocnou ruku Boží\, a on vás povýší\, až k tomu přijde čas. ‚Na něj hoďte všechnu svou starost‘\, vždyď jemu na vás záleží.\nBuďte střízliví a bděte\, protože váš protivník ďábel jako řvoucí lev obchází a hledá\, koho by mohl zhltnout. Postavte se proti němu\, silní vírou. Víte přece\, že vaši bratři po celém světě musejí také tak trpět. Když teď nakrátko snesete utrpení\, Bůh\, dárce veškeré milosti\, který vás pro (zásluhy) Krista Ježíše povolal ke své věčné slávě\, sám vás zdokonalí\, utuží\, utvrdí a upevní. Jemu patří vláda na věčné věky. Amen.\nPíšu vám toto krátké psaní prostřednictvím Silvána\, kterého pokládám za věrného bratra; chtěl jsem vám dodat odvahy a dosvědčit vám\, že toto je pravá Boží milost; stůjte v ní!\nSpoluvyvolená církevní obec babylónská vás pozdravuje\, rovněž Marek\, můj syn. Pozdravte ve vespolek  políbením lásky.\nPokoj vám všem\, kteří jste spojeni v Kristu.\n Žl 89 (88)\,2–3.6–7.16–17\nOdp.: Na věky chci zpívat o Hospodinových milostech.\nnebo: Aleluja.\nNa věky chci zpívat o Hospodinových milostech\,\npo všechna pokolení hlásat svými ústy tvou věrnost. Řekl jsi totiž: „Navěky je založena milost.“\nNa nebi jsi upevnil svou věrnost.  Odp.\nNebesa oslavují tvé divy\, Hospodine\, a tvou věrnost shromáždění svatých.\nNeboď kdo se může v oblacích rovnat Hospodinu\, kdo z Božích synů se podobá Pánu?\n Odp.\nŠďastný je lid\, který dovede oslavovat\, chodí\, Hospodine\, v záři tvé tváře.\nV tvém jménu jásají ustavičně a honosí se tvou spravedlností.\n Odp.  \n EVANGELIUM Mk 16\,15–20\nJděte do celého světa a hlásejte evangelium!\nSlova svatého evangelia podle Marka.\nKdyž se Ježíš naposled zjevil jedenácti apoštolům\, řekl jim:\n„Jděte do celého světa a hlásejte evangelium všemu tvorstvu! Kdo uvěří a dá se pokřtít\, bude spasen; kdo však neuvěří\, bude zavržen.\nTy\, kdo uvěří\, budou provázet tato znamení: ve jménu mém budou vyhánět zlé duchy\, budou mluvit novými jazyky\, budou brát hady do ruky\, a když vypijí něco smrtelně jedovatého\, neuškodí jim to; na nemocné budou vkládat ruce\, a uzdraví se.“\nTak k nim Pán Ježíš mluvil. Potom byl vzat do nebe a zasedl po Boží pravici. Učedníci pak vyšli a všude kázali. Pán působil s nimi a potvrzoval jejich slova znameními\, která je provázela.
URL:https://xn--farnostkrumv-3fb62m.com/udalosti/marek-svatek-sv-marka/
END:VEVENT
BEGIN:VEVENT
DTSTART;VALUE=DATE:20260426
DTEND;VALUE=DATE:20260427
DTSTAMP:20260419T143810
CREATED:20260302T090715Z
LAST-MODIFIED:20260322T185549Z
UID:1931-1777161600-1777247999@xn--farnostkrumv-3fb62m.com
SUMMARY:Oto / sv. Richarius (4. neděle velikonoční)
DESCRIPTION:Mše svatá – 9:15 \nÚmysl – za Františku Valihrachovu\, manžela\, syna a celou rodinu \nSk 2\,14a.36-41\nZl 23(22)\n1Petr 2\,20b-25\nJan 10\,1-10\nBarva: Bílá \n1. ČTENÍ Sk 2\,14a.36-41\nBůh ho ustanovil Pánem a Mesiášem.\nČtení ze Skutků apoštolů.\nV den letnic vystoupil Petr s ostatními jedenácti (apoštoly) a slavnostně promluvil k lidem:\n„Aď je úplně jasno celému izraelskému národu toto: Pánem a Mesiášem ustanovil Bůh právě toho Ježíše\, kterého jste vy ukřižovali.“\nKdyž to uslyšeli\, proniklo jim to srdce a ptali se Petra i ostatních apoštolů: „Bratři\, co máme dělat?“ Petr jim od pověděl: „Obraďte se! A každý z vás aď se dá pokřtít ve jménu Ježíše Krista\, aby vám byly odpuštěny hříchy\, a jako dar dostanete Ducha svatého. Vždyď to zaslíbení platí vám i vašim dětem\, ale také všem\, kdo jsou ještě daleko\, které si povolá Pán\, náš Bůh.“\nJeště mnoha jinými slovy je zapřísahal a vybízel: „Zachraňte se z tohoto zvráceného pokolení! “ Ti\, kdo jeho slovo ochotně přijali\, byli pokřtěni. A ten den se k nim přidalo na tři tisíce lidí. \nŽl 23(22)\,1-3a.3b-4.5.6 Odp.: 1\nOdp.: Hospodin je můj pastýř\, nic nepostrádám. nebo: Aleluja. \nHospodin je můj pastýř\, nic nepostrádám\, dává mi prodlévat na svěžích pastvinách\, vodí mě k vodám\, kde si mohu odpočinout\, občerstvuje mou duši.\nOdp.\nVede mě po správných cestách \, pro svoje jméno.\nI kdybych šel temnotou rokle\, nezaleknu se zla\, vždyď ty jsi se mnou. Tvůj kyj a tvá hůl\,\nty jsou má útěcha.\nOdp.\nProstíráš pro mě stůl před zraky mých nepřátel\, hlavu mi mažeš olejem\, má číše přetéká.\nOdp.\nŠtěstí a přízeň mě provázejí po všechny dny mého života\, přebývat smím v Hospodinově domě na dlouhé\, předlouhé časy.\nOdp. \n2. ČTENÍ 1Petr 2\,20b-25\nVrátili jste se k pastýři svých duší. \nČtení z prvního listu svatého apoštola Petra.\nMilovaní!\nKdyž děláte dobře\, a přesto musíte trpět\, je to milé Bohu. K tomu jste přece byli povoláni. Vždyď i Kristus trpěl za vás a zanechal vám tak příklad\, abyste šli v jeho šlépějích. „On nezhřešil a nikdo od něho neslyšel nic neupřímného.“ Když mu spílali\, on jim to spíláním neoplácel\, když trpěl\, nevyhrožoval\, ale ponechal vše tomu\, který soudí spravedlivě. On sám na sobě vynesl naše hříchy na dřevo (kříže) \, abychom byli mrtvi hříchům a žili spravedlivě. Jeho ranami jste uzdraveni. Byli jste kdysi jako bludné ovce\, ale nyní jste se vrátili k pastýři a strážci svých duší. \nEVANGELIUM Jan 10\,1-10\nJá jsem dveře k ovcím. \nSlova svatého evangelia podle Jana.\nJežíš řekl:\n„Amen\, amen\, pravím vám: Kdo nevchází do ovčince dveřmi\, ale vniká tam jinudy\, to je zloděj a lupič. Kdo však vchází dveřmi\, je pastýř ovcí. Vrátný mu otevře a ovce slyší jeho hlas. Volá své ovce jménem a vyvádí je. Když všechny své ovce vyvede\, jde před nimi a ovce ho následují\, protože znají jeho hlas. Za cizím však nikdy nepůjdou\, ale utečou od něho\, protože hlas cizích neznají.“\nJežíš jim pověděl toto podobenství\, ale oni nepochopili\, co jim tím chce říci.\nJežíš proto řekl znovu:\n„Amen\, amen\, pravím vám: Já jsem dveře k ovcím. Všichni\, kdo přišli přede mnou\, jsou zloději a lupiči\, ale ovce je neuposlechly. Já jsem dveře. Kdo vejde skrze mě\, bude zachráněn; bude moci vcházet i vycházet a najde pastvu. Zloděj přichází\, jen aby kradl\, zabíjel a působil zkázu. Já jsem přišel\, aby měly život a měly ho v hojnosti.“
URL:https://xn--farnostkrumv-3fb62m.com/udalosti/oto-sv-richarius-4-nedele-velikonocni/
END:VEVENT
BEGIN:VEVENT
DTSTART;VALUE=DATE:20260427
DTEND;VALUE=DATE:20260428
DTSTAMP:20260419T143810
CREATED:20260302T090715Z
LAST-MODIFIED:20260302T094759Z
UID:1932-1777248000-1777248000@xn--farnostkrumv-3fb62m.com
SUMMARY:Jaroslav / sv. Zita (pondělí 4. velikonočního týdne)
DESCRIPTION:Sk 11\,1-18\nZl 42\nJan 10\,1-10\nBarva: Bílá
URL:https://xn--farnostkrumv-3fb62m.com/udalosti/jaroslav-sv-zita-pondeli-4-velikonocniho-tydne/
END:VEVENT
BEGIN:VEVENT
DTSTART;VALUE=DATE:20260428
DTEND;VALUE=DATE:20260429
DTSTAMP:20260419T143810
CREATED:20260302T090715Z
LAST-MODIFIED:20260302T094759Z
UID:1933-1777334400-1777334400@xn--farnostkrumv-3fb62m.com
SUMMARY:Vlastislav / sv. Petr Chanel - sv. Ludvík Maria Grignion (úterý 4. velikonočního týdne)
DESCRIPTION:Sk 11\,19-26\nZl 87\nJan 10\,22-30\nBarva: Bílá
URL:https://xn--farnostkrumv-3fb62m.com/udalosti/vlastislav-sv-petr-chanel-sv-ludvik-maria-grignion-utery-4-velikonocniho-tydne/
END:VEVENT
BEGIN:VEVENT
DTSTART;VALUE=DATE:20260429
DTEND;VALUE=DATE:20260430
DTSTAMP:20260419T143810
CREATED:20260302T090715Z
LAST-MODIFIED:20260302T094759Z
UID:1934-1777420800-1777420800@xn--farnostkrumv-3fb62m.com
SUMMARY:Robert / Svátek sv. Kateřiny Sienské
DESCRIPTION:1Jan 1\,5-2\,2\nZl 103\nMt 11\,25-30\nBarva: Bílá \n 1. čtení 1Jan 1\,5-2\,2   \nČtení z prvního listu svatého apoštola Jana.\nMilovaní !\nTo je poselství\, které jsme slyšeli od Ježíše Krista a vám zvěstujeme. Bůh je světlo a tma v něm vůbec není. Když tvrdíme\, že máme s ním společenství\, ale (přitom) žijeme ve tmě\, lžeme a naše jednání není ve shodě s pravdou. Když však žijeme ve světle\, jako on je ve světle\, máme společenství mezi sebou a krev jeho Syna Ježíše Krista nás očišďuje od každého hříchu. Řekneme-li\, že hřích nemáme\, klameme sami sebe a není v nás pravda. Když však uznáme\, (že se dopouštíme) hříchu a očistí nás od všeho špatného\, protože věrně (plní\, co slíbil)\, a proto\, že je spravedlivý. Řekneme-li však\, že jsme nezhřešili\, děláme z něho lháře a jeho slovo v nás není.\nMoje milé děti! Toto vám píšu\, abyste nehřešili. Zhřeší-li však někdo\, máme přímluvce u Otce: Ježíše Krista spravedlivého. On je smírnou obětí za naše hříchy\, a nejen za naše\, ale i za (hříchy) celého světa.  \nŽalm Žl 103\,1-2.3-4.8-9.13-14.17-18a   \n Veleb\, duše má\, Hospodina .\nNebo: Aleluja.   \nVeleb\, duše má\, Hospodina\,- vše\, co je ve mně\, veleb jeho svaté jméno! –\nVeleb\, duše má\, Hospodina – a nezapomeň za žádné z jeho dobrodiní!\n Odp.\nOn odpouští všechny tvé viny\, – on léčí všechny tvé neduhy. –\nOn vykupuje tvůj život ze záhuby\, – on tě věnčí láskou a slitováním.\n Odp.\nHospodin je milosrdný a milostivý\, – shovívavý a nadmíru dobrotivý. –\nNechce se přít ustavičně\, – ani se hněvat na věky.\n Odp.\nJako se smilovává otec nad syny\, – tak se smilovává Hospodin nad těmi\, kdo se ho bojí. –\nNeboď on ví\, z čeho jsme utvořeni\, má v paměti\, že jsme jen prach.\n Odp.\nHospodinova láska však od věku na věky – pro všechny\, kdo se ho bojí\,-\na jeho spravedlnost jde z dětí na děti – pro ty\, kteří zachovávají jeho smlouvu.  \nEvangelium Mt 11\,25-30\nSlova svatého evangelia podle Matouše.   \nJežíš se ujal slova a řekl: „Velebím tě\, Otče\, Pane nebe a země\, že když jsi tyto věci skryl před moudrými a chytrými\, odhalil jsi je maličkým; ano\, Otče\, tak se ti zalíbilo. Všechno je mi dáno od mého Otce. A nikdo nezná Syna\, jenom Otec\, ani Otce nezná nikdo\, jenom Syn a ten\, komu to chce Syn zjevit. Pojďte ke mně\, všichni\, kdo se lopotíte a jste obtíženi\, a já vás občerstvím. Vezměte na sebe mé jho a učte se ode mě\, neboď jsem tichý a pokorný srdcem a naleznete pro své duše odpočinek. Vždyď mé jho netlačí a mé břemeno netíží.“
URL:https://xn--farnostkrumv-3fb62m.com/udalosti/robert-svatek-sv-kateriny-sienske/
END:VEVENT
BEGIN:VEVENT
DTSTART;VALUE=DATE:20260430
DTEND;VALUE=DATE:20260501
DTSTAMP:20260419T143810
CREATED:20260302T090715Z
LAST-MODIFIED:20260302T094759Z
UID:1935-1777507200-1777507200@xn--farnostkrumv-3fb62m.com
SUMMARY:Blahoslav / sv. Zikmund (čtvrtek 4. velikonočního týdne)
DESCRIPTION:Sk 13\,13-25\nZl 89\nJan 13\,16-20\nBarva: Bílá
URL:https://xn--farnostkrumv-3fb62m.com/udalosti/blahoslav-sv-zikmund-ctvrtek-4-velikonocniho-tydne/
END:VEVENT
END:VCALENDAR