BEGIN:VCALENDAR
VERSION:2.0
PRODID:-//farnostkrumvir.com - ECPv6.15.16//NONSGML v1.0//EN
CALSCALE:GREGORIAN
METHOD:PUBLISH
X-WR-CALNAME:farnostkrumvir.com
X-ORIGINAL-URL:https://xn--farnostkrumv-3fb62m.com
X-WR-CALDESC:Akce na farnostkrumvir.com
REFRESH-INTERVAL;VALUE=DURATION:PT1H
X-Robots-Tag:noindex
X-PUBLISHED-TTL:PT1H
BEGIN:VTIMEZONE
TZID:UTC
BEGIN:STANDARD
TZOFFSETFROM:+0000
TZOFFSETTO:+0000
TZNAME:UTC
DTSTART:20250101T000000
END:STANDARD
END:VTIMEZONE
BEGIN:VEVENT
DTSTART;VALUE=DATE:20261227
DTEND;VALUE=DATE:20261228
DTSTAMP:20260420T054737
CREATED:20260222T131609Z
LAST-MODIFIED:20260323T172457Z
UID:1728-1798329600-1798415999@xn--farnostkrumv-3fb62m.com
SUMMARY:Žaneta / sv. Jan Evangelista (Svátek Svaté rodiny)
DESCRIPTION:Mše svatá – 9:15 \nÚmysl – na požehnání pro naše rodiny \nGn 15\,1-6;21\,1-3\nZl 105(104)\nZid 11\,8.11-12.17-19\nLk 2\,22-40\nBarva: Bílá \n1. ČTENÍ Gn 15\, 1-6; 21\, 1-3\nKdo vyjde z tvého lůna\, ten bude po tobě dědit. \nČtení z první knihy Mojžíšovy.\nHospodin se obrátil na Abráma ve vidění těmito slovy: „Neboj se\, Abráme\, já jsem tvůj štít\, tvá odměna je převeliká.“\nAbrám řekl: „Pane\, Hospodine\, co mi dáš? Nemám děti\, dědicem mého domu bude damašský Eliezer.“ Abrám pokračoval: „Nedal jsi mi potomka\, bude po mně dědit jeden z lidí mého domu.“\nTu mu Hospodin řekl: „Ten po tobě dědit nebude; kdo však vyjde z tvého lůna\, ten bude po tobě dědit.“\nVyvedl ho ven a pravil: „Pohlédni na nebe a spočítej hvězdy\, můžeš-li je spočítat! “ – a dodal: „Tak ( četné ) bude tvé potomstvo!“ ( Abrám ) Hospodinu uvěřil\, a ten ho za to uznal za spravedlivého.\nHospodin navštívil Sáru\, jak slíbil\, a splnil Sáře dané slovo. Sára počala a porodila Abrahámovi v jeho stáří syna\, jak to Bůh předpověděl. Abrahám dal svému narozenému synovi\, kterého mu Sára porodila\, jméno Izák. \nŽl 105 (104)\, 1-2. 3-4. 5-6. 8-9 Odp.: 7a. 8a\nOdp.: Hospodin sám je náš Bůh\, pamatuje věčně na svoji smlouvu. \nOslavujte Hospodina\, vzývejte jeho jméno\, hlásejte mezi národy jeho díla.\nZpívejte mu\, hrejte mu\, vypravujte o všech jeho divech!\nOdp.\nHonoste se jeho svatým jménem\,\nze srdce aď se radují\, kdo hledají Hospodina! Uvažujte o Hospodinu a jeho moci\,\nstále hledejte jeho tvář!\nOdp.\nPamatujte na divy\, které učinil\,\nna jeho zázraky a rozsudky jeho úst\, potomstvo Abraháma\, jeho služebníka\, synové Jakuba\, jeho vyvoleného!\nOdp.\nPamatuje věčně na svoji smlouvu\,\nna slib\, který ustanovil pro tisíc pokolení\, na smlouvu\, kterou sjednal s Abrahámem\, na svou přísahu Izákovi.\nOdp. \n2. ČTENÍ Žid 11\, 8. 11-12. 17-19\nAbrahám\, Sára a Izák věřili. \nČtení z listu Židům.\nBratři!\nProtože Abrahám věřil\, uposlechl ( Boží ) výzvy\, aby se vystěhoval do země\, kterou měl dostat v dědičné držení; vystěhoval se\, ačkoli nevěděl\, kam jde.\nI Sára uvěřila\, a proto dostala sílu stát se matkou\, a to přes svůj pokročilý věk\, protože se spolehla na toho\, který ten slib dal. A tak z jednoho muže\, a to už vetchého\, vzešlo tolik potomků jako hvězd na nebi a jako písku na mořském břehu\, který nikdo nespočítá.\nProtože měl Abrahám víru\, přinesl Izáka v oběď\, když ho Bůh zkoušel. Svého jediného syna chtěl obětovat\, třebaže mu bylo slíbeno: „Od Izáka budeš mít potomky.“ On totiž uvažoval takto: Bůh má dost moci\, aby vzkřísil třebas i mrtvé. Proto také Izáka dostal nazpátek i jako předobraz. \nEVANGELIUM Lk 2\,22-40 \nSlova svatého evangelia podle Lukáše.\nKdyž nadešel čas očišďování podle Mojžíšova Zákona\, přinesli Ježíše do Jeruzaléma\, aby ho představili Pánu\, jak je psáno v Zákoně Páně: „Všechno prvorozené mužského rodu aď je zasvěceno Pánu.“ Přitom chtěli také podat oběď\, jak je nařízeno v Zákoně Páně: pár hrdliček nebo dvě holoubata.\nTehdy žil v Jeruzalémě jeden člověk\, jmenoval se Simeon: byl to člověk spravedlivý a bohabojný a očekával potěšení Izraele a byl v něm Duch svatý. Od Ducha svatého mu bylo zjeveno\, že neuzří smrt\, dokud neuvidí Pánova Mesiáše. Z vnuknutí Ducha přišel do chrámu\, právě když rodiče přinesli dítě Ježíše\, aby s ním vykonali\, co bylo obvyklé podle Zákona. Vzal ho do náručí a takto velebil Boha: „Nyní můžeš\, Hospodine\, podle svého slova propustit svého služebníka v pokoji\, neboď moje oči uviděly spásu\, kterou jsi připravil pro všechny národy: světlo k osvícení pohanům a k slávě tvého izraelského lidu.- Jeho otec i matka byli plni údivu nad slovy\, která o něm slyšeli. Simeon jim požehnal a jeho matce Marii prohlásil: „On je ustanoven k pádu a k povstání mnohých v Izraeli a jako znamení\, kterému se bude odporovat – i tvou vlastní duši pronikne meč – aby vyšlo najevo smýšlení mnoha srdcí.-\nTaké tam byla prorokyně Anna\, dcera Fanuelova z Aserova kmene. Byla značně pokročilého věku: mladá se vdala a sedm roků žila v manželství\, potom sama jako vdova – bylo jí už čtyřiaosmdesát let. Nevycházela z chrámu a sloužila Bohu posty a modlitbami ve dne v noci. Přišla tam právě v tu chvíli\, velebila Boha a mluvila o tom dítěti všem\, kdo očekávali vykoupení Jeruzaléma.\nKdyž vykonali všechno podle Zákona Páně\, vrátili se do Galileje do svého města Nazareta. Dítě rostlo a sílilo\, bylo plné moudrosti a milost Boží byla s ním.
URL:https://xn--farnostkrumv-3fb62m.com/udalosti/zaneta-sv-jan-evangelista-svatek-svate-rodiny/
END:VEVENT
END:VCALENDAR