BEGIN:VCALENDAR
VERSION:2.0
PRODID:-//farnostkrumvir.com - ECPv6.15.16//NONSGML v1.0//EN
CALSCALE:GREGORIAN
METHOD:PUBLISH
X-WR-CALNAME:farnostkrumvir.com
X-ORIGINAL-URL:https://xn--farnostkrumv-3fb62m.com
X-WR-CALDESC:Akce na farnostkrumvir.com
REFRESH-INTERVAL;VALUE=DURATION:PT1H
X-Robots-Tag:noindex
X-PUBLISHED-TTL:PT1H
BEGIN:VTIMEZONE
TZID:UTC
BEGIN:STANDARD
TZOFFSETFROM:+0000
TZOFFSETTO:+0000
TZNAME:UTC
DTSTART:20250101T000000
END:STANDARD
END:VTIMEZONE
BEGIN:VEVENT
DTSTART;VALUE=DATE:20261129
DTEND;VALUE=DATE:20261130
DTSTAMP:20260420T040337
CREATED:20260302T090714Z
LAST-MODIFIED:20260323T171128Z
UID:2444-1795910400-1795996799@xn--farnostkrumv-3fb62m.com
SUMMARY:Zina / sv. Saturnin (1. neděle adventní)
DESCRIPTION:Mše svatá – 9:15 \nÚmysl – za Annu Snopkovu a celou rodinu \nIz 63\,16b-17.19b;64\,2b-7\nZl 80(79)\n1Kor 1\,3-9\nMk 13\,33-37\nBarva: Fialová \n1. ČTENÍ Iz 63\, 16b-17. 19b; 64\, 2b-7\nKéž bys protrhl nebe a sestoupil! \nČtení z knihy proroka Izaiáše.\nTy\, Hospodine\, jsi náš otec\, „náš vykupitel“ je tvoje dávné jméno.\nProč jsi nám dal\, Hospodine\, zbloudit z tvých cest\,\nsrdci dal ztvrdnout\, abychom před tebou neměli bázeň? Usmiř se kvůli svým služebníkům\,\npro kmeny\, které jsou ti vlastní! Kéž bys protrhl nebe a sestoupil! Před tvou tváří by se roz-plynuly hory.\nSestoupil jsi\, a před tvou tváří se rozplynuly hory.\nOd věků (nikdo) neslyšel\, k sluchu (nikomu) neproniklo\, oko nespatřilo\, že by Bůh\, mimo tebe\, (tak) jednal s těmi\, kdo v něho doufají. Zastáváš se těch\, kdo jednají spravedlivě\, kdo pamatují na tvé cesty.\nHle\, ty ses rozhněval\, protože jsme hřešili\, odedávna jsme žili nevěrně.\nByli jsme všichni jak poskvrnění\,\njak špinavý šat byl každý náš dobrý skutek. Zvadli jsme všichni jak listí\,\nnepravost nás unášela jak vítr. Nikdo nevzýval tvé jméno\,\nnikdo se nevzchopil\, aby se k tobě přivinul\, neboď jsi před námi skryl svoji tvář\, nepravosti jsi nás vydal napospas.\nA přece\, Hospodine\, ty jsi náš otec! My hlína jsme – ty jsi nás hnětl\, dílo tvé ruky jsme všich-ni! \nŽl 80 (79)\, 2ac+3b. 15-16. 18-19 Odp.: 4\nOdp.: Bože\, obnov nás\, rozjasni svou tvář\, a budeme spasení. \nSlyš\, Izraelův pastýři\,\nskvěj se září\, ty\, který trůníš nad cheruby\, probuď svou sílu\na přijď nás zachránit!\nOdp.\nBože zástupů\, vraď se\,\nshlédni z nebe a podívej se\, pečuj o tuto révu! Ochraňuj\, co tvá pravice zasadila\,\nvýhonek\, který sis vypěstoval!\nOdp.\nAď je tvá ruka nad mužem po tvé pravici\, nad člověkem\, kterého sis vychoval.\nUž od tebe neustoupíme\,\nzachovej nás naživu\, a budeme velebit tvé jméno.\nOdp. \n2. ČTENÍ 1 Kor 1\, 3-9\nČekáme\, až přijde náš Pán Ježíš Kristus.\nČtení z prvního listu svatého apoštola Pavla Korinďanům.\nBratři !\nMilost vám a pokoj od Boha\, našeho Otce\, a od Pána Ježíše Krista.\nNeustále za vás děkuji svému Bohu pro Boží milost\, která vám byla dána v Kristu Ježíši. Neboď v něm jste v každém ohledu získali bohatství všeho druhu\, jak v nauce\, tak v poznání. Vždyď přece svědectví o Kristu bylo u vás jako pravé dokázáno\, takže nejste pozadu v žád-ném Božím daru; jen ještě musíte vytrvale čekat\, až přijde náš Pán Ježíš Kristus. On vám také dá\, že vytrváte až do konce\, takže budete bez úhony v onen den našeho Pána Ježíše Krista. Věrný je Bůh\, a on vás povolal k tomu\, abyste měli společenství s jeho Synem Ježíšem Kris-tem\, naším Pánem! \nEVANGELIUM Mk 13\, 33-37\nBděte: nevíte\, kdy při jde pán domu.\nSlova svatého evangelia podle Marka.\nJežíš řekl svým učedníkům:\n„Dejte si pozor\, bděte\, protože nevíte\, kdy přijde poslední den. Je to podobně jako s člověkem\, který se vydal na cesty. Odešel z domu\, dal svým služebníkům plnou moc\, každému jeho práci\, a vrátnému nařídil\, aby bděl. Bděte tedy\, protože nevíte\, kdy přijde pán domu\, zdali navečer\, nebo o půlnoci\, nebo za kuropění\, nebo ráno\, aby vás\, až znenadání přijde\, nezastihl\, jak spíte.\nCo říkám vám\, říkám všem: Bděte!“
URL:https://xn--farnostkrumv-3fb62m.com/udalosti/zina-sv-saturnin-1-nedele-adventni/
END:VEVENT
END:VCALENDAR