BEGIN:VCALENDAR
VERSION:2.0
PRODID:-//farnostkrumvir.com - ECPv6.15.16//NONSGML v1.0//EN
CALSCALE:GREGORIAN
METHOD:PUBLISH
X-WR-CALNAME:farnostkrumvir.com
X-ORIGINAL-URL:https://xn--farnostkrumv-3fb62m.com
X-WR-CALDESC:Akce na farnostkrumvir.com
REFRESH-INTERVAL;VALUE=DURATION:PT1H
X-Robots-Tag:noindex
X-PUBLISHED-TTL:PT1H
BEGIN:VTIMEZONE
TZID:UTC
BEGIN:STANDARD
TZOFFSETFROM:+0000
TZOFFSETTO:+0000
TZNAME:UTC
DTSTART:20250101T000000
END:STANDARD
END:VTIMEZONE
BEGIN:VEVENT
DTSTART;VALUE=DATE:20261115
DTEND;VALUE=DATE:20261116
DTSTAMP:20260420T054736
CREATED:20260302T090714Z
LAST-MODIFIED:20260323T170514Z
UID:2430-1794700800-1794787199@xn--farnostkrumv-3fb62m.com
SUMMARY:Leopold / sv. Albert Veliký (33. neděle v mezidobí)
DESCRIPTION:Mše savtá – 9:15 \nÚmysl – na poděkování za společný život 54 let manželů Buchtových \nPr 31\,10-13.19-20.30-31\nZl 128 (127)\n1Sol 5\,1-6\nMt 25\,14-30\nBarva: Zelená \n1. ČTENÍ Př 31\,10-13.19-20.30-31\nPracuje radostnou rukou. \nČtení z knihy Přísloví.\nŘádnou ženu\, kdo ji najde? Větší cenu má než perly.\nSrdce jejího manžela na ni spoléhá\, o zisk nemá nouzi.\nPřináší mu jen prospěch\, nikdy škodu\, po všechny dny svého života.\nShání vlnu a len\, pracuje radostnou rukou.\nSvýma rukama sahá po kuželi\, její prsty se chápou vřetena.\nSvou dlaň otvírá ubožákovi\, své rámě nabízí chudákovi. Půvab zklame\, krása prchne\,\nzato žena\, která ctí Hospodina\, zaslouží si chválu. Dejte jí z výtěžku jejích rukou\,\nneboď u bran ji chválí její díla. \nŽl 128 (127)\, 1-2.3.4-5 Odp.: 1a\nOdp.: Blaze každému\, kdo se bojí Hospodina.\nBlaze každému\, kdo se bojí Hospodina\, kdo kráčí po jeho cestách.\nBudeš jísti z výtěžku svých rukou\, bude ti blaze a dobře.\nOdp.\nTvá manželka bude jako plodná réva uvnitř tvého domu.\nTvoji synové jako výhonky oliv kolem tvého stolu.\nOdp. Hle\, tak bývá požehnán muž\, který se bojí Hospodina.\nAď ti Hospodin požehná ze Siónu\,\nabys viděl štěstí Jeruzaléma po všechny dny svého života. Odp. \n2. ČTENÍ 1Sol 5\,1-6\nAby vás den Páně nepřekvapil jako zloděj.\nČtení z prvního listu svatého apoštola Pavla Soluňanům.\nCo se týká času a chvíle (příchodu Páně)\, není třeba\, bratři\, abychom vám o tom psali. Víte totiž sami velmi dobře\, že onen den Páně přijde jako zloděj v noci.\nAž budou lidé říkat: „Je pokoj a bezpečí“\, tu na ně znenadání přitrhne záhuba jako porodní bolesti na těhotnou ženu. Nebudou moci jim uniknout. Ale vy\, bratři\, nejste ve tmě\, že by vás ten den překvapil jako zloděj. Vy všichni jste přece synové světla a dne\, noc ani tma nemá nad vámi právo!\nNesmíme se tedy oddávat spánku jako ostatní\, ale naopak: zůstaňme bdělí a střízliví. \nEVANGELIUM Mt 25\,14-30\nMálo jsi spravoval věrně\, pojď se radovat se svým pánem. \nSlova svatého evangelia podle Matouše.\nJežíš řekl svým učedníkům toto podobenství:\n„Jeden člověk se chystal na cesty: zavolal si služebníky a svěřil jim svůj majetek. Jednomu dal pět hřiven\, druhému dvě a třetímu jednu\, každému podle jeho schopností\, a odcestoval. Ten\, který dostal pět hřiven\, hned šel\, podnikavě jich využil a vyzískal pět dalších. Stejně i ten\, který dostal dvě\, vyzískal dvě další. Ale ten\, který dostal jednu\, šel\, vykopal v zemi jámu a peníze svého pána ukryl.\nPo delší době se pán těch služebníků vrátil a dal se s nimi do účtování.\nPřistoupil ten\, který dostal pět hřiven\, přinesl s sebou pět dalších a řekl: „Pane\, pět hřiven jsi mi svěřil\, hle – dalších pět jsem vydělal.“ Pán mu řekl: „Správně\, služebníku dobrý a věrný. Málo jsi spravoval věrně\, mnoho ti svěřím. Pojď se radovat se svým pánem.“\nPřistoupil i ten\, který dostal dvě hřivny\, a řekl: „Pane\, dvě hřivny jsi mi svěřil\, hle – další dvě jsem vydělal.“ Pán mu řekl: „Správně\, služebníku dobrý a věrný. Málo jsi spravoval věrně\, mnoho ti svěřím. Pojď se radovat se svým pánem.“\nPřistoupil pak i ten\, který dostal jednu hřivnu\, a řekl: „Pane\, vím\, že jsi tvrdý člověk; sklízíš\, kde jsi nesel\, a sbíráš\, kde jsi nerozsypal. Měl jsem strach\, a proto jsem tvou hřivnu ukryl v zemi. Tady máš\, co ti patří.“\nPán mu odpověděl: „Služebníku špatný a líný! Věděl jsi\, že sklízím\, kde jsem nesel\, a sbírám\, kde jsem nerozsypal? Měl jsi tedy moje peníze uložit u směnárníků\, a já bych si při návratu vyzvedl i s úrokem\, co je moje. Vezměte mu tu hřivnu a dejte tomu\, který má deset hřiven. Neboď každému\, kdo má\, bude dáno\, a bude mít nadbytek. Kdo nemá\, tomu bude vzato i to\, co má. A tohoto služebníka\, který není k ničemu\, hoďte ven do temnot. Tam bude pláč a skřípění zubů.“
URL:https://xn--farnostkrumv-3fb62m.com/udalosti/leopold-sv-albert-veliky-33-nedele-v-mezidobi/
END:VEVENT
END:VCALENDAR