BEGIN:VCALENDAR
VERSION:2.0
PRODID:-//farnostkrumvir.com - ECPv6.15.16//NONSGML v1.0//EN
CALSCALE:GREGORIAN
METHOD:PUBLISH
X-ORIGINAL-URL:https://xn--farnostkrumv-3fb62m.com
X-WR-CALDESC:Akce na farnostkrumvir.com
REFRESH-INTERVAL;VALUE=DURATION:PT1H
X-Robots-Tag:noindex
X-PUBLISHED-TTL:PT1H
BEGIN:VTIMEZONE
TZID:UTC
BEGIN:STANDARD
TZOFFSETFROM:+0000
TZOFFSETTO:+0000
TZNAME:UTC
DTSTART:20250101T000000
END:STANDARD
END:VTIMEZONE
BEGIN:VEVENT
DTSTART;VALUE=DATE:20261108
DTEND;VALUE=DATE:20261109
DTSTAMP:20260420T054824
CREATED:20260302T090713Z
LAST-MODIFIED:20260323T170327Z
UID:2423-1794096000-1794182399@xn--farnostkrumv-3fb62m.com
SUMMARY:Bohumír / sv. Gottfried (Bohumír) (32. neděle v mezidobí)
DESCRIPTION:Mše svatá – 9:15 \nÚmysl – za Ludmilu Peterkovu a rodiče \nMdr 6\,12-16\nZl 63(62)\n1Sol 4\,13-18\nMt 25\,1-13\nBarva: Zelená \n1. ČTENÍ Mdr 6\,12-16\nMoudrost se dává nalézt těmi\, kdo ji hledají.\nČtení z knihy Moudrosti.\nMoudrost září a nevadne\, snadno ji vidí ti\, kdo ji milují\, dává se nalézt těmi\, kdo ji hledají.\nPředchází ty\, kdo po ní touží\, a ukazuje se jim první. Neunaví se\, kdo k ní časně přichází\, najde ji\, jak mu sedí u dveří.\nMyslet totiž na ni je svrchovaná prozíravost\, kdo kvůli ní bdí\, brzy je bez starosti.\nVždyď sama obchází a hledá ty\, kdo jsou jí hodni\, na cestách se jim ukazuje s přízní\na při každé myšlence jim vychází vstříc. \nŽl 63 (62)\, 2.3-4.5-6.7-8 Odp.: 2b\nOdp.: Má duše po tobě žízní\, Pane\, můj Bože! \nBože\, ty jsi můj Bůh\,\nsnažně tě hledám\,\nmá duše po tobě žízní\, prahne po tobě mé tělo\, jak vyprahlá\, žíznivá\, bezvodá země.\nOdp.\nTak toužím tě spatřit ve svatyni\, abych viděl tvou moc a slávu. Vždyď tvá milost je lepší než život\, mé rty tě budou chválit.\nOdp. Tak tě budu velebit ve svém životě\,\nv tvém jménu povznesu své dlaně k modlitbě. Má duše se bude sytit jak tukem a morkem\, plesajícími rty zajásají ústa.\nOdp. Kdykoli na tebe vzpomenu na svém lůžku\, v nočních hodinách budu na tebe myslet. Neboď stal ses mým pomocníkem\na ve stínu tvých křídel jásám. Odp. \n2. ČTENÍ 1Sol 4\,13-18\nS Ježíšem přivede Bůh i ty\, kdo zesnulí ve spojení s ním.\nČtení z prvního listu svatého apoštola Pavla Soluňanům.\nNechceme vás\, bratři\, nechat v nevědomosti o těch\, kteří už zemřeli. Nesmíte pro ně truchlit tak jako ostatní\, kdo nemají naději. Poněvadž věříme\, že Ježíš umřel i vstal z mrtvých\, věříme také\, že s Ježíšem přivede Bůh i ty\, kdo zesnuli ve spojení s ním. Říkáme vám to přece\, jak nás Pán o tom poučil: My živí\, kteří se dožijeme příchodu Páně\, nepředstihneme ty\, kdo budou už mrtví.\nAž totiž bude dán rozkaz\, až zazní archandělův hlas a Boží polnice\, sám Pán sestoupí z nebe. Napřed vstanou zemřelí křesďané\, potom my\, kteří do té chvíle zůstaneme naživu\, budeme spolu s nimi uchváceni v oblacích do vzduchu vstříc Pánu. A pak už budeme s Pánem navždycky. Těšte se proto navzájem těmito slovy. \nEVANGELIUM Mt 25\,1-13\nŽenich je tady! Jděte mu naproti!\nSlova svatého evangelia podle Matouše.\nJežíš řekl svým učedníkům toto podobenství:\n„Nebeské království je podobné deseti pannám\, které vzaly lampy a vyšly naproti ženichovi. Pět z nich bylo pošetilých a pět prozíravých. Pošetilé vzaly sice lampy\, ale nevzaly s sebou olej\, prozíravé si však vzaly s lampami také do nádobek olej. Když ženich dlouho nepřicházel\, začaly všechny podřimovat a usnuly.\nUprostřed noci se strhl křik: „Ženich je tady! Jděte mu naproti!“ Tu všechny ty panny vstaly a začaly si upravovat lampy. Pošetilé prosily prozíravé: „Dejte nám trochu oleje\, lampy nám dohasínají.“ Ale prozíravé odpověděly: „Nemůžeme\, nestačilo by pak ani nám\, ani vám\, dojděte si raději k prodavačům a kupte si.“\nJakmile však odešly nakoupit\, přišel ženich a ty připravené vešly s ním na svatbu a dveře se zavřely. Později přišly i ostatní panny a volaly: „Pane\, pane\, otevři nám!“ On však odpověděl: „Amen\, pravím vám: Neznám vás.“\nBděte tedy\, protože neznáte den ani hodinu.“
URL:https://xn--farnostkrumv-3fb62m.com/udalosti/bohumir-sv-gottfried-bohumir-32-nedele-v-mezidobi/
END:VEVENT
END:VCALENDAR