BEGIN:VCALENDAR
VERSION:2.0
PRODID:-//farnostkrumvir.com - ECPv6.15.16//NONSGML v1.0//EN
CALSCALE:GREGORIAN
METHOD:PUBLISH
X-ORIGINAL-URL:https://xn--farnostkrumv-3fb62m.com
X-WR-CALDESC:Akce na farnostkrumvir.com
REFRESH-INTERVAL;VALUE=DURATION:PT1H
X-Robots-Tag:noindex
X-PUBLISHED-TTL:PT1H
BEGIN:VTIMEZONE
TZID:UTC
BEGIN:STANDARD
TZOFFSETFROM:+0000
TZOFFSETTO:+0000
TZNAME:UTC
DTSTART:20250101T000000
END:STANDARD
END:VTIMEZONE
BEGIN:VEVENT
DTSTART;VALUE=DATE:20261101
DTEND;VALUE=DATE:20261102
DTSTAMP:20260420T022901
CREATED:20260222T130308Z
LAST-MODIFIED:20260323T170155Z
UID:1666-1793491200-1793577599@xn--farnostkrumv-3fb62m.com
SUMMARY:Felix / Slavnost Všech svatých
DESCRIPTION:Mše svatá – 9:15 \nÚmysl – za Antonína Vytrhlíka a celou rodinu \nZj 7\,2-4.9-14\nZl 24(23)\n1Jan 3\,1-3\nMt 5\,1-12a\nBarva: Bílá \nPRVNÍ ČTENÍ Zj 7\, 2 – 4. 9 – 14\nHle – veliký zástup\, který by nikdo nespočítal\, ze všech národů\, kmenů\, plemen a jazyků.\nČtení z knihy Zjevení svatého apoštola Jana.\nJá\, Jan\, viděl jsem\, jak od východu slunce vystupuje jiný anděl. Držel v ruce pečetidlo živého Boha a zvolal sil-ným hlasem na ty čtyři anděly\, kterým bylo dáno škodit zemi i moři: „Neškoďte zemi\, ani moři\, ani stromům\, do-kud nepoznamenáme na čele služebníky našeho Boha!“ A uslyšel jsem\, kolik bylo těch poznamenaných: sto čty-řiačtyřicet tisíc ze všech kmenů izraelského lidu.\nPotom se podívám\, a hle – veliký zástup\, .který by nikdo nespočítal\, ze všech národů\, kmenů\, plemen a jazyků; stáli před trůnem a před Beránkem\, odění bílým rouchem\, s palmami v rukou a volali mocným hlasem: „Za svou záchranu vděčíme našemu Bohu\, který sedí na trůně\, a Beránkovi! “\nVšichni andělé\, kteří stáli okolo trůnu\, starců a čtyř by-tostí\, padli na tvář před trůnem\, klaněli se Bohu a volali: „Amen. Chvála\, sláva\, moudrost\, díky\, čest\, moc a síla pří-sluší našemu Bohu na věčné věky! Amen.“ \nŽl 24 (23)\, 1 – 2. 3 – 4ab. 5 – 6 Odp.: srv. 6\nOdp.: To je pokolení těch\, kdo hledají tvou tvář\, Hospodine! \nHospodinu náleží země i to\, co je na ní\, svět i ti\, kdo jej obývají.Neboď on jej založil nad moři\, upevnil ho nad proudy vod.\nOdp.\nKdo smí vystoupit na Hospodinovu horu\, kdo smí stát na jeho svatém místě?\nTen\, kdo má nevinné ruce a čisté srdce\, jehož duše nebaží po marnosti.\nOdp.\nTen přijme požehnání od Hospodina\, odměnu od Boha\, svého spasitele.\nTo je pokolení těch\, kdo po něm touží\, kdo hledají tvář Jakubova Boha.\nOdp. \nDRUHÉ ČTENÍ 1 Jan 3\, 1- 3\nBudeme vidět Boha tak\, jak je. \nČtení z prvního listu svatého apoštola Jana.\nMilovaní!\nHleďte\, jak velikou lásku nám Otec projevil\, že se nejen smíme nazývat Božími dětmi\, ale že jimi také jsme! Proto nás svět nezná\, že nepoznal jeho.\nMilovaní\, už teď jsme Boží děti. Ale čím budeme\, není ještě zřejmé. Víme však\, že až on se ukáže\, budeme mu po-dobní\, a proto ho budeme vidět tak\, jak je.Každý\, kdo skládá tuto naději v něho\, uchovává se čistý\, jako on je čistý. \nEVANGELIUM Mt 5\, 1 – 12a\nRadujte se a jásejte\, neboď máte v nebi velkou odměnu. \nSlova svatého evangelia podle Matouše. \nKdyž Ježíš uviděl zástupy\, vystoupil na horu\, a jak se posadil\, přistoupili k němu jeho učedníci. Otevřel ústa a učil je:\nBlahoslavení chudí v duchu\, neboď jejich je nebeské království. Blahoslavení plačící\, neboď oni budou potěšeni. Blahoslavení tiší\, neboď oni dostanou zemi za dědictví. Blahoslavení\, kdo lační a žízní po spravedlnosti\, neboď oni budou nasyceni. Blahoslavení milosrdní\, neboď oni dojdou milosrdenství. Blahoslavení čistého srdce\, neboď oni budou vidět Boha.\nBlahoslavení tvůrci pokoje\, neboď oni budou nazváni Božími syny.\nBlahoslavení\, kdo jsou pronásledováni pro spravedlnost\, neboď jejich je nebeské království.\nBlahoslavení jste\, když vás budou kvůli mně tupit\, pro-následovat a vylhaně vám připisovat každou špatnost; ra-dujte se a jásejte\, neboď máte v nebi velkou odměnu.“
URL:https://xn--farnostkrumv-3fb62m.com/udalosti/felix-slavnost-vsech-svatych/
END:VEVENT
END:VCALENDAR