BEGIN:VCALENDAR
VERSION:2.0
PRODID:-//farnostkrumvir.com - ECPv6.15.16//NONSGML v1.0//EN
CALSCALE:GREGORIAN
METHOD:PUBLISH
X-WR-CALNAME:farnostkrumvir.com
X-ORIGINAL-URL:https://xn--farnostkrumv-3fb62m.com
X-WR-CALDESC:Akce na farnostkrumvir.com
REFRESH-INTERVAL;VALUE=DURATION:PT1H
X-Robots-Tag:noindex
X-PUBLISHED-TTL:PT1H
BEGIN:VTIMEZONE
TZID:UTC
BEGIN:STANDARD
TZOFFSETFROM:+0000
TZOFFSETTO:+0000
TZNAME:UTC
DTSTART:20250101T000000
END:STANDARD
END:VTIMEZONE
BEGIN:VEVENT
DTSTART;VALUE=DATE:20261018
DTEND;VALUE=DATE:20261019
DTSTAMP:20260420T022817
CREATED:20260302T090713Z
LAST-MODIFIED:20260323T165801Z
UID:2402-1792281600-1792367999@xn--farnostkrumv-3fb62m.com
SUMMARY:Lukáš / Svátek sv. Lukáše (29. neděle v mezidobí)
DESCRIPTION:Mše svatá – 9:15 \nÚmysl – za Zdenku a Františka Burýškovy \nIz 45\,1.4-6\nZl 96(95)\n1Sol 1\,1-5b\nMt 22\,15-21\nBarva: Zelená \n1. ČTENÍ Iz 45\,1.4-6\nVzal jsem Kýra za pravou ruku\, abych mu podmanil národy. \nČtení z knihy proroka Izaiáše. \nToto praví Hospodin svému pomazanému Kýrovi\, kterého jsem vzal za pravou ruku\, abych mu podmanil národy\, abych odpásal bedra králů\, abych před ním otevřel vrata\, aby žádná brána nezůstala uzavřena: „Pro svého služebníka Jakuba\, pro Izraele\, svého vyvoleného\, zavolal jsem tě jménem\, poctil jsem tě\, i když jsi mě neznal.\nJá jsem Hospodin\, jiný není\, není Bůh mimo mne. Přepášu tě\, i když mě neznáš\,\naby se poznalo od východu slunce i od západu\, že mimo mne jiný není.\nJá jsem Hospodin\, a nikdo jiný (není Bohem). \nŽl 96 (95)\, 1+3. 4-5. 7-8. 9-10a+c Odp.: 7b\nOdp.: Vzdejte Hospodinu slávu a moc! \nZpívejte Hospodinu píseň novou\, zpívejte Hospodinu\, všechny země! Vypravujte mezi pohany o jeho slávě\, mezi všemi národy o jeho divech. Odp.\nNeboď Hospodin je veliký a velmi hodný chvály\, je třeba se ho bát více nežli všech bohů.\nNeboď všichni bohové pohanů jsou výmysly\, Hospodin však stvořil nebe.\nOdp.\nVzdejte Hospodinu\, rodiny národů\, vzdejte Hospodinu slávu a moc\,\nvzdejte Hospodinu slávu\, hodnou jeho jména. Přineste oběď a vstupte do jeho nádvoří.\nOdp.\nV posvátném rouchu klaňte se Hospodinu! Třeste se před ním\, všechny země! Hlásejte mezi pohany: Hospodin kraluje\, národy řídí podle práva.\nOdp. \n2. ČTENÍ 1Sol 1\,1-5b\nVzpomínáme na vaši víru\, lásku a naději.\nČtení z prvního listu svatého apoštola Pavla Soluňanům.\nPavel\, Silván a Timotej soluňské církevní obci\, která je ve spojení s Bohem Otcem a s Pánem Ježíšem Kristem. Milost vám a pokoj!\nStále děkujeme Bohu za vás za všechny\, když si vás připomínáme ve svých modlitbách. Před naším Bohem a Otcem vzpomínáme bez přestání\, jak je vaše víra účinná\, láska obětavá a naděje v našeho Pána Ježíše vytrvalá.\nVíme o vašem vyvolení\, bratři Bohem milovaní. Když jsme vám přinesli evangelium\, nebyla to jen pouhá slova\, naopak: bylo to provázeno projevy moci\, činností Ducha svatého a hlubokým přesvědčením. \nEVANGELIUM Mt 22\,15-21\nDávejte\, co je císařovo\, císaři\, a co je Boží\, Bohu.\nSlova svatého evangelia podle Matouše.\nFarizeové odešli od Ježíše a uradili se\, jak by ho chytili za slovo.\nPoslali k němu své učedníky zároveň s herodovci\, aby mu řekli: „Mistře\, víme\, že jsi pravdomluvný\, a že učíš cestě k Bohu podle pravdy. Nedbáš lidských ohledů\, nehledíš totiž na to\, čím kdo je. Pověz nám tedy: Co myslíš\, je dovoleno platit daň císaři\, nebo ne?“\nJežíš prohlédl jejich zlý úmysl a odpověděl: „Co mě pokoušíte\, pokrytci? Ukažte mi peníz\, kterým se platí daň!“ Podali mu denár.\nZeptal se jich: „Čí je to obraz a nápis?“ Odpověděli: „Císařův.“\nTu jim řekl: „Dávejte tedy\, co je císařovo\, císaři\, a co je Boží\, Bohu.“
URL:https://xn--farnostkrumv-3fb62m.com/udalosti/lukas-svatek-sv-lukase-29-nedele-v-mezidobi/
END:VEVENT
END:VCALENDAR