BEGIN:VCALENDAR
VERSION:2.0
PRODID:-//farnostkrumvir.com - ECPv6.15.16//NONSGML v1.0//EN
CALSCALE:GREGORIAN
METHOD:PUBLISH
X-ORIGINAL-URL:https://xn--farnostkrumv-3fb62m.com
X-WR-CALDESC:Akce na farnostkrumvir.com
REFRESH-INTERVAL;VALUE=DURATION:PT1H
X-Robots-Tag:noindex
X-PUBLISHED-TTL:PT1H
BEGIN:VTIMEZONE
TZID:UTC
BEGIN:STANDARD
TZOFFSETFROM:+0000
TZOFFSETTO:+0000
TZNAME:UTC
DTSTART:20250101T000000
END:STANDARD
END:VTIMEZONE
BEGIN:VEVENT
DTSTART;VALUE=DATE:20261011
DTEND;VALUE=DATE:20261012
DTSTAMP:20260420T022901
CREATED:20260302T090713Z
LAST-MODIFIED:20260323T165550Z
UID:2395-1791676800-1791763199@xn--farnostkrumv-3fb62m.com
SUMMARY:Andrej / sv. German (28. neděle v mezidobí)
DESCRIPTION:Mše svatá – 9:15 \nÚmysl – za rodinu Pikovu a Šťastnou \nIz 25\,6-l0a\nZl 23 (22)\nFlp 4\,12-14.19-20\nMt 22\,1-14\nBarva: Zelená \n1. ČTENÍ Iz 25\,6-l0a\nHospodin vystrojí hostinu a setře slzy z každé tváře. \nČtení z knihy proroka Izaiáše.\nHospodin zástupů vystrojí všem národům na této hoře tučné hody\, hody s výborným vínem; budou to šďavnatá jídla a vybraná vína.\nNa této hoře sejme závoj\, který halil všechny lidi\, přikrývku\, která kryla všechny národy. Zničí smrt navždy\, Pán\, Hospodin\, setře slzy z každé tváře. Odejme na celé zemi hanbu svého lidu\, neboď Hospodin to pravil.\nV ten čas se řekne: „Hle\, náš Bůh\, doufali jsme v něho\, že nás vysvobodí; on je Hospodin\, v něho jsme doufali\, jásejme a radujme se z jeho spásy\,\nneboď Hospodinova ruka spočine na této hoře.“ \nŽl 23 (22)\, 1-3a. 3b-4. 5-8 Odp.: 6cd\nOdp.: Smím přebývat v Hospodinově domě\nna dlouhé\, předlouhé časy. \nHospodin je můj pastýř\, nic nepostrádám\, dává mi prodlévat na svěžích pastvinách\, vodí mě k vodám\, kde si mohu odpočinout\, občerstvuje mou duši.\nOdp. Vede mě po správných cestách pro svoje jméno.\nI kdybych šel temnotou rokle\, nezaleknu se zla\, vždyď ty jsi se mnou. Tvůj kyj a tvá hůl\,\nty jsou má útěcha. Odp.\nProstíráš pro mě stůl\npřed zraky mých nepřátel\, hlavu mi mažeš olejem\, má číše přetéká.\nOdp. Štěstí a přízeň mě provázejí po všechny dny mého života\, přebývat smím v Hospodinově domě na dlouhé\, předlouhé časy.\nOdp. \n2. ČTENÍ Flp 4\,12-14.19-20\nVšechno mohu v tom\, který mi dává sílu.\nČtení z listu svatého apoštola Pavla Filipanům.\nBratři!\nDovedu žít v odříkání\, a dovedu žít v hojnosti. Seznámil jsem se důvěrně se vším: se sytostí i hladověním\, s nadbytkem i nedostatkem. Všechno mohu v tom\, který mi dává sílu. Ale jste hodní\, že jste mi pomohli v mém tíživém postavení.\nA protože můj Bůh je přebohatý\, skvěle vám to odplatí skrze Krista Ježíše ve všem\, cokoli budete potřebovat. Bohu\, našemu Otci\, bud“ sláva na věčné věky! Amen. \nEVANGELIUM Mt 22\,1-14\nPozvěte na svatbu\, koho najdete.\nSlova svatého evangelia podle Matouše.\nJežíš mluvil k velekněžím a starším lidu v podobenstvích:\n„Nebeské království je podobné králi\, který vystrojil svému synovi svatbu. Poslal služebníky\, aby svolali hosty na svatbu\, ale ti nechtěli přijít.\nPoslal znovu jiné služebníky se vzkazem: „Řekněte pozvaným: Hostinu jsem přichystal\, moji býci a krmný dobytek jsou poraženi\, všechno je připraveno\, pojďte na svatbu!“ Ale oni nedbali a odešli\, jeden na své pole\, jiný za svým obchodem. Ostatní pochytali jeho služebníky\, ztýrali je a zabili.\nKrále to rozhněvalo. Poslal svá vojska\, vrahy zahubil a jejich město vypálil.\nPotom řekl svým služebníkům: „Svatební hostina je sice připravena\, ale pozvaní jí nebyli hodni. Jděte proto na rozcestí a pozvěte na svatbu\, koho najdete.“ Služebníci vyšli na cesty a shromáždili všechny\, které našli\, zlé i dobré\, takže svatební síň byla plná hostí.\nKdyž vstoupil král podívat se na hosty\, uviděl tam člověka\, který neměl na sobě svatební šaty. Řekl mu: „Příteli\, jak jsi sem přišel bez svatebních šatů?“ On se nezmohl na slovo. Tu řekl král sloužícím: „Svažte mu ruce i nohy a vyhoďte ho ven do temnot. Tam bude pláč a skřípění zubů.“\nMnoho je totiž povolaných\, ale málo vyvolených.“
URL:https://xn--farnostkrumv-3fb62m.com/udalosti/andrej-sv-german-28-nedele-v-mezidobi/
END:VEVENT
END:VCALENDAR