BEGIN:VCALENDAR
VERSION:2.0
PRODID:-//farnostkrumvir.com - ECPv6.15.16//NONSGML v1.0//EN
CALSCALE:GREGORIAN
METHOD:PUBLISH
X-WR-CALNAME:farnostkrumvir.com
X-ORIGINAL-URL:https://xn--farnostkrumv-3fb62m.com
X-WR-CALDESC:Akce na farnostkrumvir.com
REFRESH-INTERVAL;VALUE=DURATION:PT1H
X-Robots-Tag:noindex
X-PUBLISHED-TTL:PT1H
BEGIN:VTIMEZONE
TZID:UTC
BEGIN:STANDARD
TZOFFSETFROM:+0000
TZOFFSETTO:+0000
TZNAME:UTC
DTSTART:20250101T000000
END:STANDARD
END:VTIMEZONE
BEGIN:VEVENT
DTSTART;VALUE=DATE:20261004
DTEND;VALUE=DATE:20261005
DTSTAMP:20260420T005123
CREATED:20260302T090713Z
LAST-MODIFIED:20260323T165429Z
UID:2388-1791072000-1791158399@xn--farnostkrumv-3fb62m.com
SUMMARY:František / sv. František z Assisi (27. neděle v mezidobí)
DESCRIPTION:Mše svatá – 9:15 \nÚmysl – za rodinu Benešovu \nIz 5\,1-7\nZI 80(79)\nFlp 4\,6-9\nMt 21\,33-43\nBarva: Zelená \n1. ČTENÍ Iz 5\,1-7\nVinicí Hospodina zástupů je dům Izraele. \nČtení z knihy proroka Izaiáše. \nZazpívám ( píseň ) svého přítele\, píseň svého miláčka o jeho vinici.\nVinici měl můj přítel na úrodném svahu.\nOkopal ji\, očistil od kamení\, osázel ji ušlechtilou révou. Uprostřed postavil věž\,\ni lis v ní vyhloubil: čekal\, že ponese hrozny\, ona však plodila pláňata.\nNyní tedy\, obyvatelé Jeruzaléma\, judští mužové\,\nsuďte mezi mnou a mou vinicí!\nCo jsem měl ještě udělat své vinici a neudělal jsem?\nKdyž jsem čekal\, že ponese hrozny\, proč přinesla plané plody?\nTed“ vám ukážu\, co udělám své vinici: odstraním její plot\, že bude pastviskem\, rozbořím její zeď\, že ji rozšlapou. Udělám z ní pustinu\, nebude ořezána ani okopána\, vzroste v trní a hloží. Mrakům dám příkaz\, aby ji neskropily deštěm.\nVinicí Hospodina zástupů je dům Izraele\, Judovci – jeho milou sazenicí.\nČekal spravedlnost\, a hle – nepravost\, (čekal) právo\, a hle – bezpráví! \nŽI 80 (79)\, 9+12. 13-14. 15-18. 19-20 Odp.: Iz 5\, 7a\nOdp.: Dům Izraele je vinicí Páně.\nRévu z Egypta jsi přenesl\, Bože\, vyhnals pohany a zasadils ji. Vyhnala své ratolesti až k moři a své úponky až k Řece.\nOdp.\nProč jsi dal strhnout její ohradu? Všichni ji obírají\, kdo chodí kolem. Pustoší ji kanec z lesa a polní zvěř ji spásá. Odp.\nBože zástupů\, vraď se\,\nshlédni z nebe a podívej se\, pečuj o tuto révu! Ochraňuj\, co tvá pravice zasadila\,\nvýhonek\, který sis vypěstoval! Odp.\nUž od tebe neustoupíme\,\nzachovej nás naživu\, a budeme velebit tvé jméno. Hospodine\, Bože zástupů\, obnov nás\,\nrozjasni svou tvář\, a budeme spaseni. Odp. \n2. ČTENÍ Flp 4\,6-9\nBůh\, dárce pokoje\, bude s vámi.\nČtení z listu svatého apoštola Pavla Filipanům.\nBratři!\nO nic nemějte starost! Ale ve všem předkládejte Bohu své potřeby v modlitbě a prosbě s děkováním. Pak Boží pokoj\, který převyšuje všecko pomyšlení\, uchrání vaše srdce a vaše myšlenky v Kristu Ježíši.\nKonečně\, bratři\, mějte zájem o všechno\, co je pravdivé\, co je čestné\, co je spravedlivé\, co je nevinné\, co je milé\, co slouží dobré pověsti\, a o každou zdatnost nebo činnost\, která si zasluhuje chvály. Dělejte i nadále to\, čemu jste se ode mě naučili\, co jste ode mě převzali\, ode mě slyšeli a na mně viděli. A Bůh\, dárce pokoje\, bude s vámi. \nEVANGELIUM Mt 21\,33-43\nVinici pronajme jiným vinařům. \nSlova svatého evangelia podle Matouše.\nJežíš řekl velekněžím a starším lidu:\n„Poslyšte toto podobenství: Byl jeden hospodář a ten vysázel vinici. Obehnal ji plotem\, vykopal v ní jámu pro lis a vystavěl strážní věž\, pronajal ji vinařům a vydal se na cesty. Když se přiblížilo vinobraní\, poslal k vinařům své služebníky vyzvednout z ní výtěžek. Ale vinaři jeho služebníky popadli\, jednoho zbili\, druhého zabili\, třetího ukamenovali. (Hospodář) poslal tedy jiné služebníky\, ještě ve větším počtu než poprvé\, ale naložili s nimi zrovna tak.\nNaposled k nim poslal svého syna; myslel si: „Na mého syna budou mít ohled.“\nKdyž však vinaři uviděli syna\, řekli si mezi sebou: „To je dědic. Pojďte\, zabijme ho\, a jeho dědictví bude naše!“ A popadli ho\, vyhnali ven z vinice a zabili. Až pak přijde pán té vinice\, co asi s těmi vinaři udělá?“\nOdpověděli mu: „Krutě ty zlosyny zahubí a svou vinici pronajme jiným vinařům\, kteří mu budou ve svůj čas odvádět výtěžek.“\nJežíš jim řekl: „Nečetli jste nikdy v Písmě: „Kámen\, který stavitelé odvrhli\, stal se kvádrem nárožním. Učinil to Pán a v našich očích je to podivuhodné?“ Proto vám říkám: Vám bude Boží království odňato a bude dáno národu\, který ponese jeho ovoce.“
URL:https://xn--farnostkrumv-3fb62m.com/udalosti/frantisek-sv-frantisek-z-assisi-27-nedele-v-mezidobi/
END:VEVENT
END:VCALENDAR