BEGIN:VCALENDAR
VERSION:2.0
PRODID:-//farnostkrumvir.com - ECPv6.15.16//NONSGML v1.0//EN
CALSCALE:GREGORIAN
METHOD:PUBLISH
X-ORIGINAL-URL:https://xn--farnostkrumv-3fb62m.com
X-WR-CALDESC:Akce na farnostkrumvir.com
REFRESH-INTERVAL;VALUE=DURATION:PT1H
X-Robots-Tag:noindex
X-PUBLISHED-TTL:PT1H
BEGIN:VTIMEZONE
TZID:UTC
BEGIN:STANDARD
TZOFFSETFROM:+0000
TZOFFSETTO:+0000
TZNAME:UTC
DTSTART:20250101T000000
END:STANDARD
END:VTIMEZONE
BEGIN:VEVENT
DTSTART;VALUE=DATE:20260927
DTEND;VALUE=DATE:20260928
DTSTAMP:20260420T005244
CREATED:20260302T090713Z
LAST-MODIFIED:20260323T165215Z
UID:2381-1790467200-1790553599@xn--farnostkrumv-3fb62m.com
SUMMARY:Jonáš / sv. Vincenc z Paula (26. neděle v mezidobí)
DESCRIPTION:Mše svatá – 9:15 \nÚmysl – za Václava Vytrhlíka a celou rodinu \nEz 18\,25-28\nZl 25(24)\nFlp 2\,1-11\nMt 21\,28-32\nBarva: Zelená \n1. ČTENÍ Ez 18\,25-28\nJestliže se zločinec odvrátí od svých zlých skutků\, sám sebe zachrání. \nČtení z knihy proroka Ezechiela.\nToto praví Hospodin:\n„Říkáte: „Pán nejedná správně!“ Slyšte tedy\, izraelský dome! Je to mé jednání\, které není správné\, nebo spíš vaše? jestliže spravedlivý opustí svou spravedlnost a páchá nepravost a zemře\, zemře pro nepravost\, které se dopustil.\nJestliže se však zločinec odvrátí od svých zlých skutků\, které spáchal\, a jedná podle práva a spravedlnosti\, sám sebe zachrání. Neboď proto\, že se bál a odvrátil od všech svých nepravostí\, které spáchal\, jistě bude živ a nezemře.“ \nŽl 25 (24)\, 4-5. 6-7. 8-9 Odp.: 6a\nOdp.: Rozpomeň se\, Hospodine\, na své slitování.\nUkaž mi své cesty\, Hospodine\,\na pouč mě o svých stezkách. Veď mě ve své pravdě a uč mě\, neboď ty jsi Bůh\, můj spasitel\, nepřestávám v tebe důvěřovat. Odp.\nRozpomeň se\, Hospodine\, na své slitování\, na své milosrdenství\, které trvá věčně.\nNemysli na hříchy mého mládí\, na má provinění\, pamatuj na mě ve svém milosrdenství\npro svou dobrotivost\, Hospodine! Odp.\nHospodin je dobrý a dokonalý\, proto ukazuje hříšníkům cestu. Pokorné vede k správnému jednání\, pokorné učí své cestě.\nOdp. \n2. ČTENÍ Flp 2\,1-11\nMějte v sobě to smýšlení\, jaké měl Kristus Ježíš.\nČtení z listu svatého apoštola Pavla Filipanům.\nBratři!\nJestliže je u vás trochu křesďanské snahy druhé těšit\, trochu láskyplného povzbuzení\, nějaké duchovní společenství a trochu srdečné účasti\, dovršte mou radost tím\, že budete stejně smýšlet\, že vás bude všechny pojit jedna láska\, že budete svorní a jednomyslní. Nic nedělejte z hašteřivosti nebo touhy po prázdné slávě\, ale z pokory aď každý z vás pokládá druhého za lepšího\, než je sám. Nikdo z vás aď nehledí jenom na vlastní prospěch\, ale i na prospěch druhých.\nMějte v sobě to smýšlení\, jaké měl Kristus Ježíš: ačkoli má božskou přirozenost\, nic nelpěl na tom\, že je rovný Bohu\, ale sám sebe se zřekl\, vzal na sebe přirozenost služebníka a stal se jako jeden z lidí. Navenek byl jako každý jiný člověk\, ponížil se a byl poslušný až k smrti\, a to k smrti na kříži. Proto ho také Bůh povýšil a dal mu Jméno nad každé jiné jméno\, takže při Ježíšově jménu musí pokleknout každé koleno na nebi\, na zemi i v podsvětí a každý jazyk musí k slávě Boha Otce vyznat: Ježíš Kristus je Pán. \nEVANGELIUM Mt 21\,28-32\nLitoval toho a šel. Celníci a nevěstky vás předcházejí do Božího království.\nSlova svatého evangelia podle Matouše.\nJežíš řekl velekněžím a starším lidu:\n„Co soudíte o tomto případu: Jeden člověk měl dva syny. Přistoupil k prvnímu a řekl mu: „Synu\, jdi dnes pracovat na vinici.“ On odpověděl: „Mně se nechce“\, ale potom toho litoval\, a přece šel. Přistoupil k druhému a řekl totéž. Ten odpověděl: „Ano\, pane“\, ale nešel. Který z těch dvou vykonal otcovu vůli?“\nOdpověděli mu: „Ten první.“\nJežíš jim řekl: „Amen\, pravím vám: Celníci a nevěstky vás předcházejí do Božího království. Přišel k vám Jan\, aby vám ukázal správnou cestu\, ale neuvěřili jste mu. Celníci však a nevěstky mu uvěřili. Vy jste to viděli\, a přece ani potom jste se nezměnili a neuvěřili jste mu.“
URL:https://xn--farnostkrumv-3fb62m.com/udalosti/jonas-sv-vincenc-z-paula-26-nedele-v-mezidobi/
END:VEVENT
END:VCALENDAR