BEGIN:VCALENDAR
VERSION:2.0
PRODID:-//farnostkrumvir.com - ECPv6.15.16//NONSGML v1.0//EN
CALSCALE:GREGORIAN
METHOD:PUBLISH
X-WR-CALNAME:farnostkrumvir.com
X-ORIGINAL-URL:https://xn--farnostkrumv-3fb62m.com
X-WR-CALDESC:Akce na farnostkrumvir.com
REFRESH-INTERVAL;VALUE=DURATION:PT1H
X-Robots-Tag:noindex
X-PUBLISHED-TTL:PT1H
BEGIN:VTIMEZONE
TZID:UTC
BEGIN:STANDARD
TZOFFSETFROM:+0000
TZOFFSETTO:+0000
TZNAME:UTC
DTSTART:20250101T000000
END:STANDARD
END:VTIMEZONE
BEGIN:VEVENT
DTSTART;VALUE=DATE:20260830
DTEND;VALUE=DATE:20260831
DTSTAMP:20260419T231658
CREATED:20260302T090715Z
LAST-MODIFIED:20260323T164635Z
UID:2352-1788048000-1788134399@xn--farnostkrumv-3fb62m.com
SUMMARY:Vladěna / sv. Fiakr (22. neděle v mezidobí)
DESCRIPTION:Mše svatá – 9:15 \nÚmysl – za Stanislava Valihracha a rodiče \nJer 20\,7-9\nZl 63(62)\nRim 12\,1-2\nMt 16\,21-27\nBarva: Zelená \n1. ČTENÍ Jer 20\, 7-9\nHospodinovo slovo se mi stalo pohanou.\nČtení z knihy proroka Jeremiáše.\nSvedl jsi mě\, Hospodine\, a dal jsem se svést; byl jsi silnější než já a přemohls mě!\nCelý den jsem na posměch\, všichni se mi vysmívají:\nKdykoli mluvím\, musím křičet\, ohlašovat násilí a zpustošení; Hospodinovo slovo se mi stalo pohanou a posměchem po celý den.\nŘekl jsem si: „Nebudu se již o něho starat\, nebudu již mluvit jeho jménem.“\nTu se ( Hospodinovo slovo ) stalo v mém nitru hořícím ohněm\, zavřeným v mých kostech;\nsnažil jsem se ho snést\, ale nebylo to možné. \nŽl 63 (62)\, 2. 3-4. 5-6. 8-9 Odp.: 2b\nOdp.: Má duše po tobě žízní\, Pane\, můj Bože!\nBože\, ty jsi můj Bůh\, snažně tě hledám\,\nmá duše po tobě žízní\, prahne po tobě mé tělo jak vyprahlá\, žíznivá\, bezvodá země.\nOdp. Tak toužím tě spatřit ve svatyni\, abych viděl tvou moc a slávu. Vždyď tvá milost je lepší než život\, mé rty tě budou chválit.\nOdp. Tak tě budu velebit ve svém životě\,\nv tvém jménu povznesu své dlaně k modlitbě Má duše se bude sytit jak tukem a morkem\, plesajícími rty zajásají ústa.\nOdp. Neboď stal ses mým pomocníkem a ve stínu tvých křídel jásám. Má duše lne k tobě\,\ntvá pravice mě podpírá.\nOdp. \n2. ČTENÍ Řím 12\, 1-2\nPřinášejte sami sebe v oběď živou.\nČtení z listu svatého apoštola Pavla Římanům.\nPro Boží milosrdenství vás\, bratři\, vybízím: Přinášejte sami sebe v oběď živou\, svatou a Bohu milou! To aď je vaše duchovní bohoslužba. A nepřizpůsobujte se už tomuto světu\, ale změňte se a obnovte svoje smýšlení\, abyste dovedli rozeznat\, co je vůle Boží\, co je dobré\, bohulibé a dokonalé. \nEVANGELIUM Mt 16\, 21-27\nKdo chce jít za mnou\, zapři sám sebe. \nSlova svatého evangelia podle Matouše.\nJežíš začal svým učedníkům naznačovat\, že bude muset jít do Jeruzaléma\, mnoho trpět od starších\, velekněží a učitelů Zákona\, že bude zabit\, a třetího dne že bude vzkříšen.\nPetr si ho vzal stranou a začal mu to rozmlouvat: „Bůh uchovej\, Pane! To se ti nikdy nestane!“\nOn se však obrátil a řekl Petrovi: „Jdi mi z očí\, satane! Pohoršuješ mě\, neboď nemáš na mysli věci božské\, ale lidské! “\nTehdy řekl Ježíš svým učedníkům: „Kdo chce jít za mnou\, zapři sám sebe\, vezmi svůj kříž a následuj mě. Neboď kdo by chtěl svůj život zachránit\, ztratí ho\, kdo však svůj život pro mne ztratí\, nalezne ho. Neboď co prospěje člověku\, když získá celý svět\, ale ztratí svou duši? Nebo jakou dá člověk náhradu za svou duši ?\nSyn člověka přijde ve slávě svého Otce se svými anděly\, a tehdy odplatí každému podle jeho jednání.“
URL:https://xn--farnostkrumv-3fb62m.com/udalosti/vladena-sv-fiakr-22-nedele-v-mezidobi/
END:VEVENT
END:VCALENDAR