BEGIN:VCALENDAR
VERSION:2.0
PRODID:-//farnostkrumvir.com - ECPv6.15.16//NONSGML v1.0//EN
CALSCALE:GREGORIAN
METHOD:PUBLISH
X-WR-CALNAME:farnostkrumvir.com
X-ORIGINAL-URL:https://xn--farnostkrumv-3fb62m.com
X-WR-CALDESC:Akce na farnostkrumvir.com
REFRESH-INTERVAL;VALUE=DURATION:PT1H
X-Robots-Tag:noindex
X-PUBLISHED-TTL:PT1H
BEGIN:VTIMEZONE
TZID:UTC
BEGIN:STANDARD
TZOFFSETFROM:+0000
TZOFFSETTO:+0000
TZNAME:UTC
DTSTART:20250101T000000
END:STANDARD
END:VTIMEZONE
BEGIN:VEVENT
DTSTART;VALUE=DATE:20260816
DTEND;VALUE=DATE:20260817
DTSTAMP:20260419T231657
CREATED:20260302T090715Z
LAST-MODIFIED:20260323T164357Z
UID:2338-1786838400-1786924799@xn--farnostkrumv-3fb62m.com
SUMMARY:Jáchym / sv. Štěpán (20. neděle v mezidobí)
DESCRIPTION:Mše svatá – 9:15 \nÚmysl – za Annu Němečkovu \nIz 56\,1.6-7\nZl 67(66)\nRim 11\,13-15.29-32\nMt 15\,21-28\nBarva: Zelená \n1. ČTENÍ Iz 56\, 1. 6-7\nCizince přivedu na svou svatou horu. \nČtení z knihy proroka Izaiáše.\nToto praví Hospodin:\n„Šetřte práva a jednejte podle spravedlnosti\, neboď se již blíží má spása\,\njiž se ukáže má spravedlnost. Cizince\, kteří lnou k Hospodinu\, kteří mu slouží a milují jeho jméno\, jsou jeho služebníky\,\nvšechny\, kteří zachovávají sobotu bez znesvěcení a lpí na mé smlouvě\,\npřivedu na svou svatou horu\na dám jim radost ve svém domě modlitby. Jejich oběti a žertvy\nbudou mi potěšením na oltáři;\nneboď můj dům bude domem modlitby pro všechny národy.“ \nŽl 67 (66)\, 2-3. 5. 6+8 Odp.: 4\nOdp.: Aď tě\, Bože\, velebí národy\, aď tě velebí kdekterý národ!\nBože\, buď milostiv a žehnej nám\, ukaž nám svou jasnou tvář\,\nkéž se pozná na zemi\, jak jednáš\,\nkéž poznají všechny národy\, jak zachraňuješ. Odp.\nNechď se lidé radují a jásají\, že soudíš národy spravedlivě a lidi na zemi řídíš.\nOdp.\nAď tě\, Bože\, velebí národy\, aď tě velebí kdekterý národ! Kéž nám Bůh žehná\,\naď ho ctí všechny končiny země! Odp. \n2. ČTENÍ Řím 11\, 13-15. 29-32\nBoží dary Izraeli a jeho povolání jsou neodvolatelné.\nČtení z listu svatého apoštola Pavla Římanům.\nBratři!\nVám\, ( bývalým ) pohanům\, říkám: Já jako apoštol pohanů vykonávám svou službu s velikou pečlivostí. Chtěl bych tím vzbudit žárlivost u svých soukmenovců a aspoň některé z nich zachránit. To\, že byli vyloučení\, přineslo světu smíření ( s Bohem ) . Co teprve bude znamenat\, až budou znova přijati? To bude úplné vzkříšení z mrtvých!\nVždyď Boží dary a povolání jsou neodvolatelné. Vy jste se kdysi chovali k Bohu odmítavě\, ale nyní se vám dostalo milosrdenství\, protože židé odmítli přijmout víru. Stejně tak se oni chovají nyní odmítavě\, protože .vám se dostává milosrdenství\, aby se ho potom dostalo také jim. Bůh totiž dopustil\, že všichni upadli do neposlušnosti\, aby všem prokázal milosrdenství. \nEVANGELIUM Mt 15\, 21-28\nŽeno\, jak veliká je tvá víra!\nSlova svatého evangelia podle Matouše.\nJežíš odešel z Genezareta a odebral se do tyrského a sidónského kraje. A tu z toho kraje vyšla jedna kananejská žena a křičela: „Smiluj se nade mnou\, Pane\, synu Davidův! Moje dcera je krutě posedlá.“ Ale on jí neodpověděl ani slovo.\nJeho učedníci k němu přistoupili a prosili ho: „Pošli ji pryč\, vždyď za námi křičí.“\nOdpověděl: „Jsem poslán jen k ztraceným ovcím domu izraelského.“\nOna mezitím přišla\, klaněla se mu a prosila: „Pane\, pomoz mi!“\nOn jí však odpověděl: „Není správné vzít chléb dětem a hodit ho psíkům.\nOna řekla: „Ovšem\, Pane\, jenže i psíci se živí kousky\, které padají se stolu jejich pánů.“\nNato jí řekl Ježíš: „Ženo\, jak veliká je tvá víra! Staň se ti\, jak si přeješ.“ A od té chvíle byla její dcera zdravá.
URL:https://xn--farnostkrumv-3fb62m.com/udalosti/jachym-sv-stepan-20-nedele-v-mezidobi/
END:VEVENT
END:VCALENDAR