BEGIN:VCALENDAR
VERSION:2.0
PRODID:-//farnostkrumvir.com - ECPv6.15.16//NONSGML v1.0//EN
CALSCALE:GREGORIAN
METHOD:PUBLISH
X-ORIGINAL-URL:https://xn--farnostkrumv-3fb62m.com
X-WR-CALDESC:Akce na farnostkrumvir.com
REFRESH-INTERVAL;VALUE=DURATION:PT1H
X-Robots-Tag:noindex
X-PUBLISHED-TTL:PT1H
BEGIN:VTIMEZONE
TZID:UTC
BEGIN:STANDARD
TZOFFSETFROM:+0000
TZOFFSETTO:+0000
TZNAME:UTC
DTSTART:20250101T000000
END:STANDARD
END:VTIMEZONE
BEGIN:VEVENT
DTSTART;VALUE=DATE:20260813
DTEND;VALUE=DATE:20260814
DTSTAMP:20260419T232325
CREATED:20260302T090714Z
LAST-MODIFIED:20260323T164242Z
UID:2335-1786579200-1786665599@xn--farnostkrumv-3fb62m.com
SUMMARY:Alena / sv. Poncián a Hippolyt\, sv. Jan Berchmans (čtvrtek 19. týdne v mezidobí)
DESCRIPTION:Mše svatá – 18:00 \nÚmysl – na poděkování \nEz 12\,1-12\nZl 78\nMt 18\,21-19\,1\nBarva: Zelená
URL:https://xn--farnostkrumv-3fb62m.com/udalosti/alena-sv-poncian-a-hippolyt-sv-jan-berchmans-ctvrtek-19-tydne-v-mezidobi/
END:VEVENT
END:VCALENDAR