BEGIN:VCALENDAR
VERSION:2.0
PRODID:-//farnostkrumvir.com - ECPv6.15.16//NONSGML v1.0//EN
CALSCALE:GREGORIAN
METHOD:PUBLISH
X-WR-CALNAME:farnostkrumvir.com
X-ORIGINAL-URL:https://xn--farnostkrumv-3fb62m.com
X-WR-CALDESC:Akce na farnostkrumvir.com
REFRESH-INTERVAL;VALUE=DURATION:PT1H
X-Robots-Tag:noindex
X-PUBLISHED-TTL:PT1H
BEGIN:VTIMEZONE
TZID:UTC
BEGIN:STANDARD
TZOFFSETFROM:+0000
TZOFFSETTO:+0000
TZNAME:UTC
DTSTART:20250101T000000
END:STANDARD
END:VTIMEZONE
BEGIN:VEVENT
DTSTART;VALUE=DATE:20260809
DTEND;VALUE=DATE:20260810
DTSTAMP:20260419T231707
CREATED:20260302T090714Z
LAST-MODIFIED:20260323T164123Z
UID:2331-1786233600-1786319999@xn--farnostkrumv-3fb62m.com
SUMMARY:Roman / Svátek sv. Terezie Benedikty od Kříže (19. neděle v mezidobí)
DESCRIPTION:Mše svatá – 9:15 \nÚmysl – za Boženu Benešovu\, manžela a syna \n1Kral 19\,9a.11-13a\nZl 85(84)\nRim 9\,1-5\nMt 14\,22-33\nBarva: Zelená \n1. ČTENÍ 1 Král 19\, 9a. 11-13a\nPostav se na hoře před Hospodinem! \nČtení z první knihy Královské.\nKdyž přišel Eliáš ( k Boží hoře Chorebu )\, přenocoval tam v jeskyni. A tu se k němu ozvalo Boží slovo.\nŘeklo mu: „Vyjdi ven a postav se na hoře před Hospodinem! “\nHospodin přecházel: prudký a silný vichr\, který trhá hory a láme skály\, vál před Hospodinem\, ale Hospodin ve vichru nebyl. Potom nastalo zemětřesení\, ale Hospodin v zemětřesení nebyl. Po zemětřesení šlehal oheň\, ale Hospodin v ohni nebyl. Po ohni následoval šum jemného vánku. Když to Eliáš slyšel\, zahalil si tvář pláštěm\, vyšel ven a zastavil se u vchodu do jeskyně. \nŽl 85 (84)\, 9ab+10\, 11-12. 13-14 Odp.: 8a\nOdp.: Pane\, ukaž nám své milosrdenství!\nKéž mohu slyšet\, co mluví Hospodin\, Bůh:\njistě mluví o pokoj i pro svůj lid a pro své svaté. Jistě je blízko jeho spása těm\, kteří se ho bojí\, aby sídlila jeho velebnost v naší zemi.\nOdp.\nMilosrdenství a věrnost se potkají\, políbí se spravedlnost a pokoj. Věrnost vypučí ze země\, spravedlnost shlédne z nebe.\nOdp. Hospodin též popřeje dobro a naše země vydá plody Spravedlnost bude ho předcházet a spása mu půjde v patách.\nOdp. \n2. ČTENÍ Řím 9\, 1-5\nPřál bych si\, abych já sám byl proklet pro své bratry.\nČtení z listu svatého apoštola Pavla Římanům.\nBratři!\nMluvím pravdu – vždyď jsem Kristův – nelžu\, a totéž mi dosvědčuje i svědomí osvícené Duchem svatým: velký zármutek a neustálou bolest nosím v srdci. Přál bych si totiž\, abych já sám byl proklet\, od Krista vzdálen\, pro své bratry\, s kterými jsem tělesně spřízněn.\nVždyď jsou to Izraelité\, byli přijati za syny\, Bůh s nimi bydlel\, uzavřel s nimi smlouvu\, dal jim zákonodárství\, bohoslužbu i zaslíbení. Jejich předkové jsou praotci (izraelského národa) a od nich podle lidské přirozenosti pochází i Kristus – Bůh\, který je nade všecko: bud veleben navěky! Amen. \nEVANGELIUM Mt 14\, 22-33\nRozkaž\, aď přijdu k tobě po vodě! \nSlova svatého evangelia podle Matouše.\nKdyž ježíš nasytil zástupy\, hned potom přiměl učedníky\, aby vstoupili na loď a jeli před ním na druhý břeh\, než on rozpustí zástupy. Když zástupy rozpustil\, vystoupil na horu\, aby se o samotě modlil. Nastal už večer\, a byl tam sám.\nZatím byla loď už daleko od břehu a vlny jí zmítaly\, protože vanul vítr proti nim. K ránu šel Ježíš k nim a kráčel po moři. Když ho ( učedníci ) uviděli kráčet po moři\, zděsili se\, neboď mysleli\, že je to přízrak\, a strachem začali křičet.\nJežíš však na ně hned promluvil: „Vzmužte se! To jsem já\, nebojte se!“\nPetr mu odpověděl: „Pane\, když jsi to ty\, rozkaž\, aď přijdu k tobě po vodě.“\nA on řekl: „Pojď!“\nPetr vystoupil z lodi\, kráčel po vodě a šel k Ježíšovi. Zpozoroval však vítr a dostal strach. Začal tonout a vykřikl: „Pane\, zachraň mě!“\nJežíš hned vztáhl ruku\, zachytil ho a řekl mu: „Malověrný\, proč jsi pochyboval?“ Pak vstoupili na loď a vítr přestal. Ti\, kdo byli na lodi\, se mu klaněli a říkali: „Jsi opravdu Boží syn.“
URL:https://xn--farnostkrumv-3fb62m.com/udalosti/roman-svatek-sv-terezie-benedikty-od-krize-19-nedele-v-mezidobi/
END:VEVENT
END:VCALENDAR