BEGIN:VCALENDAR
VERSION:2.0
PRODID:-//farnostkrumvir.com - ECPv6.15.16//NONSGML v1.0//EN
CALSCALE:GREGORIAN
METHOD:PUBLISH
X-WR-CALNAME:farnostkrumvir.com
X-ORIGINAL-URL:https://xn--farnostkrumv-3fb62m.com
X-WR-CALDESC:Akce na farnostkrumvir.com
REFRESH-INTERVAL;VALUE=DURATION:PT1H
X-Robots-Tag:noindex
X-PUBLISHED-TTL:PT1H
BEGIN:VTIMEZONE
TZID:UTC
BEGIN:STANDARD
TZOFFSETFROM:+0000
TZOFFSETTO:+0000
TZNAME:UTC
DTSTART:20250101T000000
END:STANDARD
END:VTIMEZONE
BEGIN:VEVENT
DTSTART;VALUE=DATE:20260802
DTEND;VALUE=DATE:20260803
DTSTAMP:20260419T213113
CREATED:20260302T090714Z
LAST-MODIFIED:20260323T163942Z
UID:2324-1785628800-1785715199@xn--farnostkrumv-3fb62m.com
SUMMARY:Gustav / sv. Eusebius\, sv. Petr Julián Eymard (18. neděle v mezidobí)
DESCRIPTION:Mše svatá . 9:15 \nÚmysl – za rodinu Vytrhlíkovu a celou rodinu \nIz 55\,1-3\nZl 145(144)\nRim 8\,35.37-39\nMt 14\,13-21\nBarva: Zelená \n1. ČTENÍ Iz 55\, 1-3\nPojďte a jezte!\nČtení z knihy proroka Izaiáše.\nToto praví Hospodin:\n„Nuže\, vy všichni\, kteří žízníte\, pojďte k vodě; i když jste bez peněz\,\npojďte\, zásobte se a jezte bez peněz a zdarma víno a mléko!\nProč vydávat peníze za to\, co není chléb\, svůj výdělek za to\, co nesytí?\nSlyšte mě a budete hodovat\, vychutnávat tučná jídla!\nNakloňte ucho své a pojďte ke mně! Poslouchejte\, a naplní vás nový život! Sjednám s vámi věčnou smlouvu na věrných slibech daných Davidovi.“ \nŽl 145 ( 144 )\, 8-9. 15-16. 17-18 Odp.: srv. 16\nOdp.: Otvíráš svou ruku a sytíš nás\, Hospodine!\nMilosrdný a milostivý je Hospodin\, shovívavý a plný lásky.\nDobrotivý je Hospodin ke všem\na soucit má se všemi svými tvory. Odp.\nOči všech doufají v tebe\na ty jim dáváš pokrm v pravý čas. Otvíráš svou ruku\na sytíš vše živé s laskavostí. Odp.\nSpravedlivý je Hospodin ve všech svých cestách a svatý ve všech svých činech.\nBlízko je Hospodin všem\, kdo ho vzývají\, všem\, kdo ho vzývají upřímně.\nOdp. \n2. ČTENÍ Řím 8\, 35. 37-39\nNic stvořeného nebude nás mocí odloučit od Boží lásky v Kristu. \nČtení z listu svatého apoštola Pavla Římanům.\nBratři!\nKdo by nás mohl odloučit od lásky Kristovy? Snad soužení nebo útisk nebo pronásledování nebo hlad nebo bída nebo nebezpečí nebo zabití?\nAle v tom ve všem skvěle vítězíme skrze toho\, který nás miluje. A já jsem přesvědčen: ani smrt\, ani život\, ani andělé\, ani knížata\, ani nic přítomného\, ani nic budoucího\, ani mocnosti\, ani výška\, ani hloubka\, a vůbec nic stvořeného nebude nás moci odloučit od Boží lásky v Kristu Ježíši\, našem Pánu. \nEVANGELIUM Mt 14\, 13-21\nVšichni se najedli dosyta. \nSlova svatého evangelia podle Matouše.\nKdyž Ježíš uslyšel o smrti Jana Křtitele\, odebral se lodí na opuštěné místo\, aby byl sám. Jakmile o tom lidé uslyšeli\, šli pěšky z měst za ním. Když vystoupil a uviděl velký zástup\, bylo mu jich líto a uzdravil jejich nemocné.\nK večeru k němu přistoupili učedníci a řekli: „Toto místo je opuštěné a už se připozdilo. Rozpusď proto zástupy\, aď se rozejdou po vesnicích a koupí si něco k jídlu.“\nAle Ježíš jim řekl: „Není třeba\, aby odcházeli. Vy jim dejte jíst!“\nOdpověděli mu: „Máme tady jenom pět chlebů a dvě ryby.“\nJežíš řekl: „Přineste mi je sem.“\nA rozkázal\, aby se lidé posadili na trávě. Potom vzal těch pět chlebů a ty dvě ryby\, vzhlédl k nebi a požehnal\, lámal chleby a dal učedníkům a učedníci zástupům. Všichni se najedli dosyta a ještě sesbírali plných dvanáct košů zbylých kousků. Těch\, kdo jedli\, bylo na pět tisíc mužů kromě žen a dětí.
URL:https://xn--farnostkrumv-3fb62m.com/udalosti/gustav-sv-eusebius-sv-petr-julian-eymard-18-nedele-v-mezidobi/
END:VEVENT
END:VCALENDAR