BEGIN:VCALENDAR
VERSION:2.0
PRODID:-//farnostkrumvir.com - ECPv6.15.16//NONSGML v1.0//EN
CALSCALE:GREGORIAN
METHOD:PUBLISH
X-WR-CALNAME:farnostkrumvir.com
X-ORIGINAL-URL:https://xn--farnostkrumv-3fb62m.com
X-WR-CALDESC:Akce na farnostkrumvir.com
REFRESH-INTERVAL;VALUE=DURATION:PT1H
X-Robots-Tag:noindex
X-PUBLISHED-TTL:PT1H
BEGIN:VTIMEZONE
TZID:UTC
BEGIN:STANDARD
TZOFFSETFROM:+0000
TZOFFSETTO:+0000
TZNAME:UTC
DTSTART:20250101T000000
END:STANDARD
END:VTIMEZONE
BEGIN:VEVENT
DTSTART;VALUE=DATE:20260726
DTEND;VALUE=DATE:20260727
DTSTAMP:20260419T213114
CREATED:20260302T090714Z
LAST-MODIFIED:20260323T163744Z
UID:2317-1785024000-1785110399@xn--farnostkrumv-3fb62m.com
SUMMARY:Anna / sv. Jáchym a Anna (17. neděle v mezidobí)
DESCRIPTION:Mše svatá – 9:15 \nÚmysl – za Josefu Jančovu \n1Kral 3\,5.7-12\nZl 119(118)\nRim 8\,28-30\nMt 13\,44-52\nBarva: Zelená \n1. ČTENÍ 1 Král 3\, 5. 7-12\nPřál sis chápat právo. \nČtení z první knihy Královské.\nHospodin se zjevil Šalomounovi ve snu v noci. Bůh pravil: „Žádej si\, co bych ti měl dát.“\nŠalomoun řekl: „Hospodine\, můj Bože\, tys učinil svého služebníka králem místo Davida\, mého otce. Ale já jsem mladíček a nevím si rady. Tvůj služebník je však uprostřed tvého lidu\, který sis vyvodil\, lidu četného\, který nelze pro množství ani sečíst ani odhadnout. Dej proto svému služebníku chápavé srdce\, jak vládnout nad tvým lidem a rozlišovat dobro a zlo\, neboď kdo by jinak mohl vládnout nad tímto tak početným lidem?“\nPánu se líbilo\, že Šalomoun žádal právě toto\, a proto mu řekl Bůh: „Poněvadž jsi žádal právě toto a nežádal sis dlouhý věk ani bohatství ani život svých nepřátel\, ale přál sis chápat právo\, hle – splním tvá slova. Dám ti moudré a prozíravé srdce\, že nebylo podobného před tebou\, ani po tobě podobné nepovstane.“ \nŽl 119 (118)\, 57+72. 76-77. 127-128. 129-130 Odp.: 97a\nOdp.: Jak miluji tvůj zákon\, Hospodine!\nProhlásil jsem za svůj úděl\, Hospodine\, že budu střežit tvá slova.\nLepší je pro mě zákon tvých úst než tisíce ve zlatě a stříbře.\nOdp.\nAď je mi útěchou tvé milosrdenství\, jak jsi slíbil svému služebníku.\nAď se mi dostane tvého slitování\, abych byl živ\, neboď tvůj zákon je mé potěšení.\nOdp.\nProto miluji tvé předpisy více než zlato\, než ryzí zlato.\nProto jsem si vyvolil všechna tvá nařízení\, nenávidím každou falešnou cestu.\nOdp.\nPodivuhodná jsou tvá přikázání\, proto je zachovává má duše. Výklad tvých slov osvěcuje\, poučuje prosté lidi.\nOdp. \n2. ČTENÍ Řím 8\, 28-30\nPředurčil nás\, abychom byli ve shodě s obrazem jeho Syna.\nČtení z listu svatého apoštola Pavla Římanům.\nBratři!\nVíme\, že těm\, kteří milují Boha\, všecko napomáhá k dobrému\, těm\, kdo jsou z Boží vůle povoláni. Neboď ty\, které napřed poznal\, ty také předurčil\, aby byli ve shodě s obrazem jeho Syna\, aby tak on byl první z mnoha bratří. A ty\, které předurčil\, také povolal\, a ty\, které povolal\, také ospravedlnil\, a ty\, které ospravedlnil\, také uvedl do slávy. \nEVANGELIUM Mt 13\, 44-52\nProdá všechno\, co má\, a to pole koupí.\nSlova svatého evangelia podle Matouše.\nJežíš řekl zástupům:\n„Nebeské království je podobné pokladu\, ukrytému v poli. Když ho člověk najde\, zakryje ho a s radostí nad ním jde\, prodá všechno\, co má\, a to pole koupí.\nNebeské království je také podobné obchodníku\, který hledá vzácné perly. A když najde jednu drahocennou perlu\, jde\, prodá všechno\, co má\, a koupí ji.\nDále je nebeské království podobné síti\, která se spustí do moře a zahrne všechno možné. Když je plná\, rybáři ji vytáhnou na břeh\, posadí se\, co je dobré\, vyberou do nádob\, co však za nic nestojí\, vyhodí. Tak to bude při skonání věku: Vyjdou andělé\, oddělí zlé od spravedlivých a hodí je do ohnivé pece. Tam bude pláč a skřípění zubů.\nRozuměli jste tomu všemu?“ Odpověděli: „Ano.“\nA on jim řekl: „Proto každý učitel Zákona\, který se stal učedníkem nebeského království\, je jako hospodář\, který ze své bohaté zásoby vynáší věci nové i staré.“
URL:https://xn--farnostkrumv-3fb62m.com/udalosti/anna-sv-jachym-a-anna-17-nedele-v-mezidobi/
END:VEVENT
END:VCALENDAR