BEGIN:VCALENDAR
VERSION:2.0
PRODID:-//farnostkrumvir.com - ECPv6.15.16//NONSGML v1.0//EN
CALSCALE:GREGORIAN
METHOD:PUBLISH
X-ORIGINAL-URL:https://xn--farnostkrumv-3fb62m.com
X-WR-CALDESC:Akce na farnostkrumvir.com
REFRESH-INTERVAL;VALUE=DURATION:PT1H
X-Robots-Tag:noindex
X-PUBLISHED-TTL:PT1H
BEGIN:VTIMEZONE
TZID:UTC
BEGIN:STANDARD
TZOFFSETFROM:+0000
TZOFFSETTO:+0000
TZNAME:UTC
DTSTART:20250101T000000
END:STANDARD
END:VTIMEZONE
BEGIN:VEVENT
DTSTART;VALUE=DATE:20260628
DTEND;VALUE=DATE:20260629
DTSTAMP:20260419T194942
CREATED:20260302T090714Z
LAST-MODIFIED:20260323T162714Z
UID:1994-1782604800-1782691199@xn--farnostkrumv-3fb62m.com
SUMMARY:Lubomír / sv. Irenej (Lubomír) (13. neděle v mezidobí)
DESCRIPTION:Mše svatá – 9:15 \nÚmysl – za Pavlínu Zezulovu\, manžela a syna \n2Kral 4\,8-11.14-16a\nZl 89(88)\nRim 6\,3-4.8-11\nMt 10\,37-42\nBarva: Zelená \n1. ČTENÍ 2 Král 4\, 8-11. 14-16a\nJe to svatý muž Boží\, může se tam uchýlit. \nČtení z druhé knihy Královské.\nJednoho dne Elizeus procházel přes Šunem. Žila tam zámožná žena a ta ho pozvala k jídlu. Kdykoli tam procházel\, zašel se tam najíst. A ona řekla svému muži: „Vím\, že je to svatý muž Boží\, který k nám vždy přichází. Upravíme mu v poschodí malou světničku a dáme mu tam lůžko\, stůl\, sedadlo a svícen\, a kdykoli k nám přijde\, může se tam uchýlit.“\nKdyž tam zase (jednou Elizeus) přišel\, vstoupil do světničky a odpočinul si tam. Řekl ( svému služebníku ) Gechazimu: „Co by se dalo pro ni udělat?“ On odpověděl: „Nemá přece syna a její muž je už starý.“ Elizeus mu řekl: „Zavolej ji! “ Zavolal ji a ona zůstala stát u vchodu. On pravil: „Za rok v tento čas budeš mít v náručí syna.“ \nŽl 89 (88)\, 2-3. 16-17. 18-19 Odp.: 2a\nOdp.: Na věky chci zpívat o Hospodinových milostech.\nNa věky chci zpívat o Hospodinových milostech\,\npo všechna pokolení hlásat svými ústy tvou věrnost. Řekl jsi totiž: „Navěky je založena milost“.\nNa nebi jsi upevnil svou věrnost. Odp.\nŠďastný je lid\, který dovede oslavovat\, chodí\, Hospodine\, v záři tvé tváře.\nVe tvém jménu jásají ustavičně a honosí se tvou spravedlností. Odp.\nNeboď ty jsi leskem jejich moci a tvou přízní roste naše síla.\nVždyď náš vladař náleží Hospodinu\, náš král Svatému Izraele.\nOdp. \n2. ČTENÍ Řím 6\, 3-4. 8-11\nKřestním ponořením do jeho smrtí byli jsme spolu s ním pohřbeni; teď musíme žít novým životem.\nČtení z listu svatého apoštola Pavla Římanům.\nBratři!\nMy všichni\, kteří jsme byli křtem ponořeni v Krista Ježíše\, byli jsme tím křtem ponořeni do jeho smrti. Tím křestním ponořením do jeho smrti byli jsme spolu s ním pohřbeni. A jako Kristus byl vzkříšen z mrtvých Otcovou slávou\, tak i my teď musíme žít novým životem.\nJestliže jsme však s Kristem umřeli\, jsme přesvědčeni\, že spolu s ním také budeme žít. Víme totiž\, že Kristus vzkříšený z mrtvých už neumírá\, smrt nad ním už nemá vládu. Když umřel\, umřel hříchu jednou provždy\, a když žije\, žije pro Boha. Tak i vy se považujte za mrtvé hříchu\, ale za žijící Bohu\, když jste spojeni s Kristem Ježíšem. \nEVANGELIUM Mt 10\, 37-42\nKdo nebere svůj kříž\, není mě hoden. Kdo přijímá vás\, přijímá mne.\nSlova svatého evangelia podle Matouše.\nJežíš řekl svým apoštolům:\n„Kdo miluje otce nebo matku víc nežli mne\, není mě hoden; kdo miluje syna nebo dceru víc nežli mne\, není mě hoden. A kdo nebere svůj kříž a nenásleduje mě\, není mě hoden. Kdo nalezne svůj život\, ztratí ho\, kdo však ztratí svůj život pro mě\, nalezne ho.\nKdo vás přijímá\, mne přijímá\, a kdo mne přijímá\, přijímá toho\, který mě poslal.\nKdo přijme proroka\, že je to prorok\, dostane odměnu jako prorok; kdo se ujme spravedlivého\, že je spravedlivý\, dostane odměnu jako spravedlivý; kdo podá třeba jen číši studené vody jednomu z těchto nepatrných\, protože je to můj učedník\, amen\, pravím vám: nepřijde o svou odměnu.“
URL:https://xn--farnostkrumv-3fb62m.com/udalosti/lubomir-sv-irenej-lubomir-13-nedele-v-mezidobi/
END:VEVENT
END:VCALENDAR