BEGIN:VCALENDAR
VERSION:2.0
PRODID:-//farnostkrumvir.com - ECPv6.15.16//NONSGML v1.0//EN
CALSCALE:GREGORIAN
METHOD:PUBLISH
X-ORIGINAL-URL:https://xn--farnostkrumv-3fb62m.com
X-WR-CALDESC:Akce na farnostkrumvir.com
REFRESH-INTERVAL;VALUE=DURATION:PT1H
X-Robots-Tag:noindex
X-PUBLISHED-TTL:PT1H
BEGIN:VTIMEZONE
TZID:UTC
BEGIN:STANDARD
TZOFFSETFROM:+0000
TZOFFSETTO:+0000
TZNAME:UTC
DTSTART:20250101T000000
END:STANDARD
END:VTIMEZONE
BEGIN:VEVENT
DTSTART;VALUE=DATE:20260625
DTEND;VALUE=DATE:20260626
DTSTAMP:20260419T195013
CREATED:20260302T090714Z
LAST-MODIFIED:20260323T162516Z
UID:1991-1782345600-1782431999@xn--farnostkrumv-3fb62m.com
SUMMARY:Ivan / sv. Vilém\, ct. Ivan (čtvrtek 12. týdne v mezidobí)
DESCRIPTION:Mše svatá – 18:00 \nÚmysl – za členy živého růžence \n2Kral 24\,8-17\nZl 79\nMt 7\,21-29\nBarva: Zelená
URL:https://xn--farnostkrumv-3fb62m.com/udalosti/ivan-sv-vilem-ct-ivan-ctvrtek-12-tydne-v-mezidobi/
END:VEVENT
END:VCALENDAR