BEGIN:VCALENDAR
VERSION:2.0
PRODID:-//farnostkrumvir.com - ECPv6.15.16//NONSGML v1.0//EN
CALSCALE:GREGORIAN
METHOD:PUBLISH
X-ORIGINAL-URL:https://xn--farnostkrumv-3fb62m.com
X-WR-CALDESC:Akce na farnostkrumvir.com
REFRESH-INTERVAL;VALUE=DURATION:PT1H
X-Robots-Tag:noindex
X-PUBLISHED-TTL:PT1H
BEGIN:VTIMEZONE
TZID:UTC
BEGIN:STANDARD
TZOFFSETFROM:+0000
TZOFFSETTO:+0000
TZNAME:UTC
DTSTART:20250101T000000
END:STANDARD
END:VTIMEZONE
BEGIN:VEVENT
DTSTART;VALUE=DATE:20260621
DTEND;VALUE=DATE:20260622
DTSTAMP:20260419T195011
CREATED:20260302T090714Z
LAST-MODIFIED:20260323T162344Z
UID:1987-1782000000-1782086399@xn--farnostkrumv-3fb62m.com
SUMMARY:Alois / sv. Alois Gonzaga (12. neděle v mezidobí)
DESCRIPTION:Mše svatá – 9:15 \nÚmysl –  za svěřený lid \nJer 20\,10-13\nZl 69(68)\nRim 5\,12-15\nMt 10\,26-33\nBarva: Zelená \n1. ČTENÍ Jer 20\, 10-13\nVysvobodil život ubohého z ruky zlosynů.\nČtení z knihy proroka Jeremiáše.\nJeremiáš řekl:\nSlyšel jsem nepřátelské umlouvání mnohých: „Hrůza ze všech stran! Udejte ho! Udáme ho!“\nI ti\, kteří se mnou žili v přátelství\, číhají na můj pád:\n„Snad se dá svést a zmocníme se ho a pomstíme se na něm!“\nAle Hospodin je se mnou jako silný bojovník; proto ti\, kteří mě stíhají\, padnou a nic nesvedou. Velmi budou zahanbeni\, neboď ničeho nedosáhnou; bude to věčná hanba\,\nnezapomene se na ni.\nHospodine zástupů\, který zkoušíš spravedlivého\, který vidíš ledví i srdce\,\nkéž uzřím tvou pomstu nad nimi\, neboď tobě jsem svěřil svou při. Zpívejte Hospodinu\, chvalte Hospodina\, že vysvobodil život ubohého z ruky zlosynů! \nŽl 69 (68)\, 8-10. 14+17. 33-35 Odp.: 14c\nOdp.: Vyslyš mě\, Bože\, ve své veliké lásce! \nPro tebe\, Bože\, jsem snášel potupu\, pohana pokryla mou tvář.\nSvým bratrům stal jsem se cizincem\, synům své matky neznámým.\nNeboď mě stravuje horlivost pro tvůj dům\, padají na mě urážky těch\, kdo tě urážejí. Odp. Já se však\, Hospodine\, obracím modlitbou k tobě v čas milosti\, Bože!\nVyslyš mě ve své veliké lásce\, věrně mi pomoz!\nVyslyš mě\, Hospodine\, tvá láska je dobrotivá\, obraď se ke mně se svým nesmírným slitováním. Odp.\nUvědomte si to\, ubožáci\, a radujte se; pookřejte v srdci vy\, kdo hledáte Boha! Neboď Hospodin slyší chudáky\, nepohrdá svými vězni. Nechď ho chválí nebe a země\,\nmoře a vše\, co se v nich hýbe. Odp. \n2. ČTENÍ Řím 5\, 12-15\nS Božím darem není tomu tak\, jak to bylo s proviněním.\nČtení z listu svatého apoštola Pavla Římanům.\nBratři!\nJako skrze jednoho člověka přišel na tento svět hřích a skrze hřích smrt\, a tak smrt přešla na všechny lidi\, protože všichni zhřešili . . . Hřích ovšem byl na světě už před Zákonem – jenomže kde není žádný zákon\, tam se hřích nepřičítá. Přesto smrt uplatňovala svou moc od Adama do Mojžíše i nad lidmi\, kteří se neprohřešili nějakým podobným přestoupením jako Adam. Tento Adam je protějškem toho\, který měl přijít.\nAle s Božím darem není tomu tak\, jak to bylo s provině ním. Kvůli provinění jednoho ovšem celé množství propadlo smrti. Ale ještě tím hojněji se celému množství lidí dostalo Boží přízně a milostivého daru prostřednictvím jednoho člověka\, Ježíše Krista. \nEVANGELIUM Mt 10\, 26-33\nNebojte se těch\, kdo zabíjejí tělo.\nSlova svatého evangelia podle Matouše.\nJežíš řekl svým apoštolům:\n„Nebojte se lidí. Nic není tak tajného\, že by to nebylo odhaleno\, a nic skrytého\, že by to nebylo poznáno. Co vám říkám ve tmě\, povězte na světle\, a co se vám šeptá do ucha\, hlásejte ze střech!\nA nebojte se těch\, kdo zabíjejí tělo – duši zabít nemohou. Spíše se bojte toho\, který může zahubit v pekle duši i tělo. Copak se neprodávají dva vrabci za halíř? A ani jeden z nich nespadne na zem bez vědomí vašeho Otce. U vás však jsou spočítány i všechny vlasy na hlavě. Nebojte se tedy: Máte větší cenu než všichni vrabci.\nKe každému\, kdo se ke mně přizná před lidmi\, i já se přiznám před svým Otcem v nebi; ale každého\, kdo mě před lidmi zapře\, zapřu i já před svým Otcem v nebi.“
URL:https://xn--farnostkrumv-3fb62m.com/udalosti/alois-sv-alois-gonzaga-12-nedele-v-mezidobi/
END:VEVENT
END:VCALENDAR