BEGIN:VCALENDAR
VERSION:2.0
PRODID:-//farnostkrumvir.com - ECPv6.15.16//NONSGML v1.0//EN
CALSCALE:GREGORIAN
METHOD:PUBLISH
X-WR-CALNAME:farnostkrumvir.com
X-ORIGINAL-URL:https://xn--farnostkrumv-3fb62m.com
X-WR-CALDESC:Akce na farnostkrumvir.com
REFRESH-INTERVAL;VALUE=DURATION:PT1H
X-Robots-Tag:noindex
X-PUBLISHED-TTL:PT1H
BEGIN:VTIMEZONE
TZID:UTC
BEGIN:STANDARD
TZOFFSETFROM:+0000
TZOFFSETTO:+0000
TZNAME:UTC
DTSTART:20250101T000000
END:STANDARD
END:VTIMEZONE
BEGIN:VEVENT
DTSTART;VALUE=DATE:20260618
DTEND;VALUE=DATE:20260619
DTSTAMP:20260419T194714
CREATED:20260302T090716Z
LAST-MODIFIED:20260323T162217Z
UID:1984-1781740800-1781827199@xn--farnostkrumv-3fb62m.com
SUMMARY:Milan / sv. Marina (čtvrtek 11. týdne v mezidobí)
DESCRIPTION:Mše svatá – 18:00 \nÚmysl – za Marii Čechovu a celou rodinu \nSir 48\,1-15(rec.1-14)\nZl 97\nMt 6\,7-15\nBarva: Zelená
URL:https://xn--farnostkrumv-3fb62m.com/udalosti/milan-sv-marina-ctvrtek-11-tydne-v-mezidobi/
END:VEVENT
END:VCALENDAR