BEGIN:VCALENDAR
VERSION:2.0
PRODID:-//farnostkrumvir.com - ECPv6.15.16//NONSGML v1.0//EN
CALSCALE:GREGORIAN
METHOD:PUBLISH
X-WR-CALNAME:farnostkrumvir.com
X-ORIGINAL-URL:https://xn--farnostkrumv-3fb62m.com
X-WR-CALDESC:Akce na farnostkrumvir.com
REFRESH-INTERVAL;VALUE=DURATION:PT1H
X-Robots-Tag:noindex
X-PUBLISHED-TTL:PT1H
BEGIN:VTIMEZONE
TZID:UTC
BEGIN:STANDARD
TZOFFSETFROM:+0000
TZOFFSETTO:+0000
TZNAME:UTC
DTSTART:20250101T000000
END:STANDARD
END:VTIMEZONE
BEGIN:VEVENT
DTSTART;VALUE=DATE:20260614
DTEND;VALUE=DATE:20260615
DTSTAMP:20260419T194758
CREATED:20260302T090716Z
LAST-MODIFIED:20260322T191954Z
UID:1980-1781395200-1781481599@xn--farnostkrumv-3fb62m.com
SUMMARY:Roland / sv. Anastáz (11. neděle v mezidobí)
DESCRIPTION:Mše svatá – 9:15 \nÚmysl – za rodiče Širůčkovy a celou rodinu \nEx 19\,2-6a\nZl 100(99)\,2.3.5\nRim 5\,6-11\nMt 9\,36-10\,8\nBarva: Zelená \n1. ČTENÍ Ex 19\, 2-6a\nBudete mi královstvím kněží a svatým lidem. \nČtení z druhé knihy Mojžíšovy.\nKdyž přišli synové Izraele na sinajskou poušď\, utábořili se na poušti. Izrael se tam utábořil před horou.\nMojžíš vystoupil k Bohu a Hospodin na něj zavolal s hory: „Tak řekneš Jakubovu domu a oznámíš synům Izraele: Sami jste viděli\, co jsem udělal Egypďanům\, jak jsem vás nesl na orlích křídlech a dovedl vás k sobě.\nNuže\, budete-li mě skutečně poslouchat a mou smlouvu zachovávat\, budete mým vlastnictvím mezi všemi národy\, neboď mně patří celá země. Budete mi královstvím kněží a svatým lidem.“ \nŽl 100 (99)\, 2. 3. 5 Odp.: 3c\nOdp.: Jsme jeho lid a stádce jeho pastvy. \nPlesejte Hospodinu\, všechny země\, služte Hospodinu s radostí\, vstupte před něho s jásotem!\nOdp. Uznejte\, že Hospodin je Bůh:\non nás učinil\, a my mu náležíme\, jsme jeho lid a stádce jeho pastvy. Odp.\nNeboď Hospodin je dobrý\, jeho milosrdenství je věčné\,\npo všechna pokolení trvá jeho věrnost. Odp. \n2. ČTENÍ Řím 5\, 6-11\nJestliže jsme byli usmířeni s Bohem smrtí jeho Syna\, tím spíše budeme zachránění jeho životem.\nČtení z listu svatého apoštola Pavla Římanům.\nBratři!\nKristus v ten čas\, když jsme ještě byli slabí\, zemřel za bezbožníky. Vždyď sotva kdo položí život za spravedlivého – možná za dobrého se ještě někdo umřít odhodlá. Ale Bůh dokazuje svou lásku k nám tím\, že Kristus umřel za nás\, když jsme byli ještě hříšníky. Tím spíše tedy budeme zachráněni skrze něho od hněvu teď\, když jsme ospravedlněni jeho krví. Neboď jestliže jsme byli s Bohem usmířeni smrtí jeho Syna v době\, kdy jsme s ním byli ještě znepřáteleni\, tím spíše – po usmíření – budeme zachráněni jeho životem. Ba ještě více! Smíme se i chlubit Bohem skrze našeho Pána Ježíše Krista\, protože skrze něho se nám nyní dostalo usmíření. \nEVANGELIUM Mt 9\, 36-10\, 8\nZavolal dvanáct učedníků a poslal je. \nSlova svatého evangelia podle Matouše.\nKdyž Ježíš viděl zástupy\, bylo mu jich líto\, protože byli vysílení a skleslí jako ovce bez pastýře. Tu řekl svým učedníkům: „Žeň je sice hojná\, ale dělníků málo. Proste proto Pána žně\, aby poslal dělníky na svou žeň!“\nPotom si zavolal svých dvanáct učedníků a dal jim moc nad nečistými duchy\, aby je vyháněli a uzdravovali každou nemoc a každou chorobu.\nJména těch dvanácti apoštolů jsou tato: první Šimon\, zvaný Petr\, a jeho bratr Ondřej\, Jakub\, syn Zebedeův\, a jeho bratr Jan\, Filip a Bartoloměj\, Tomáš a celník Matouš\, Jakub\, syn Alfeův\, a Tadeáš\, Šimon Kananejský a Jidáš Iškariotský\, který ho pak zradil.\nTěchto dvanáct Ježíš poslal a přikázal jim: „Mezi pohany nechoďte a do žádného samařského města nevcházejte. Raději jděte k ztraceným ovcím z domu izraelského. Jděte a hlásejte: „Přiblížilo se nebeské království.“ Uzdravujte nemocné\, probouzejte k životu mrtvé\, očišďujte malomocné\, vyhánějte zlé duchy. Zadarmo jste dostali\, zadarmo dávejte.“
URL:https://xn--farnostkrumv-3fb62m.com/udalosti/roland-sv-anastaz-11-nedele-v-mezidobi/
END:VEVENT
END:VCALENDAR