BEGIN:VCALENDAR
VERSION:2.0
PRODID:-//farnostkrumvir.com - ECPv6.15.16//NONSGML v1.0//EN
CALSCALE:GREGORIAN
METHOD:PUBLISH
X-ORIGINAL-URL:https://xn--farnostkrumv-3fb62m.com
X-WR-CALDESC:Akce na farnostkrumvir.com
REFRESH-INTERVAL;VALUE=DURATION:PT1H
X-Robots-Tag:noindex
X-PUBLISHED-TTL:PT1H
BEGIN:VTIMEZONE
TZID:UTC
BEGIN:STANDARD
TZOFFSETFROM:+0000
TZOFFSETTO:+0000
TZNAME:UTC
DTSTART:20250101T000000
END:STANDARD
END:VTIMEZONE
BEGIN:VEVENT
DTSTART;VALUE=DATE:20260611
DTEND;VALUE=DATE:20260612
DTSTAMP:20260419T195012
CREATED:20260222T125533Z
LAST-MODIFIED:20260322T191557Z
UID:1520-1781136000-1781222399@xn--farnostkrumv-3fb62m.com
SUMMARY:Bruno / sv. Barnabáš
DESCRIPTION:Mše svatá – 18:00 \nÚmysl – za Františku Valihrachovu a sourozence \nSk 11\,21b-26;13\,1-3\nZl 98\,1.2-3ab.3c-4.5-6\nMt 10\,7-13\nBarva: Červená \n1. čtení Sk 11\,21b-26;13\,1-3 \nČtení ze Skutků apoštolů.\nVelký počet lidí (v Antiochii) přijal víru a obrátil se k Pánu. Když se zpráva o tom dostala k sluchu církevní obce v Jeruzalémě\, poslali do Antiochie Barnabáše. Přišel tam a viděl\, jak Boží milost působí; zaradoval se proto a povzbuzoval všechny\, aby celým srdcem zůstali Pánu věrni. Byl to výborný muž\, plný Ducha svatého a víry. Tak byl získán pro Pána velký počet lidí. Pak odcestoval do Tarsu\, aby vyhledal Šavla. Když ho našel\, vzal ho s sebou do Antiochie. V (této) církevní obci spolu pobyli celý rok\, aby učili velké množství lidí\, takže se v Antiochii ponejprv začalo učedníkům říkat „křesďané“.\nV antiošské církevní obci byli muži\, kteří měli dar promlouvat z vnuknutí a učit: Barnabáš a Šimon\, kterému říkali Niger\, Lucius z Kyrény a Manahen\, který byl vychován spolu s údělným knížetem Herodem a Šavel. Když konali bohoslužbu Pánu a postili se\, řekl Duch svatý: „Oddělte mi Barnabáše a Šavla pro dílo\, ke kterému jsem je povolal!“ Postili se tedy a modlili\, potom na ně vložili ruce a propustili je. \nŽalm Žl 98\,1.2-3ab.3c-4.5-6\nHospodin zjevil svou spásu před zraky pohanů. \nZpívejte Hospodinu píseň novou\, neboď učinil podivuhodné věci.\nVítězství je dílem jeho pravice\, jeho svatého ramene.\nOdp.\nHospodin uvedl ve známost svou spásu\, před zraky pohanů zjevil svou spravedlnost.\nRozpomenul se na svou dobrotu a věrnost Izraelovu domu.\nOdp.\nVšechny končiny země uzřely spásu našeho Boha. Jásejte Hospodinu\, všechny země\,\nradujte se\, plesejte a hrejte!\nOdp.\nHrejte Hospodinu na citeru\, na citeru a s doprovodem zpěvu\, za hlaholu trub a rohů\,\njásejte před králem Hospodinem!\nOdp. \nEvangelium Mt 10\,7-13\nSlova svatého evangelia podle Matouše. \nJežíš řekl svým apoštolům: „Jděte a hlásejte:’Přiblížilo se nebeské království.’ Uzdravujte nemocné\, probouzejte k životu mrtvé\, očišďujte malomocné\, vyhánějte zlé duchy. Zadarmo jste dostali\, zadarmo dávejte. Neshánějte si do opasku ani zlaté\, ani stříbrné\, ani měděné peníze\, neberte si na cestu mošnu ani dvoje šaty ani opánky ani hůl\, protože dělník má právo na svou obživu. V každém městě nebo v každé vesnici\, kam vejdete\, se vyptejte\, kdo si to z nich zaslouží\, a tam zůstaňte\, dokud se nevydáte na další cestu. Když vstoupíte do domu\, pozdravte ho (přením pokoje)! A když si to ten dům zaslouží\, aď na něm spočine váš pokoj; když si to nezaslouží\, aď se váš pokoj vrátí k vám.
URL:https://xn--farnostkrumv-3fb62m.com/udalosti/bruno-sv-barnabas/
END:VEVENT
END:VCALENDAR