BEGIN:VCALENDAR
VERSION:2.0
PRODID:-//farnostkrumvir.com - ECPv6.15.16//NONSGML v1.0//EN
CALSCALE:GREGORIAN
METHOD:PUBLISH
X-ORIGINAL-URL:https://xn--farnostkrumv-3fb62m.com
X-WR-CALDESC:Akce na farnostkrumvir.com
REFRESH-INTERVAL;VALUE=DURATION:PT1H
X-Robots-Tag:noindex
X-PUBLISHED-TTL:PT1H
BEGIN:VTIMEZONE
TZID:UTC
BEGIN:STANDARD
TZOFFSETFROM:+0000
TZOFFSETTO:+0000
TZNAME:UTC
DTSTART:20250101T000000
END:STANDARD
END:VTIMEZONE
BEGIN:VEVENT
DTSTART;VALUE=DATE:20260607
DTEND;VALUE=DATE:20260608
DTSTAMP:20260419T194943
CREATED:20260302T090716Z
LAST-MODIFIED:20260322T191417Z
UID:1973-1780790400-1780876799@xn--farnostkrumv-3fb62m.com
SUMMARY:Iveta/Slavoj / sv. Robert (10. neděle v mezidobí)
DESCRIPTION:Mše svatá – 9:15 \nÚmysl – za Helenu Vytrhlíkovu a celou rodinu \nOz 6\,3-6\nZl 50(49)\nRim 4\,18-25\nMt 9\,9-13\nBarva: Zelená \n1. ČTENÍ Oz 6\, 3-6\nLásku chci\, ne oběď.\nČtení z knihy proroka Ozeáše.\nSnažme se poznat Hospodina\, jako jitřenka jistě vysvitne\, přijde k nám jako déšď\,\njako jarní déšď\, který zavlaží zemi. Co mám dělat s tebou\, Efraime\, co mám dělat s tebou\, Judo?\nVaše láska je jako ranní mráček\, jako rosa\, která záhy mizí.\nProto jsem je vzdělával skrze proroky\, zabíjel slovy svých úst\,\nmá spravedlnost jako světlo vychází. Lásku chci\, ne oběď\,\npoznání Boha je víc než celopaly. \nŽl 50 (49)\, 1+8. 12-13. 14-15 Odp.: 23b\nOdp.: Kdo žije správně\, tomu ukážu Boží spásu.\nSvrchovaný Bůh\, Hospodin\, promluvil a volal zem od východu slunce až na západ.\n„Nekárám tě pro tvé oběti\,\nvždyď tvé žertvy jsou stále přede mnou. Odp.\nKdybych měl hlad\, nebudu ti o tom říkat\, vždyď můj je svět se vším\, co ho plní! Copak požívám maso z býků\nči pij i kozlí krev? Odp.\nPřinášej Bohu oběď chvály a plň Nejvyššímu své sliby! Pak mě vzývej ve dni soužení\, vysvobodím tě\, a budeš mě chválit.“ Odp. \n2. ČTENÍ Řím 4\, 18-25\nČerpal sílu z víry\, a tím vzdal Bohu čest.\nČtení z listu svatého apoštola Pavla Římanům.\nBratři!\nAčkoli Abrahám už neměl naději\, přece doufal a věřil\, že se stane otcem mnoha národů\, protože mu bylo řečeno: „Tolik bude tvého potomstva!“ A třeba pozoroval\, že jeho tělo je už neplodné – vždyď mu bylo skoro sto let – a že je neplodné i Sářino lůno\, přece jeho víra nezeslábla. Neprovinil se nedůvěrou vůči Božímu zaslíbení\, ale čerpal sílu z víry\, a tím vzdal Bohu čest. Byl pevně přesvědčen\, že ( Bůh ) má dost moci\, aby splnil\, když něco slíbí. A proto „mu to bylo uznáno za spravedlnost“.\nAle v Písmě to není řečeno jen kvůli němu\, že mu to bylo uznáno“\, nýbrž i kvůli nám. I nám to bude uznáno\, když věříme v toho\, který vzkřísil z mrtvých Ježíše\, našeho Pána. Ten byl vydán na smrt pro naše hříchy\, a vstal z mrtvých pro naše ospravedlnění. \nEVANGELIUM Mt 9\, 9-13\nNepřišel jsem povolat spravedlivé\, ale hříšníky.\nSlova svatého evangelia podle Matouše.\nKdyž Ježíš šel (ze svého města) \, uviděl v celnici sedět člověka\, který se jmenoval Matouš. A řekl mu: „Pojď za mnou!“ On vstal a šel za ním.\nKdyž byl Ježíš u stolu v (jeho) domě\, přišlo mnoho celníků a hříšníků a zaujali místo u stolu s ním a jeho učedníky. Když to viděli farizeové\, řekli jeho učedníkům: „Proč váš Mistr jí s celníky a hříšníky?“\nOn to zaslechl a řekl: „Lékaře nepotřebují zdraví\, ale nemocní. Jděte a naučte se\, co znamená: „Milosrdenství chci a ne obět.“ Nepřišel jsem totiž povolat spravedlivé\, ale hříšníky.“
URL:https://xn--farnostkrumv-3fb62m.com/udalosti/iveta-slavoj-sv-robert-10-nedele-v-mezidobi/
END:VEVENT
END:VCALENDAR