BEGIN:VCALENDAR
VERSION:2.0
PRODID:-//farnostkrumvir.com - ECPv6.15.16//NONSGML v1.0//EN
CALSCALE:GREGORIAN
METHOD:PUBLISH
X-WR-CALNAME:farnostkrumvir.com
X-ORIGINAL-URL:https://xn--farnostkrumv-3fb62m.com
X-WR-CALDESC:Akce na farnostkrumvir.com
REFRESH-INTERVAL;VALUE=DURATION:PT1H
X-Robots-Tag:noindex
X-PUBLISHED-TTL:PT1H
BEGIN:VTIMEZONE
TZID:UTC
BEGIN:STANDARD
TZOFFSETFROM:+0000
TZOFFSETTO:+0000
TZNAME:UTC
DTSTART:20250101T000000
END:STANDARD
END:VTIMEZONE
BEGIN:VEVENT
DTSTART;VALUE=DATE:20260531
DTEND;VALUE=DATE:20260601
DTSTAMP:20260419T194756
CREATED:20260302T090716Z
LAST-MODIFIED:20260322T191225Z
UID:1966-1780185600-1780271999@xn--farnostkrumv-3fb62m.com
SUMMARY:Kamila / Slavnost Nejsvětější Trojice (Slavnost Nejsvětější Trojice)
DESCRIPTION:Mše svatá – 9:15 \nÚmysl – za Antonína Valihracha a celou rodinu \nEx 34\,4b-6.8-9\nDan 3\n2Kor 13\,11-13\nJan 3\,16-18\nBarva: Bílá \n1. ČTENÍ Ex 34\,4b-6.8-9\nHospodin\, Hospodin\, Bůh milosrdný a milostivý.\nČtení z druhé knihy Mojžíšovy.\nMojžíš časně ráno vstal a vystoupil na horu Sinaj\, jak mu přikázal Hospodin; v ruce měl dvě kamenné desky.\nTu sestoupil Hospodin v oblaku\, (Mojžíš) se tam vedle něho postavil a vzýval Hospodinovo jméno. Potom (Hospodin) prošel kolem něho a zvolal: „Hospodin\, Hospodin\, Bůh milosrdný a milostivý\, shovívavý\, velmi laskavý a věrný!“\nMojžíš se rychle vrhl k zemi\, klaněl se a řekl: „Pane\, jestliže jsem nalezl u tebe milost\, aď jde Pán uprostřed nás. Ano\, je to lid tvrdé šíje\, ale odpusď naši vinu i náš hřích a přijmi nás jako dědictví.“ \nDan 3\,52.53.54.55.56\nOdp.: Požehnaný jsi\, Pane\, Bože našich otců.\nOdp.\nchvályhodný a svrchovaně velebený navěky.\nPožehnané je tvé slavné svaté jméno\na svrchovaně chvályhodné a velebené navěky.\nPožehnaný jsi ty ve svém svatém slavném chrámě.\nOdp.\na svrchovaně chvályhodný a slavný navěky.\nPožehnaný jsi ty na svém královském trůně\nOdp.\na svrchovaně chvályhodný a velebený navěky.\nPožehnaný jsi ty\, který shlížíš na hlubiny\na trůníš na cherubech.\nOdp.\na svrchovaně chvályhodný a velebený navěky.\nPožehnaný jsi ty na klenbě nebes.\nOdp.\na velebený a plný slávy navěky. \n2. ČTENÍ 2Kor 13\,11-13\nMilost Ježíše Krista\, láska Boží a společenství svatého Ducha.\nČtení z druhého listu svatého apoštola Pavla Korinďanům.\nBratři\, žijte radostně\, zdokonalujte se\, buďte přístupní napomínání\, buďte svorní\, žijte v pokoji\, a Bůh; dárce lásky a pokoje\, bude s vámi.\nPozdravte se vespolek křesďanským políbením. Pozdravují vás všichni věřící. Milost Pána Ježíše Krista\, láska Boží a společenství svatého Ducha s vámi se všemi! \nEVANGELIUM Jan 3\,16-18\nBůh poslal svého Syna\, aby svět byl skrze něho spasen.\nSlova svatého evangelia podle Jana.\nJežíš řekl Nikodémovi:\n„Tak Bůh miloval svět\, že dal svého jednorozeného Syna\, aby žádný\, kdo v něho věří\, nezahynul\, ale měl život věčný. Bůh přece neposlal svého Syna na svět\, aby svět odsoudil\, ale aby svět byl skrze něho spasen. Kdo v něho věří\, není souzen; kdo nevěří\, už je odsouzen\, protože neuvěřil ve jméno jednorozeného Syna Božího.
URL:https://xn--farnostkrumv-3fb62m.com/udalosti/kamila-slavnost-nejsvetejsi-trojice-slavnost-nejsvetejsi-trojice/
END:VEVENT
END:VCALENDAR