BEGIN:VCALENDAR
VERSION:2.0
PRODID:-//farnostkrumvir.com - ECPv6.15.16//NONSGML v1.0//EN
CALSCALE:GREGORIAN
METHOD:PUBLISH
X-WR-CALNAME:farnostkrumvir.com
X-ORIGINAL-URL:https://xn--farnostkrumv-3fb62m.com
X-WR-CALDESC:Akce na farnostkrumvir.com
REFRESH-INTERVAL;VALUE=DURATION:PT1H
X-Robots-Tag:noindex
X-PUBLISHED-TTL:PT1H
BEGIN:VTIMEZONE
TZID:UTC
BEGIN:STANDARD
TZOFFSETFROM:+0000
TZOFFSETTO:+0000
TZNAME:UTC
DTSTART:20250101T000000
END:STANDARD
END:VTIMEZONE
BEGIN:VEVENT
DTSTART;VALUE=DATE:20260528
DTEND;VALUE=DATE:20260529
DTSTAMP:20260419T180203
CREATED:20260302T090716Z
LAST-MODIFIED:20260322T191054Z
UID:1963-1779926400-1780012799@xn--farnostkrumv-3fb62m.com
SUMMARY:Vilém / sv. Emil (čtvrtek 8. týdne v mezidobí)
DESCRIPTION:Mše svatá – 18:00 \nÚmysl – za členy živého růžence \n1Pt 2\,2-5.9-12\nZl 100\nMk 10\,46-52\nBarva: Zelená
URL:https://xn--farnostkrumv-3fb62m.com/udalosti/vilem-sv-emil-ctvrtek-8-tydne-v-mezidobi/
END:VEVENT
END:VCALENDAR