BEGIN:VCALENDAR
VERSION:2.0
PRODID:-//farnostkrumvir.com - ECPv6.15.16//NONSGML v1.0//EN
CALSCALE:GREGORIAN
METHOD:PUBLISH
X-ORIGINAL-URL:https://xn--farnostkrumv-3fb62m.com
X-WR-CALDESC:Akce na farnostkrumvir.com
REFRESH-INTERVAL;VALUE=DURATION:PT1H
X-Robots-Tag:noindex
X-PUBLISHED-TTL:PT1H
BEGIN:VTIMEZONE
TZID:UTC
BEGIN:STANDARD
TZOFFSETFROM:+0000
TZOFFSETTO:+0000
TZNAME:UTC
DTSTART:20250101T000000
END:STANDARD
END:VTIMEZONE
BEGIN:VEVENT
DTSTART;VALUE=DATE:20260524
DTEND;VALUE=DATE:20260525
DTSTAMP:20260419T195011
CREATED:20260222T125433Z
LAST-MODIFIED:20260322T190930Z
UID:1502-1779580800-1779667199@xn--farnostkrumv-3fb62m.com
SUMMARY:Jana / sv. Vincent Lerinský (Slavnost Seslání Ducha Svatého)
DESCRIPTION:Mše svatá – 9:15 \nÚmysl – za Josefa Tiefenbacha a rodiče \nSk 2\,1-11\nZl 104(103)\n1Kor 12\,3b-7.12-13\nJan 20\,19-23\nBarva: Červená \n1. ČTENÍ Sk 2\,1-11\nVšichni byli naplněni Duchem svatým a začali mluvit.\nČtení ze Skutků apoštolů.\nNastal den letnic a všichni byli společně pohromadě. Najednou se ozval z nebe hukot\, jako když se přižene silný vítr\, a naplnil celý dům\, kde se zdržovali. A ukázaly se jim jazyky jako z ohně\, rozdělily se a nad každým z nich se usadil jeden. Všichni byli naplněni Duchem svatým a začali mluvit cizími jazyky\, jak jim Duch vnukal\, aby promlouvali.\nV Jeruzalémě bydleli zbožní židé ze všech možných národů pod nebem. Když se ten zvuk ozval\, hodně lidí se sběhlo a byli ohromeni\, protože každý z nich je slyšel\, jak mluví jeho vlastní řečí. Žasli\, divili se a říkali:\n„Ti\, co tak mluví\, nejsou to Galilejci? Jak to tedy\, že každý z nás slyší svou mateřštinu? My Partové\, Médové\, Elamitě\, obyvatelé Mezopotámie\, Judska a Kapadokie\, Pontu a Asie\, Frýgie a Pamfýlie\, Egypta a lybijského kraje u Kyrény\, my\, kteří jsme připutovali z Říma\, židé i proselyté\, Kréďané i Arabové: slyšíme\, jak našimi jazyky hlásají velké Boží skutky.“ \nŽl 104(103)\,1ab+24ac.29bc-30.31+34 Odp.: srv. 30\nOdp. .: Sešli svého ducha\, Hospodine\,\na obnov tvář země! nebo: Aleluja.\nVeleb\, duše má\, Hospodina!\nHospodine\, můj Bože\, jsi nadmíru velký!\njak četná jsou tvá díla\, Hospodine! Země je plná tvého tvorstva.\nOdp.\nHynou\, když vezmeš jim život\, a vracejí se do svého prachu.\nKdyž sešleš svého ducha\, jsou stvořeni\, a obnovuješ tvář země.\nOdp. Nechď věčně trvá Hospodinova sláva\, aď se Hospodin těší ze svého díla! Kéž se mu líbí má píseň:\nmá radost bude v Hospodinu. Odp. \n2. ČTENÍ 1Kor 12\,3b-7.12-13\nMy všichni jsme byli pokřtěni jedním Duchem v jedno tělo.\nČtení z prvního listu svatého apoštola Pavla Korinďanům.\nBratři !\nJenom pod vlivem Ducha svatého může někdo říci: „Ježíš j e Pán.“\nDary jsou sice rozmanité\, ale je pouze jeden Duch. A jsou rozličné služby\, ale je pouze jeden Pán. A jsou různé mimořádné síly\, ale je pouze jeden Bůh. On to všechno ve všech působí. Ty projevy Ducha však jsou dány každému k tomu\, aby mohl být užitečný.\nTělo je také pouze jedno\, i když má mnoho údů; ale všechny údy těla\, přestože je jich mnoho\, tvoří dohromady jediné tělo. Tak je tomu také u Krista. Neboď my všichni jsme byli pokřtěni jedním Duchem v jedno tělo – aď už jsme židé nebo pohané\, otroci nebo svobodní – všichni jsme byli napojeni jedním Duchem. \nEVANGELIUM Jan 20\,19-23\nJako Otec poslal mne\, tak i já posílám vás: Přijměte Ducha svatého.\nSlova svatého evangelia podle Jana.\nKdyž byl večer prvního dne v týdnu\, přišel ježíš tam\, kde byli učedníci. Ze strachu před židy měli dveře zavřeny. Stanul mezi nimi a řekl: „Pokoj vám!“ Po těch slovech jim ukázal ruce a bok. Když učedníci viděli Pána\, zaradovali se.\nZnovu jim řekl: „Pokoj vám! Jako Otec poslal mne\, tak i já posílám vás.“ Po těch slovech na ně dechl a řekl jim: „Přijměte Ducha svatého. Komu hříchy odpustíte\, tomu jsou odpuštěny\, komu je neodpustíte\, tomu odpuštěny nejsou.“
URL:https://xn--farnostkrumv-3fb62m.com/udalosti/jana-sv-vincent-lerinsky-slavnost-seslani-ducha-svateho/
END:VEVENT
END:VCALENDAR