BEGIN:VCALENDAR
VERSION:2.0
PRODID:-//farnostkrumvir.com - ECPv6.15.16//NONSGML v1.0//EN
CALSCALE:GREGORIAN
METHOD:PUBLISH
X-WR-CALNAME:farnostkrumvir.com
X-ORIGINAL-URL:https://xn--farnostkrumv-3fb62m.com
X-WR-CALDESC:Akce na farnostkrumvir.com
REFRESH-INTERVAL;VALUE=DURATION:PT1H
X-Robots-Tag:noindex
X-PUBLISHED-TTL:PT1H
BEGIN:VTIMEZONE
TZID:UTC
BEGIN:STANDARD
TZOFFSETFROM:+0000
TZOFFSETTO:+0000
TZNAME:UTC
DTSTART:20250101T000000
END:STANDARD
END:VTIMEZONE
BEGIN:VEVENT
DTSTART;VALUE=DATE:20260521
DTEND;VALUE=DATE:20260522
DTSTAMP:20260419T180345
CREATED:20260302T090716Z
LAST-MODIFIED:20260322T190812Z
UID:1956-1779321600-1779407999@xn--farnostkrumv-3fb62m.com
SUMMARY:Monika / sv. Ondřej Bobola (čtvrtek 7. velikonočního týdne)
DESCRIPTION:Mše svatá – 18:00 \nÚmysl – za rodinu Kročilovu a Ledahudcovu \nSk 22\,30;23\,6-11\nZl 16\nJan 17\,20-26\nBarva: Bílá
URL:https://xn--farnostkrumv-3fb62m.com/udalosti/monika-sv-ondrej-bobola-ctvrtek-7-velikonocniho-tydne/
END:VEVENT
END:VCALENDAR