BEGIN:VCALENDAR
VERSION:2.0
PRODID:-//farnostkrumvir.com - ECPv6.15.16//NONSGML v1.0//EN
CALSCALE:GREGORIAN
METHOD:PUBLISH
X-ORIGINAL-URL:https://xn--farnostkrumv-3fb62m.com
X-WR-CALDESC:Akce na farnostkrumvir.com
REFRESH-INTERVAL;VALUE=DURATION:PT1H
X-Robots-Tag:noindex
X-PUBLISHED-TTL:PT1H
BEGIN:VTIMEZONE
TZID:UTC
BEGIN:STANDARD
TZOFFSETFROM:+0000
TZOFFSETTO:+0000
TZNAME:UTC
DTSTART:20250101T000000
END:STANDARD
END:VTIMEZONE
BEGIN:VEVENT
DTSTART;VALUE=DATE:20260517
DTEND;VALUE=DATE:20260518
DTSTAMP:20260419T194942
CREATED:20260302T090716Z
LAST-MODIFIED:20260322T190627Z
UID:1952-1778976000-1779062399@xn--farnostkrumv-3fb62m.com
SUMMARY:Aneta / sv. Paschal Baylon (7. neděle velikonoční)
DESCRIPTION:Mše svatá – 9:15 \nÚmysl – na poděkování \nSk 1\,12-14\nZl 27(26)\n1Pt 4\,13-16\nJan 17\,1-11a\nBarva: Bílá \n1. ČTENÍ Sk 1\,12-14\nJednomyslně setrvávali v modlitbách. \nČtení ze Skutků apoštolů.\nKdyž byl Ježíš vzat do nebe\, apoštolové se vrátili do Jeruzaléma z hory\, která se nazývá Olivová. Je blízko Jeruzaléma\, vzdálená jenom délku sobotní cesty.\nA když přišli zase do města\, vystoupili do hořejší místnosti\, kde bydleli Petr a Jan\, Jakub a Ondřej\, Filip a Tomáš\, Bartoloměj a Matouš\, Jakub Alfeův\, Šimon Horlivec a Juda\, Jakubův bratr. Ti všichni jednomyslně setrvávali v modlitbách spolu se ženami\, s Ježíšovou matkou Marií a s jeho příbuznými. \nŽl 27(26)\,1.4.7-8a Odp.: 13\nOdp.: Věřím\, že uvidím blaho od Hospodina v zemi živých!\nnebo: Aleluja. \nHospodin je mé světlo a má spása\, koho bych se bál? Hospodin je záštita mého života\, před kým bych se třásl? Odp.\njedno od Hospodina žádám a po tom toužím: abych směl přebývat v Hospodinově domě po všechny dny svého života\,\nabych požíval Hospodinovy něhy a patřil na jeho chrám.\nOdp.\nSlyš\, Hospodine\, můj hlas\, jak volám\, smiluj se nade mnou\, vyslyš mě!\nMé srdce k tobě mluví\, má tvář tě hledá.\nOdp. \n2. ČTENÍ 1Pt 4\,13-16\nž musíte snášet urážky pro Kristovo jméno\, blaze vám.\nČtení z prvního listu svatého apoštola Petra.\nMilovaní!\nRadujte se\, že máte účast na utrpení Kristově\, abyste také mohli radostně jásat při jeho slavném zjevení. Když musíte snášet urážky pro Kristovo jméno\, blaze vám\, neboď na vás spočívá Duch slávy\, to je Duch Boží. Aď nikdo z vás netrpí proto\, že zavraždil nebo okradl\, že někomu ublížil nebo jen že se míchal do záležitostí druhých lidí. Trpí-li však\, že je křesďanem\, za to se stydět nemusí; spíše aď Boha velebí\, ze je křesďanem. \nEVANGELIUM Jan 17\,1-11a\nOtče\, oslav svého Syna.\nSlova svatého evangelia podle Jana.\nJežíš pozvedl oči k nebi a modlil se:\n„Otče\, přišla ta hodina. Oslav svého Syna\, aby Syn oslavil tebe. Obdařils ho mocí nade všemi lidmi\, aby dal věčný život všem\, které jsi mu dal. Věčný život pak je to\, že poznají tebe\, jediného pravého Boha\, a toho\, kterého jsi poslal\, Ježíše Krista.\nJá jsem tě oslavil na zemi: dokončil jsem dílo\, které jsi mi svěřil\, abych ho vykonal. Nyní oslav ty mne u sebe\, Otče\, slávou\, kterou jsem měl u tebe\, dříve než byl svět.\nZjevil jsem tvé jméno lidem\, které jsi mi dal ze světa. Byli tvoji a mně jsi je dal\, a zachovali tvoje slovo. Nyní poznali\, že všechno\, cos mi dal\, je od tebe; vždyď slova\, která jsi dal mně\, dal jsem jim. Oni je přijali a skutečně poznali\, že jsem vyšel od tebe\, a uvěřili\, že jsi mě poslal.\nJá prosím za ně. Neprosím za svět\, ale za ty\, které jsi mi dal\, vždyď jsou tvoji; a všechno moje je tvoje a všechno tvoje je moje. V nich jsem oslaven. Už nejsem na světě\, ale oni jsou na světě; a já jdu k tobě.“
URL:https://xn--farnostkrumv-3fb62m.com/udalosti/aneta-sv-paschal-baylon-7-nedele-velikonocni/
END:VEVENT
END:VCALENDAR