BEGIN:VCALENDAR
VERSION:2.0
PRODID:-//farnostkrumvir.com - ECPv6.15.16//NONSGML v1.0//EN
CALSCALE:GREGORIAN
METHOD:PUBLISH
X-WR-CALNAME:farnostkrumvir.com
X-ORIGINAL-URL:https://xn--farnostkrumv-3fb62m.com
X-WR-CALDESC:Akce na farnostkrumvir.com
REFRESH-INTERVAL;VALUE=DURATION:PT1H
X-Robots-Tag:noindex
X-PUBLISHED-TTL:PT1H
BEGIN:VTIMEZONE
TZID:UTC
BEGIN:STANDARD
TZOFFSETFROM:+0000
TZOFFSETTO:+0000
TZNAME:UTC
DTSTART:20250101T000000
END:STANDARD
END:VTIMEZONE
BEGIN:VEVENT
DTSTART;VALUE=DATE:20260514
DTEND;VALUE=DATE:20260515
DTSTAMP:20260419T194850
CREATED:20260302T090716Z
LAST-MODIFIED:20260322T190448Z
UID:1949-1778716800-1778803199@xn--farnostkrumv-3fb62m.com
SUMMARY:Bonifác / Svátek sv. Matěje\, apoštola (Nanebevstoupení Páně)
DESCRIPTION:Mše svatá – 18:00 \nÚmysl – za Karla Kopřivu \nSk 1\,1-11\nZl 47(46)\nEf 1\,17-23\nMt 28\,16-20\nBarva: Bílá \n1. ČTENÍ Sk 1\,1-11\nJežíš byl před jejích zraky vyzdvižen.\nČtení ze Skutků apoštolů.\nVe své dřívější knize jsem pojednal\, milý Theofile\, o všem\, co Ježíš konal a čemu učil až do dne\, kdy byl vzat do nebe. Předtím dal svým vyvoleným apoštolům příkaz skrze Ducha svatého. Po svém utrpení jim poskytl mnoho důkazů\, že žije: po čtyřicet dní se jim zjevoval a mluvil o Božím království.\nKdyž s nimi jedl\, přikázal jim\, aby neodcházeli z Jeruzaléma\, ale čekali na Otcovo zaslíbení – „vždyď jste přece o tom ode mě slyšeli: Jan křtil vodou\, ale vy budete pokřtěni Duchem svatým za několik málo dní“.\nA když tak spolu seděli\, zeptali se ho: „Obnovíš ted“\, Pane\, v Izraeli království?“ On jim však řekl: „To není vaše věc\, abyste věděli čas a okolnosti\, jak je Otec z vlastní moci ustanovil. Ale až na vás sestoupí Duch svatý\, dostanete moc a budete mými svědky v Jeruzalémě\, v celém Judsku a Samařsku\, ano až na konec země.“\nKdyž to pověděl\, byl před jejich zraky vyzdvižen a oblak jim ho vzal z očí. Hleděli upřeně k nebi za ním\, jak odchází\, a najednou vedle nich stáli dva muži v bělostných šatech a řekli: „Lidé z Galileje\, proč tak stojíte a hledíte k nebi? Tento Ježíš\, který byl vzat od vás do nebe\, přijde zase právě tak\, jak jste ho viděli\, že odchází do nebe.“\nŽl 47(46)\,2-3.6-7.8-9 Odp.: 6\nOdp.: Bůh se vznáší za jásotu\, Hospodin vystupuje za hlaholu trub. nebo: Aleluja.\nVšechny národy\, tleskejte rukama\, jásejte Bohu radostným hlasem\, protože Hospodin je vznešený\, hrozný\, je to veliký král nad celou zemí.\nOdp.\nBůh se vznáší za jásotu\,\nHospodin vystupuje za hlaholu trub. Zpívejte Bohu\, zpívejte\,\nzpívejte našemu králi\, zpívejte!\nOdp.\nProtože Bůh je králem celého světa\, zpívejte mu chvalozpěv!\nBůh vládne národům\,\nBůh zasedá na svém svatém trůnu.\nOdp. \n2. ČTENÍ Ef 1\,17-23\nPosadil ho po své pravici v nebi.\nČtení z listu svatého apoštola Pavla Efesanům.\nBratři!\nBůh našeho Pána Ježíše Krista\, Otec slávy\, aď vám udělí dar moudře věci chápat a jejich smysl odhalovat\, takže budete moci mít o něm správné poznání. On aď osvítí vaše srdce\, abyste pochopili\, jaká je naděje těch\, které povolal\, jaké poklady slávy skrývá křesďanům jeho dědictví a jak se ukazuje na nás\, na věřících\, jeho nesmírně velká moc působením jeho účinné síly. Tak se; už projevila jeho síla\, když Krista vzkřísil z mrtvých a posadil ho po své pravici v nebi: vysoko nade všecka knížata\, nade všecky mocnosti a síly\, nade všecko panstvo – a jak jen se ještě jmenují všechny hodnosti\, a to nejen v tomto věku\, ale i v budoucím.\nAno\, „všechno mu položil k nohám“. A jeho dal jako svrchovanou hlavu církvi: ona je jeho tělem\, plností toho\, který naprosto všechno ovládá. \nEVANGELIUM Mt 28\,16-20\nJe mi dána veškerá moc na nebi i na zemi.\nZakončení svatého evangelia podle Matouše.\nJedenáct učedníků odešlo do Galileje na horu\, kam jim Ježíš určil. Uviděli ho a klaněli se mu\, někteří však měli pochybnosti. Ježíš k nim přistoupil a promluvil:\n„Je mi dána veškerá moc na nebi i na zemi. Jděte tedy\, získejte za učedníky všechny národy\, křtěte je ve jménu Otce i Syna i Ducha svatého a učte je zachovávat všechno\, co jsem vám přikázal. Hle\, já jsem s vámi po všechny dny až do konce světa.“
URL:https://xn--farnostkrumv-3fb62m.com/udalosti/bonifac-svatek-sv-mateje-apostola-nanebevstoupeni-pane/
END:VEVENT
END:VCALENDAR