BEGIN:VCALENDAR
VERSION:2.0
PRODID:-//farnostkrumvir.com - ECPv6.15.16//NONSGML v1.0//EN
CALSCALE:GREGORIAN
METHOD:PUBLISH
X-ORIGINAL-URL:https://xn--farnostkrumv-3fb62m.com
X-WR-CALDESC:Akce na farnostkrumvir.com
REFRESH-INTERVAL;VALUE=DURATION:PT1H
X-Robots-Tag:noindex
X-PUBLISHED-TTL:PT1H
BEGIN:VTIMEZONE
TZID:UTC
BEGIN:STANDARD
TZOFFSETFROM:+0000
TZOFFSETTO:+0000
TZNAME:UTC
DTSTART:20250101T000000
END:STANDARD
END:VTIMEZONE
BEGIN:VEVENT
DTSTART;VALUE=DATE:20260503
DTEND;VALUE=DATE:20260504
DTSTAMP:20260419T162839
CREATED:20260302T090715Z
LAST-MODIFIED:20260322T185810Z
UID:1938-1777766400-1777852799@xn--farnostkrumv-3fb62m.com
SUMMARY:Alexej / Svátek sv. Filipa a Jakuba (5. neděle velikonoční)
DESCRIPTION:Mše svatá – 9:15 \nÚmysl – za Martina Demelu\, manželku a rodinu \nSk 6\,1-7\nZl 33(32)\n1Pt 2\,4-9\nJan 14\,1-12\nBarva: Bílá \n1. ČTENÍ Sk 6\,1-7\nVyvolili sedm mužů plných Ducha svatého. \nČtení ze Skutků apoštolů.\nV těch dnech\, když počet učedníků rostl\, začali helénisté projevovat proti Hebrejům nespokojenost\, že prý jejich vdovy jsou při každodenním podělování zanedbávány.\nDvanáct (apoštolů) proto svolalo veškeré množství učedníků a řekli: „Nebylo by správné\, abychom my zanedbávali Boží slovo a sloužili při stole. Proto\, bratři\, vyberte ze svého středu sedm mužů\, kteří mají dobrou pověst a jsou plní Ducha a moudrosti\, a my je ustanovíme pro tento úkol. My však se chceme nadále věnovat modlitbě a službě slova.“\nTen návrh se zalíbil celému shromáždění. Vyvolili tedy Štěpána\, muže plného víry a Ducha svatého\, dále Filipa\, Prochora\, Nikanora\, Timona\, Parmena a Mikuláše\, proselytu z Antiochie. Postavili je před apoštoly\, a oni na ně za modlitby vložili ruce.\nBoží slovo se šířilo stále více a počet učedníků v Jeruzalémě velmi rostl. Také velké množství kněží poslechlo a přijalo víru. \nŽl 33(32)\,1-2.4-5.18-19 Odp.: 22a\nOdp.: Aď spočine na nás\, Hospodine\, tvé milosrdenství. nebo: Aleluja.\nRadujte se\, spravedliví\, z Hospodina\, sluší se\, aby ho dobří chválili. Citerou oslavujte Hospodina\,\nhrajte mu na desetistrunné harfě.\nOdp.\nNeboď Hospodinovo slovo je správné\, spolehlivé je celé jeho dílo.\nMiluje spravedlnost a právo\,\nzemě je plná Hospodinovy milosti.\nOdp.\nHospodinovo oko bdí nad těmi\, kdo se ho bojí\, nad těmi\, kdo doufají v jeho milost\,\naby jejich duše vyrval ze smrti\, aby jim život zachoval za hladu.\nOdp. \n2. ČTENÍ 1Pt 2\,4-9\nVy jste rod vyvolený\, královské kněžstvo. \nČtení z prvního listu svatého apoštola Petra.\nMilovaní!\nPřistupujte k Pánu\, k živému kameni\, který lidé sice odhodili\, ale který je v Božích očích vyvolený a vzácný\, a vy sami se staňte živými kameny pro duchovní chrám\, svatým kněžstvem\, které z podnětu Ducha přináší oběti Bohu příjemné skrze Ježíše Krista. V Písmě o tom stojí: „Hle\, kladu na Sión kámen vyvolený a vzácný\, kámen nárožní. Kdo v něj uvěří\, jistě nebude zklamán.“ Vám tedy\, protože věříte\, přináší čest\, ale těm\, kdo nevěří\, je to „kámen\, který lidé při stavbě odhodili\, ale právě on se stal kvádrem nárožním\, kamenem\, na který se naráží\, balvanem\, přes který se klopýtá“. Narážejí na něj\, protože odmítli přijmout víru. K tomu také byli určeni.\nVy však jste rod vyvolený\, královské kněžstvo\, národ svatý\, lid patřící Bohu jako vlastnictví\, abyste rozhlašovali\, jak veliké věci vykonal ten\, který vás povolal ze tmy ke svému podivuhodnému světlu. \nEVANGELIUM Jan 14\,1-12\nJá jsem cesta\, pravda a život.\nSlova svatého evangelia podle Jana.\nJežíš řekl svým učedníkům: „Aď se vaše srdce nechvěje! Věřte v Boha\, věřte i ve mne. V domě mého Otce je mnoho příbytků. Kdyby nebylo\, řekl bych vám to. Odcházím vám připravit místo. A když odejdu a připravím vám místo\, zase přijdu a vezmu si vás k sobě\, abyste i vy byli tam\, kde jsem já. Cestu\, kam já jdu\, znáte.“\nTomáš mu řekl: „Pane\, nevíme\, kam jdeš. Jak můžeme znát cestu?“\nJežíš mu odpověděl: „Já jsem cesta\, pravda a život. Nikdo nepřichází k Otci než skrze mne. Kdybyste znali mne\, znali byste i mého Otce. Nyní ho už znáte a viděli jste ho:“\nFilip mu řekl: „Pane\, ukaž nám Otce – a to nám stačí.“ Ježíš mu odpověděl: „Filipe\, tak dlouho jsem s vámi\, a neznáš mě? Kdo viděl mne\, viděl Otce. Jak můžeš říci: „Ukaž nám Otce“? Nevěříš\, že já jsem v Otci a Otec je ve mně? Slova\, která k vám mluvím\, nemluvím sám ze sebe; to Otec\, který ve mně přebývá\, koná své skutky. Věřte mi\, že já jsem v Otci a Otec ve mně. Když nevěříte\, věřte aspoň pro ty skutky.\nAmen\, amen\, pravím vám: Kdo věří ve mne\, i ten bude konat skutky\, které já konám\, ba ještě větší bude konat\,protože já odcházím k Otci.“
URL:https://xn--farnostkrumv-3fb62m.com/udalosti/alexej-svatek-sv-filipa-a-jakuba-5-nedele-velikonocni/
END:VEVENT
END:VCALENDAR