BEGIN:VCALENDAR
VERSION:2.0
PRODID:-//farnostkrumvir.com - ECPv6.15.16//NONSGML v1.0//EN
CALSCALE:GREGORIAN
METHOD:PUBLISH
X-ORIGINAL-URL:https://xn--farnostkrumv-3fb62m.com
X-WR-CALDESC:Akce na farnostkrumvir.com
REFRESH-INTERVAL;VALUE=DURATION:PT1H
X-Robots-Tag:noindex
X-PUBLISHED-TTL:PT1H
BEGIN:VTIMEZONE
TZID:UTC
BEGIN:STANDARD
TZOFFSETFROM:+0000
TZOFFSETTO:+0000
TZNAME:UTC
DTSTART:20250101T000000
END:STANDARD
END:VTIMEZONE
BEGIN:VEVENT
DTSTART;VALUE=DATE:20260416
DTEND;VALUE=DATE:20260417
DTSTAMP:20260419T162738
CREATED:20260302T090715Z
LAST-MODIFIED:20260322T184945Z
UID:1901-1776297600-1776383999@xn--farnostkrumv-3fb62m.com
SUMMARY:Irena / sv. Bernadetta Soubirousová (čtvrtek 2. velikonočního týdne)
DESCRIPTION:Mše svatá – 18:00 \nÚmysl – za rodiče Strakovy \nSk 5\,27-33\nZl 34\nJan 3\,31-36\nBarva: Bílá
URL:https://xn--farnostkrumv-3fb62m.com/udalosti/irena-sv-bernadetta-soubirousova-ctvrtek-2-velikonocniho-tydne/
END:VEVENT
END:VCALENDAR