BEGIN:VCALENDAR
VERSION:2.0
PRODID:-//farnostkrumvir.com - ECPv6.15.16//NONSGML v1.0//EN
CALSCALE:GREGORIAN
METHOD:PUBLISH
X-WR-CALNAME:farnostkrumvir.com
X-ORIGINAL-URL:https://xn--farnostkrumv-3fb62m.com
X-WR-CALDESC:Akce na farnostkrumvir.com
REFRESH-INTERVAL;VALUE=DURATION:PT1H
X-Robots-Tag:noindex
X-PUBLISHED-TTL:PT1H
BEGIN:VTIMEZONE
TZID:UTC
BEGIN:STANDARD
TZOFFSETFROM:+0000
TZOFFSETTO:+0000
TZNAME:UTC
DTSTART:20250101T000000
END:STANDARD
END:VTIMEZONE
BEGIN:VEVENT
DTSTART;VALUE=DATE:20260322
DTEND;VALUE=DATE:20260323
DTSTAMP:20260417T181238
CREATED:20260302T090715Z
LAST-MODIFIED:20260322T175717Z
UID:1876-1774137600-1774223999@xn--farnostkrumv-3fb62m.com
SUMMARY:Leona / sv. Epafrodit (5. neděle postní)
DESCRIPTION:Ez 37\,12-14\nZl 130(129)\nRim 8\,8-11\nJan 11\,1-45\nBarva: Fialová \n1. ČTENÍ Ez 37\,12-14\nVdechnu vám svého ducha a ožijete.\nČtení z knihy proroka Ezechiela.\nToto praví Hospodin Bůh:\n„Hle\, já otevřu vaše hroby\, vyvedu vás z nich\, můj lide\, a přivedu vás do izraelské země. Tu poznáte\, že já jsem Hospodin\, až otevřu vaše hroby a vyvedu vás ven\, můj lide! Vdechnu vám svého ducha a ožijete\, usídlím vás ve vaší zemi\, a tak poznáte\, že já\, Hospodin\, jsem to řekl a vykonal“ – praví Hospodin. \nŽl 130(129)\,1-2.3-4.5-6a.6b-8 Odp.: 7\nOdp.: U Hospodina je slitování\, hojné je u něho vykoupení. \nZ hlubin volám k tobě\, Hospodine\, Pane\, vyslyš můj hlas!\n„Tvůj sluch aď je nakloněn k mé snažné prosbě!\nOdp.\nBudeš-li uchovávat v paměti viny\, Hospodine\, Pane\, kdo obstojí?\nAle u tebe je odpuštění\, abychom ti mohli v úctě sloužit. Odp.\nDoufám v Hospodina\,\nduše má doufá v jeho slovo\, má duše čeká na Pána\nvíce než stráže na svítání.\nOdp. Více než stráže na svítání aď čeká Izrael na Hospodina\, neboď u Hospodina je slitování\, hojné je u něho vykoupení.\nOn vykoupí Izraele ze všech jeho provinění.\nOdp. \n2. ČTENÍ Řím 8\,8-11\nSídlí ve vás Duch toho\, který z mrtvých vzkřísil Ježíše.\nČtení z listu svatého apoštola Pavla Římanům.\nBratři!\nTi\, kdo žijí svému tělu\, nemohou se líbit Bohu. Ale vy žijete ne podle těla\, nýbrž podle Ducha\, jestliže skutečně ve vás přebývá Duch Boží.\nKdo totiž nemá Kristova Ducha\, ten není jeho. Je-li však ve vás Kristus\, tělo je podrobeno smrti kvůli hříchu\, ale duch je (plný) života\, protože je ospravedlněn. A když sídlí ve vás Duch toho\, který z mrtvých vzkřísil Ježíše\, pak ten\, který vzkřísil z mrtvých Krista Ježíše\, probudí k životu i vaše smrtelné tělo svým Duchem\, který sídlí ve vás. \nEVANGELIUM Jan 11\,1-45\nJá jsem vzkříšení a život.\nSlova svatého evangelia podle Jana.\nByl jeden nemocný\, Lazar z Betánie\, vesnice\, kde bydlela Marie a její sestra Marta. To byla ta Marie\, která pomazala Pána olejem a utřela mu nohy svými vlasy. Ten nemocný byl její bratr Lazar. Sestry tedy poslaly k Ježíšovi se vzkazem: „Pane\, ten\, kterého miluješ\, je nemocný.“ Když to Ježíš uslyšel\, řekl: „To není nemoc k smrti\, ale k slávě Boží\, aby jí byl oslaven Boží Syn.“\nJežíš měl rád Martu a její sestru i Lazara. Když tedy uslyšel\, že je nemocný\, zůstal ještě dva dni v místě\, kde byl. Potom teprve řekl svým učedníkům: „Pojďme znovu do Judska! “\nUčedníci mu odpověděli: „Mistře\, nedávno tě chtěli židé ukamenovat – a zas tam jdeš?“\nJežíš na to řekl: „Nemá den dvanáct hodin? Kdo chodí ve dne\, neklopýtne\, protože vidí ve světle tohoto světa. Kdo však chodí v noci\, klopýtne\, protože v něm není světlo.“\nPo těch slovech ještě dodal: „Náš přítel Lazar spí\, ale jdu tam\, abych ho probudil.“\nUčedníci mu řekli: „Pane\, jestliže spí\, uzdraví se.“ Ježíš však mluvil o jeho smrti\, ale oni mysleli;\,\, že mluví o skutečném usnutí.\nJežíš jim tedy řekl otevřeně: „Lazar umřel. A jsem rád\, že jsem tam nebyl\, kvůli vám\, abyste uvěřili. Ale pojďme k němu!“\nTomáš – řečený Blíženec – vyzval ostatní učedníky: „Pojďme i my\, aď zemřeme s ním!“\nKdyž Ježíš přišel\, shledal\, že Lazar je už čtyři dny v hrobě. Betánie byla blízko Jeruzaléma\, jen asi patnáct honů od něho. K Martě a Marii přišlo mnoho židů\, aby je potěšili v žalu nad bratrem.\nKdyž Marta uslyšela\, že Ježíš přichází\, chvátala mu naproti. Marie zůstala v domě. Marta řekla Ježíšovi: „Pane\, kdybys tu byl\, můj bratr by neumřel. Ale vím dobře i teď\, že aď bys žádal Boha o cokoli\, Bůh ti to dá.“\nJežíš jí řekl: „Tvůj bratr vstane.“\nMarta mu odpověděla: „Vím\, že vstane při vzkříšení v poslední den.“\nJežíš jí řekl: „Já :jsem vzkříšení a život. Kdo věří ve mne\, i kdyby umřel\, bude žít\, a žádný\, kdo žije a věří ve mne\, neumře navěky. Věříš tomu?“\nOdpověděla mu: „Ano\, Pane\, věřím\, že ty jsi Mesiáš\, Syn Boží\, který má přijít na svět.“\nPo těch slovech odešla\, zavolala svou sestru Marii stranou a řekla jí: „Mistr je tu a volá tě.“ Jak to Marie uslyšela\, rychle vstala a šla k němu. Ježíš totiž dosud nedošel do ves nice\, ale byl ještě na tom místě\, kam mu Marta přišla naproti. Když uviděli židé\, kteří byli u Marie v domě a těšili ji\, že rychle vstala a vyšla\, šli za ní; mysleli si\, že jde k hrobu\, aby se tam vyplakala.\nJakmile Marie došla tam\, kde byl Ježíš\, a uviděla ho\, klesla mu k nohám a řekla mu: „Pane\, kdybys tu byl\, můj bratr by neumřel.“\nKdyž Ježíš viděl\, jak pláče ona a jak pláčou i židé\, kteří přišli zároveň s ní\, v duchu byl hluboce dojat\, zachvěl se a zeptal se: „Kam jste ho položili?“\nOdpověděli mu: „Pane\, pojď se podívat! “ Ježíš zaplakal. Židé říkali: „Hle\, jak ho miloval!“ Ale někteří z nich řekli: „Copak nemohl ten\, který otevřel oči slepému\, také dokázat\, aby on neumřel?“\nJežíš byl znovu hluboce dojat a přišel ke hrobu. Byla to jeskyně a na ní ležel kámen.Ježíš řekl: „Odstraňte ten kámen!“\nSestra zemřelého Marta mu namítla: „Pane\, už zapáchá\, vždyď je tam čtvrtý den.“Ježíš jí odpověděl: „Řekl jsem ti přece\, že budeš-li věřit\, uvidíš slávu Boží.“ Odstranili tedy kámen. Ježíš obrátil oči vzhůru a řekl: „Otče\, děkuji ti\, že jsi mě vyslyšel. Já jsem ovšem věděl\, že mě vždycky vyslyšíš. Ale řekl jsem to kvůli zástupu\, který stojí kolem mě\, aby uvěřili\, že ty jsi mě poslal.“ Po těch slovech zavolal mocným hlasem: „Lazare\, pojď ven! “ Mrtvý vyšel\, ovázán na nohou i na rukou pruhy plátna a s tváří omotanou šátkem. Ježíš jim nařídil: „Rozvažte ho a nechte odejít!“\nMnoho z těch židů\, kteří přišli k Marii a uviděli\, co (Ježíš) vykonal\, v něj uvěřilo.
URL:https://xn--farnostkrumv-3fb62m.com/udalosti/leona-sv-epafrodit-5-nedele-postni/
END:VEVENT
END:VCALENDAR