BEGIN:VCALENDAR
VERSION:2.0
PRODID:-//farnostkrumvir.com - ECPv6.15.16//NONSGML v1.0//EN
CALSCALE:GREGORIAN
METHOD:PUBLISH
X-ORIGINAL-URL:https://xn--farnostkrumv-3fb62m.com
X-WR-CALDESC:Akce na farnostkrumvir.com
REFRESH-INTERVAL;VALUE=DURATION:PT1H
X-Robots-Tag:noindex
X-PUBLISHED-TTL:PT1H
BEGIN:VTIMEZONE
TZID:UTC
BEGIN:STANDARD
TZOFFSETFROM:+0000
TZOFFSETTO:+0000
TZNAME:UTC
DTSTART:20250101T000000
END:STANDARD
END:VTIMEZONE
BEGIN:VEVENT
DTSTART;VALUE=DATE:20260308
DTEND;VALUE=DATE:20260309
DTSTAMP:20260419T180521
CREATED:20260302T090717Z
LAST-MODIFIED:20260302T172015Z
UID:1862-1772961300-1773008100@xn--farnostkrumv-3fb62m.com
SUMMARY:Gabriela / sv. Jan z Boha (3. neděle postní)
DESCRIPTION:Ex 17\,3-7\nZl 95(94)\nRim 5\,1-2.5-8\nJan 4\,5-42\nBarva: Fialová \nÚmysl mše svaté: Za Františka Peterky a celou živou rodinu.
URL:https://xn--farnostkrumv-3fb62m.com/udalosti/gabriela-sv-jan-z-boha-3-nedele-postni/
END:VEVENT
END:VCALENDAR